Workbook

Sheet форма 1
O1: Приложение к приказу Департамента ЖКХ и государственного жилищного надзора Томской области от 08.06.2018 № 31
A2: Краткосрочный план реализации в 2017 - 2019 гг. региональной программы капитального ремонта общего имущества в многоквартирных домах
A3: 1. Перечень многоквартирных домов, включенных в краткосрочный план реализации в 2017 - 2019 гг. региональной программы капитального ремонта общего имущества в многоквартирных домах
A4: № п/п | B4: Код МКД | C4: Адрес МКД | D4: Год ввода в эксплуатацию | E4: Вид элемента строительных конструкций, оборудования, инженерных систем <1> | F4: Вид работы (услуги) по капитальному ремонту <2> | G4: Общая площадь МКД, всего | H4: Площадь помещений в МКД | I4: Количество жителей, зарегистрированных в МКД на дату утверждения краткосрочного плана | J4: Стоимость капитального ремонта | P4: Удельная стоимость капитального ремонта 1 кв. м общей площади помещений МКД | Q4: Предельная стоимость капитального ремонта 1 кв. м общей площади помещений МКД | R4: Плановая дата завершения работ | S4: Способ формирования фонда капитального ремонта многоквартирного дома <3>
J5: всего | K5: в том числе
K6: за счет средств Фонда | L6: за счет средств бюджета субъекта Российской Федерации | M6: за счет средств местного бюджета | N6: за счет средств собственников помещений в МКД | O6: за счет других не запрещенных законом источников
G7: кв. м | H7: кв. м | I7: чел. | J7: руб. | K7: руб. | L7: руб. | M7: руб. | N7: руб. | O7: руб. | P7: руб./кв. м | Q7: руб./кв. м
A8: 1 | B8: 2 | C8: 3 | D8: 4 | E8: 5 | F8: 6 | G8: 7 | H8: 8 | I8: 9 | J8: 10 | K8: 11 | L8: 12 | M8: 13 | N8: 14 | O8: 15 | P8: 16 | Q8: 17 | R8: 18 | S8: 19
A9: 2017 год
A10: Всего по Томской области | D10: Х | E10: Х | F10: Х | G10: =G11+G14+G28+G32+G35+G85+G102+G263+G265+G269+G272+G291+G294+G297+G300+G303+G314+G316 -> 1021195.4 | H10: =H11+H14+H28+H32+H35+H85+H102+H263+H265+H269+H272+H291+H294+H297+H300+H303+H314+H316 -> 860470.56 | I10: =I11+I14+I28+I32+I35+I85+I102+I263+I265+I269+I272+I291+I294+I297+I300+I303+I314+I316 -> 37479 | J10: =J11+J14+J28+J32+J35+J85+J102+J263+J265+J269+J272+J291+J294+J297+J300+J303+J314+J316 -> 8.938684e+08 | K10: =K11+K14+K28+K32+K35+K85+K102+K263+K265+K269+K272+K291+K294+K297+K300+K303+K314+K316 -> 0 | L10: =L11+L14+L28+L32+L35+L85+L102+L263+L265+L269+L272+L291+L294+L297+L300+L303+L314+L316 -> 0 | M10: =M11+M14+M28+M32+M35+M85+M102+M263+M265+M269+M272+M291+M294+M297+M300+M303+M314+M316 -> 0 | N10: =N11+N14+N28+N32+N35+N85+N102+N263+N265+N269+N272+N291+N294+N297+N300+N303+N314+N316 -> 8.6277726e+08 | O10: =O11+O14+O28+O32+O35+O85+O102+O263+O265+O269+O272+O291+O294+O297+O300+O303+O314+O316 -> 31091145 | P10: Х | Q10: Х | R10: Х | S10: Х
A11: Итого по Александровскому району | D11: Х | E11: Х | F11: Х | G11: =G12+G13 -> 1124.5 | H11: =H12+H13 -> 1011.4 | I11: =I12+I13 -> 51 | J11: =J12+J13 -> 1910632 | K11: =K12+K13 -> 0 | L11: =L12+L13 -> 0 | M11: =M12+M13 -> 0 | N11: =N12+N13 -> 1831397.9 | O11: =O12+O13 -> 79234.05 | P11: Х | Q11: Х | R11: Х | S11: Х
A12: 1 | B12: 4743 | C12: с. Александровское, ул. Таежная, д. 19а | D12: 1973 | E12: К | F12: ПСД | G12: 540.4 | H12: 498 | I12: 30 | J12: ='Форма 2'!I7 -> 88146 | K12: 0 | L12: 0 | M12: 0 | N12: =J12-K12-L12-M12-O12 -> 83500.63 | O12: 4645.37 | P12: =J12/H12 -> 177 | Q12: ='Форма 2'!K7 -> 177 | R12: 12.2017 | S12: 1
A13: =A12+1 -> 2 | B13: 4745 | C13: с. Александровское, ул. Таежная, д. 28 | D13: 1973 | E13: К | F13: СМР | G13: 584.1 | H13: 513.4 | I13: 21 | J13: ='Форма 2'!I9 -> 1822486 | K13: 0 | L13: 0 | M13: 0 | N13: =J13-K13-L13-M13-O13 -> 1747897.3 | O13: 74588.68 | P13: =J13/H13 -> 3549.84 | Q13: ='Форма 2'!K9 -> 7539 | R13: 12.2017 | S13: 1
A14: Итого по Асиновскому району | D14: Х | E14: Х | F14: Х | G14: =SUM(G15:G27) -> 23771.43 | H14: =SUM(H15:H27) -> 17526.62 | I14: =SUM(I15:I27) -> 732 | J14: =SUM(J15:J27) -> 25094106 | K14: =SUM(K15:K27) -> 0 | L14: =SUM(L15:L27) -> 0 | M14: =SUM(M15:M27) -> 0 | N14: =SUM(N15:N27) -> 24279313 | O14: =SUM(O15:O27) -> 814792.95 | P14: Х | Q14: Х | R14: Х | S14: Х
A15: 1 | B15: 4395 | C15: г. Асино, ул. АВПУ, д. 27 | D15: 1984 | E15: К | F15: ПСД | G15: 1353.3 | H15: 846 | I15: 19 | J15: ='Форма 2'!I13 -> 85404.68 | K15: 0 | L15: 0 | M15: 0 | N15: =J15-K15-L15-M15-O15 -> 79190.23 | O15: 6214.45 | P15: =J15/H15 -> 100.95 | Q15: ='Форма 2'!K14 -> 178 | R15: 12.2017 | S15: 1
A16: =A15+1 -> 2 | B16: 4504 | C16: г. Асино, ул. АВПУ, д. 33 | D16: 1962 | E16: К | F16: СМР | G16: 1413.1 | H16: 988.9 | I16: 33 | J16: ='Форма 2'!I15 -> 5224890.6 | K16: 0 | L16: 0 | M16: 0 | N16: =J16-K16-L16-M16-O16 -> 5072239.8 | O16: 152650.82 | P16: =J16/H16 -> 5283.54 | Q16: ='Форма 2'!K15 -> 7066 | R16: 12.2017 | S16: 1
A17: =A16+1 -> 3 | B17: 4559 | C17: г. Асино, ул. им. В.В.Липатова, д. 27 | D17: 1972 | E17: К | F17: СМР | G17: 973 | H17: 887.4 | I17: 36 | J17: ='Форма 2'!I18 -> 3994513.5 | K17: 0 | L17: 0 | M17: 0 | N17: =J17-K17-L17-M17-O17 -> 3862092.7 | O17: 132420.86 | P17: =J17/H17 -> 4501.37 | Q17: ='Форма 2'!K18 -> 7066 | R17: 12.2017 | S17: 1
A18: =A17+1 -> 4 | B18: 4560 | C18: г. Асино, ул. им. В.В.Липатова, д. 34 | D18: 1981 | E18: К | F18: ПСД, СМР (н) | G18: 2287.61 | H18: 1535.88 | I18: 32 | J18: ='Форма 2'!I21 -> 2306895.3 | K18: 0 | L18: 0 | M18: 0 | N18: =J18-K18-L18-M18-O18 -> 2235702.9 | O18: 71192.39 | P18: =J18/H18 -> 1502 | Q18: ='Форма 2'!K21 -> 4793 | R18: 12.2018 | S18: 1
A19: =A18+1 -> 5 | B19: 4405 | C19: г. Асино, ул. им. Ивана Черных, д. 18 | D19: 1988 | E19: К | F19: ПСД | G19: 2594.37 | H19: 1765.93 | I19: 47 | J19: ='Форма 2'!I24 -> 155158.57 | K19: 0 | L19: 0 | M19: 0 | N19: =J19-K19-L19-M19-O19 -> 144379.65 | O19: 10778.92 | P19: =J19/H19 -> 87.86 | Q19: ='Форма 2'!K24 -> 164 | R19: 12.2017 | S19: 1
A20: =A19+1 -> 6 | B20: 4569 | C20: г. Асино, ул. им. Ленина, д. 31а | D20: 1981 | E20: К | F20: ПСД | G20: 5453.35 | H20: 4033.01 | I20: 169 | J20: ='Форма 2'!I26 -> 259929.11 | K20: 0 | L20: 0 | M20: 0 | N20: =J20-K20-L20-M20-O20 -> 238118.41 | O20: 21810.7 | P20: =J20/H20 -> 64.45 | Q20: ='Форма 2'!K26 -> 164 | R20: 12.2017 | S20: 1
A21: =A20+1 -> 7 | B21: 4590 | C21: г. Асино, ул. им. Чернышевского, д. 6а | D21: 1983 | E21: К | F21: СМР | G21: 506.7 | H21: 429.9 | I21: 11 | J21: ='Форма 2'!I28 -> 2389740.5 | K21: 0 | L21: 0 | M21: 0 | N21: =J21-K21-L21-M21-O21 -> 2319921.6 | O21: 69818.85 | P21: =J21/H21 -> 5558.83 | Q21: ='Форма 2'!K28 -> 7066 | R21: 12.2017 | S21: 1
A22: =A21+1 -> 8 | B22: 4433 | C22: г. Асино, ул. Лесозаводская, д. 31 | D22: 1981 | E22: К | F22: СМР | G22: 544.7 | H22: 493.5 | I22: 12 | J22: ='Форма 2'!I31 -> 2209136.2 | K22: 0 | L22: 0 | M22: 0 | N22: =J22-K22-L22-M22-O22 -> 2135681.3 | O22: 73454.9 | P22: =J22/H22 -> 4476.47 | Q22: ='Форма 2'!K31 -> 7066 | R22: 12.2017 | S22: 1
A23: =A22+1 -> 9 | B23: 4588 | C23: г. Асино, ул. Тимирязева, д. 17/2 | D23: 1986 | E23: К | F23: СМР | G23: 596.83 | H23: 517.3 | I23: 18 | J23: ='Форма 2'!I34 -> 2453590.9 | K23: 0 | L23: 0 | M23: 0 | N23: =J23-K23-L23-M23-O23 -> 2372007.8 | O23: 81583.14 | P23: =J23/H23 -> 4743.07 | Q23: ='Форма 2'!K34 -> 7066 | R23: 12.2017 | S23: 1
A24: =A23+1 -> 10 | B24: 4589 | C24: г. Асино, ул. Транспортная, д. 1 | D24: 1990 | E24: К | F24: ПСД | G24: 5250.48 | H24: 4046.4 | I24: 115 | J24: ='Форма 2'!I37 -> 270106.13 | K24: 0 | L24: 0 | M24: 0 | N24: =J24-K24-L24-M24-O24 -> 248223.01 | O24: 21883.12 | P24: =J24/H24 -> 66.75 | Q24: ='Форма 2'!K37 -> 164 | R24: 12.2017 | S24: 1
A25: =A24+1 -> 11 | B25: 4540 | C25: г. Асино, ул. Транспортная, д. 12 | D25: 1977 | E25: К | F25: ПСД, СМР (н) | G25: 976.94 | H25: 892.04 | I25: 193 | J25: ='Форма 2'!I39 -> 1942612.5 | K25: 0 | L25: 0 | M25: 0 | N25: =J25-K25-L25-M25-O25 -> 1882854.4 | O25: 59758.08 | P25: =J25/H25 -> 2177.72 | Q25: ='Форма 2'!K39 -> 7082 | R25: 12.2018 | S25: 1
A26: =A25+1 -> 12 | B26: 4625 | C26: п. Светлый, ул. Сидоренко, д. 17 | D26: 1968 | E26: К | F26: СМР | G26: 417.38 | H26: 368.98 | I26: 12 | J26: ='Форма 2'!I42 -> 2215558 | K26: 0 | L26: 0 | M26: 0 | N26: =J26-K26-L26-M26-O26 -> 2150656.8 | O26: 64901.22 | P26: =J26/H26 -> 6004.55 | Q26: ='Форма 2'!K42 -> 7066 | R26: 12.2017 | S26: 1
A27: =A26+1 -> 13 | B27: 4641 | C27: с. Ново-Кусково, ул. Библиотечная, д. 9 | D27: 1973 | E27: К | F27: ПСД, СМР (н) | G27: 1403.67 | H27: 721.38 | I27: 35 | J27: ='Форма 2'!I45 -> 1586570.3 | K27: 0 | L27: 0 | M27: 0 | N27: =J27-K27-L27-M27-O27 -> 1538244.8 | O27: 48325.5 | P27: =J27/H27 -> 2199.35 | Q27: ='Форма 2'!K45 -> 7082 | R27: 12.2018 | S27: 1
A28: Итого по Верхнекетскому району | D28: Х | E28: Х | F28: Х | G28: =SUM(G29:G31) -> 2016.4 | H28: =SUM(H29:H31) -> 1873 | I28: =SUM(I29:I31) -> 128 | J28: =SUM(J29:J31) -> 4205719.1 | K28: =SUM(K29:K31) -> 0 | L28: =SUM(L29:L31) -> 0 | M28: =SUM(M29:M31) -> 0 | N28: =SUM(N29:N31) -> 4109838.2 | O28: =SUM(O29:O31) -> 95880.9 | P28: Х | Q28: Х | R28: Х | S28: Х
A29: 1 | B29: 6680 | C29: рп. Белый Яр, ул. Гагарина, д. 56 | D29: 1966 | E29: К | F29: ПСД | G29: 357.9 | H29: 329.1 | I29: 37 | J29: ='Форма 2'!I49 -> 58250.7 | K29: 0 | L29: 0 | M29: 0 | N29: =J29-K29-L29-M29-O29 -> 56412.72 | O29: 1837.98 | P29: =J29/H29 -> 177 | Q29: ='Форма 2'!K49 -> 177 | R29: 12.2017 | S29: 1
A30: =A29+1 -> 2 | B30: 6692 | C30: рп. Белый Яр, ул. Космонавтов, д. 10 | D30: 1967 | E30: К | F30: ПСД | G30: 356.6 | H30: 329.6 | I30: 44 | J30: ='Форма 2'!I51 -> 58339.2 | K30: 0 | L30: 0 | M30: 0 | N30: =J30-K30-L30-M30-O30 -> 56498.42 | O30: 1840.78 | P30: =J30/H30 -> 177 | Q30: ='Форма 2'!K51 -> 177 | R30: 12.2017 | S30: 1
A31: =A30+1 -> 3 | B31: 6704 | C31: рп. Белый Яр, ул. Российская, д. 1 | D31: 1996 | E31: К | F31: СМР | G31: 1301.9 | H31: 1214.3 | I31: 47 | J31: ='Форма 2'!I53 -> 4089129.2 | K31: 0 | L31: 0 | M31: 0 | N31: =J31-K31-L31-M31-O31 -> 3996927 | O31: 92202.14 | P31: =J31/H31 -> 3367.48 | Q31: ='Форма 2'!K53 -> 5354 | R31: 12.2017 | S31: 1
A32: Итого по городу Кедровому | D32: Х | E32: Х | F32: Х | G32: =SUM(G33:G34) -> 1079.1 | H32: =SUM(H33:H34) -> 958.8 | I32: =SUM(I33:I34) -> 47 | J32: =SUM(J33:J34) -> 3338631.4 | K32: =SUM(K33:K34) -> 0 | L32: =SUM(L33:L34) -> 0 | M32: =SUM(M33:M34) -> 0 | N32: =SUM(N33:N34) -> 3204371 | O32: =SUM(O33:O34) -> 134260.4 | P32: Х | Q32: Х | R32: Х | S32: Х
A33: 1 | B33: 5035 | C33: г. Кедровый, мкр. 1-й, д. 9 | D33: 1986 | E33: К | F33: СМР | G33: 532 | H33: 473.5 | I33: 19 | J33: ='Форма 2'!I57 -> 2178133.5 | K33: 0 | L33: 0 | M33: 0 | N33: =J33-K33-L33-M33-O33 -> 2087545.8 | O33: 90587.74 | P33: =J33/H33 -> 4600.07 | Q33: ='Форма 2'!K57 -> 7539 | R33: 12.2017 | S33: 1
A34: =A33+1 -> 2 | B34: 5036 | C34: г. Кедровый, мкр. 1-й, д. 10 | D34: 1986 | E34: К | F34: ПСД, СМР (н) | G34: 547.1 | H34: 485.3 | I34: 28 | J34: ='Форма 2'!I60 -> 1160497.9 | K34: 0 | L34: 0 | M34: 0 | N34: =J34-K34-L34-M34-O34 -> 1116825.2 | O34: 43672.66 | P34: =J34/H34 -> 2391.3 | Q34: ='Форма 2'!K60 -> 7558 | R34: 12.2018 | S34: 1
A35: Итого по городскому округу ЗАТО Северск | D35: Х | E35: Х | F35: Х | G35: =SUM(G36:G84) -> 167123.4 | H35: =SUM(H36:H84) -> 125577.43 | I35: =SUM(I36:I84) -> 5564 | J35: =SUM(J36:J84) -> 1.5151913e+08 | K35: =SUM(K36:K84) -> 0 | L35: =SUM(L36:L84) -> 0 | M35: =SUM(M36:M84) -> 0 | N35: =SUM(N36:N84) -> 1.4665459e+08 | O35: =SUM(O36:O84) -> 4864537.6 | P35: Х | Q35: Х | R35: Х | S35: Х
A36: 1 | B36: 5969 | C36: г. Северск, пр-кт Коммунистический, д. 20 | D36: 1956 | E36: К | F36: СМР | G36: 5856.2 | H36: 4710.6 | I36: 122 | J36: ='Форма 2'!I64 -> 9824964.9 | K36: 0 | L36: 0 | M36: 0 | N36: =J36-K36-L36-M36-O36 -> 9505440.2 | O36: 319524.68 | P36: =J36/H36 -> 2085.71 | Q36: ='Форма 2'!K64 -> 4728 | R36: 12.2017 | S36: 1
A37: =A36+1 -> 2 | B37: 5981 | C37: г. Северск, пр-кт Коммунистический, д. 33 | D37: 1956 | E37: ХВС, ГВС, ТС | F37: ПСД, СМР (н) | G37: 3949.1 | H37: 3619.5 | I37: 133 | J37: ='Форма 2'!I67 -> 3560356.3 | K37: 0 | L37: 0 | M37: 0 | N37: =J37-K37-L37-M37-O37 -> 3469523.8 | O37: 90832.55 | P37: =J37/H37 -> 983.66 | Q37: ='Форма 2'!K67 -> 3121 | R37: 12.2018 | S37: 1
A38: =A37+1 -> 3 | B38: 5996 | C38: г. Северск, пр-кт Коммунистический, д. 55 | D38: 1955 | E38: К | F38: СМР | G38: 5062.2 | H38: 4076.9 | I38: 100 | J38: ='Форма 2'!I74 -> 9245950.7 | K38: 0 | L38: 0 | M38: 0 | N38: =J38-K38-L38-M38-O38 -> 8954422.4 | O38: 291528.34 | P38: =J38/H38 -> 2267.89 | Q38: ='Форма 2'!K74 -> 2831 | R38: 12.2017 | S38: 1
A39: =A38+1 -> 4 | B39: 6025 | C39: г. Северск, пр-кт Коммунистический, д. 90 | D39: 1963 | E39: ХВС, ГВС, ТС | F39: СМР | G39: 5322.5 | H39: 3396.7 | I39: 132 | J39: ='Форма 2'!I77 -> 8550752.3 | K39: 0 | L39: 0 | M39: 0 | N39: =J39-K39-L39-M39-O39 -> 8312025.7 | O39: 238726.59 | P39: =J39/H39 -> 2517.37 | Q39: ='Форма 2'!K77 -> 3055 | R39: 12.2017 | S39: 1
A40: =A39+1 -> 5 | B40: 6042 | C40: г. Северск, пр-кт Коммунистический, д. 117 | D40: 1970 | E40: ЛО | F40: ПСД, СМР | G40: 3337.48 | H40: 2322.8 | I40: 100 | J40: ='Форма 2'!I84 -> 1733403 | K40: 0 | L40: 0 | M40: 0 | N40: =J40-K40-L40-M40-O40 -> 1678096.7 | O40: 55306.34 | P40: =J40/H40 -> 746.26 | Q40: ='Форма 2'!K84 -> 762 | R40: 12.2017 | S40: 1
...

Sheet Форма 2
A1: 2. Перечень работ и услуг по капитальному ремонту общего имущества в многоквартирных домах, включенных в краткосрочный план реализации в 2017 - 2019 гг. региональной программы капитального ремонта общего имущества в многоквартирных домах
A3: № п/п | B3: Код МКД | C3: Адрес МКД | D3: Площадь помещений МКД, кв. м | E3: Материал стен <4> | F3: Количество этажей | G3: Вид элемента строительных конструкций, оборудования, инженерных систем | H3: Вид работы (услуги) по капитальному ремонту | I3: Стоимость работы (услуги), руб. | J3: Удельная стоимость работы (услуги), руб./кв. м | K3: Предельная стоимость работы (услуги), руб./кв. м
A4: 1 | B4: 2 | C4: 3 | D4: 4 | E4: 5 | F4: 6 | G4: 7 | H4: 8 | I4: 9 | J4: 10 | K4: 11
A5: 2017 год | D5: =D6+D12+D48+D56+D63+D277+D377+D1050+D1054+D1066+D1072+D1131+D1137+D1143+D1149+D1155+D1188+D1192 -> 860470.56 | I5: =I6+I12+I48+I56+I63+I277+I377+I1050+I1054+I1066+I1072+I1131+I1137+I1143+I1149+I1155+I1188+I1192 -> 8.938684e+08
A6: Итого по Александровскому району | D6: =D7+D9 -> 1011.4 | I6: =I7+I9 -> 1910632
A7: 1 | B7: 4743 | C7: с. Александровское, ул. Таежная, д. 19а | D7: 498 | E7: Д | F7: 2 | G7: крыша | H7: Итого | I7: =SUM(I8:I8) -> 88146 | J7: =SUM(J8:J8) -> 177 | K7: =SUM(K8:K8) -> 177
A8: 5 | H8: разработка проектной документации, включая проведение проверки достоверности определения сметной стоимости (ремонт) | I8: =K8*D7 -> 88146 | J8: =I8/D7 -> 177 | K8: =163+14 -> 177
A9: =A7+1 -> 2 | B9: 4745 | C9: с. Александровское, ул. Таежная, д. 28 | D9: 513.4 | E9: Д | F9: 2 | G9: крыша | H9: Итого | I9: =SUM(I10:I11) -> 1822486 | J9: =SUM(J10:J11) -> 3549.84 | K9: =SUM(K10:K11) -> 7539
A10: 5 | H10: ремонт | I10: 1784301.9 | J10: =I10/D9+0.01 -> 3475.47 | K10: 7381
A11: 6 | H11: строительный контроль | I11: =I10*0.0214 -> 38184.06 | J11: =I11/D9 -> 74.37 | K11: 158
A12: Итого по Асиновскому району | D12: =D13+D15+D18+D21+D24+D26+D28+D31+D34+D37+D39+D42+D45 -> 17526.62 | I12: =I13+I15+I18+I21+I24+I26+I28+I31+I34+I37+I39+I42+I45 -> 25094106
A13: 1 | B13: 4395 | C13: г. Асино, ул. АВПУ, д. 27 | D13: 846 | E13: Пр | F13: 2 | G13: крыша | H13: Итого | I13: =I14 -> 85404.68 | J13: =J14 -> 100.95 | K13: =K14 -> 178
A14: 29 | H14: разработка проектной документации, включая проведение проверки достоверности определения сметной стоимости (ремонт) | I14: =74406.68+D13*13 -> 85404.68 | J14: =I14/D13 -> 100.95 | K14: =164+14 -> 178
A15: 2 | B15: 4504 | C15: г. Асино, ул. АВПУ, д. 33 | D15: 988.9 | E15: К | F15: 2 | G15: крыша | H15: Итого | I15: =I16+I17 -> 5224890.6 | J15: =J16+J17 -> 5283.54 | K15: =K16+K17 -> 7066
A16: 9 | H16: ремонт | I16: 5141947.7 | J16: =I16/D15+0.01 -> 5199.67 | K16: 6918
A17: 10 | H17: строительный контроль | I17: 82942.97 | J17: =I17/D15 -> 83.87 | K17: 148
A18: =A15+1 -> 3 | B18: 4559 | C18: г. Асино, ул. им. В.В.Липатова, д. 27 | D18: 887.4 | E18: К | F18: 2 | G18: крыша | H18: Итого | I18: =I19+I20 -> 3994513.5 | J18: =J19+J20 -> 4501.37 | K18: =K19+K20 -> 7066
A19: 15 | H19: ремонт | I19: 3922562.5 | J19: =I19/D18 -> 4420.29 | K19: 6918
A20: 16 | H20: строительный контроль | I20: 71951 | J20: =I20/D18 -> 81.08 | K20: 148
A21: =A18+1 -> 4 | B21: 4560 | C21: г. Асино, ул. им. В.В.Липатова, д. 34 | D21: 1535.88 | E21: К | F21: 3 | G21: крыша | H21: Итого | I21: =I22+I23 -> 2306895.3 | J21: =J22+J23 -> 1502 | K21: =K22+K23 -> 4793
H22: разработка проектной документации, включая проведение проверки достоверности определения сметной стоимости (ремонт) | I22: =154052.33+D21*13 -> 174018.77 | J22: =I22/D21 -> 113.3 | K22: =151+13 -> 164
H23: ремонт | I23: =K23*D21*0.3 -> 2132876.6 | J23: =I23/D21 -> 1388.7 | K23: 4629
A24: =A21+1 -> 5 | B24: 4405 | C24: г. Асино, ул. им. Ивана Черных, д. 18 | D24: 1765.93 | E24: К | F24: 3 | G24: крыша | H24: Итого | I24: =I25 -> 155158.57 | J24: =J25 -> 87.86 | K24: =K25 -> 164
A25: 29 | H25: разработка проектной документации, включая проведение проверки достоверности определения сметной стоимости (ремонт) | I25: =132201.48+D24*13 -> 155158.57 | J25: =I25/D24 -> 87.86 | K25: =151+13 -> 164
A26: =A24+1 -> 6 | B26: 4569 | C26: г. Асино, ул. им. Ленина, д. 31а | D26: 4033.01 | E26: К | F26: 5 | G26: крыша | H26: Итого | I26: =I27 -> 259929.11 | J26: =J27 -> 64.45 | K26: =K27 -> 164
A27: 29 | H27: разработка проектной документации, включая проведение проверки достоверности определения сметной стоимости (ремонт) | I27: =207499.98+D26*13 -> 259929.11 | J27: =I27/D26 -> 64.45 | K27: =151+13 -> 164
A28: =A26+1 -> 7 | B28: 4590 | C28: г. Асино, ул. им. Чернышевского, д. 6а | D28: 429.9 | E28: Пр | F28: 2 | G28: крыша | H28: Итого | I28: =I29+I30 -> 2389740.5 | J28: =J29+J30 -> 5558.83 | K28: =K29+K30 -> 7066
A29: 25 | H29: ремонт | I29: 2351804.4 | J29: =I29/D28+0.01 -> 5470.59 | K29: 6918
A30: 26 | H30: строительный контроль | I30: 37936.14 | J30: =I30/D28 -> 88.24 | K30: 148
A31: =A28+1 -> 8 | B31: 4433 | C31: г. Асино, ул. Лесозаводская, д. 31 | D31: 493.5 | E31: Д | F31: 2 | H31: Итого | I31: =I32+I33 -> 2209136.2 | J31: =J32+J33 -> 4476.47 | K31: =K32+K33 -> 7066
A32: 29 | G32: крыша | H32: ремонт | I32: 2175876.4 | J32: =I32/D31 -> 4409.07 | K32: 6918
H33: строительный контроль | I33: 33259.82 | J33: =I33/D31 -> 67.4 | K33: 148
A34: =A31+1 -> 9 | B34: 4588 | C34: г. Асино, ул. Тимирязева, д. 17/2 | D34: 517.3 | E34: Пр | F34: 2 | G34: крыша | H34: Итого | I34: =I35+I36 -> 2453590.9 | J34: =J35+J36 -> 4743.07 | K34: =K35+K36 -> 7066
A35: 43 | H35: ремонт | I35: 2416650.7 | J35: =I35/D34 -> 4671.66 | K35: 6918
A36: 44 | H36: строительный контроль | I36: 36940.23 | J36: =I36/D34 -> 71.41 | K36: 148
A37: =A34+1 -> 10 | B37: 4589 | C37: г. Асино, ул. Транспортная, д. 1 | D37: 4046.4 | E37: К | F37: 5 | G37: крыша | H37: Итого | I37: =I38 -> 270106.13 | J37: =J38 -> 66.75 | K37: =K38 -> 164
H38: разработка проектной документации, включая проведение проверки достоверности определения сметной стоимости (ремонт) | I38: =217502.93+D37*13 -> 270106.13 | J38: =I38/D37 -> 66.75 | K38: =151+13 -> 164
A39: =A37+1 -> 11 | B39: 4540 | C39: г. Асино, ул. Транспортная, д. 12 | D39: 892.04 | E39: К | F39: 2 | G39: крыша | H39: Итого | I39: =I40+I41 -> 1942612.5 | J39: =J40+J41 -> 2177.72 | K39: =K40+K41 -> 7082
H40: разработка проектной документации, включая проведение проверки достоверности определения сметной стоимости (ремонт) | I40: =79676.12+D39*13 -> 91272.64 | J40: =I40/D39 -> 102.32 | K40: =151+13 -> 164
H41: ремонт | I41: =K41*D39*0.3 -> 1851339.8 | J41: =I41/D39 -> 2075.4 | K41: 6918
...
