Workbook

Sheet форма 1
O1: Приложение к приказу Департамента ЖКХ и государственного жилищного надзора Томской области от 08.06.2018 № 31
A2: Краткосрочный план реализации в 2017 - 2019 гг. региональной программы капитального ремонта общего имущества в многоквартирных домах
A3: 1. Перечень многоквартирных домов, включенных в краткосрочный план реализации в 2017 - 2019 гг. региональной программы капитального ремонта общего имущества в многоквартирных домах
A4: № п/п | B4: Код МКД | C4: Адрес МКД | D4: Год ввода в эксплуатацию | E4: Вид элемента строительных конструкций, оборудования, инженерных систем <1> | F4: Вид работы (услуги) по капитальному ремонту <2> | G4: Общая площадь МКД, всего | H4: Площадь помещений в МКД | I4: Количество жителей, зарегистрированных в МКД на дату утверждения краткосрочного плана | J4: Стоимость капитального ремонта | P4: Удельная стоимость капитального ремонта 1 кв. м общей площади помещений МКД | Q4: Предельная стоимость капитального ремонта 1 кв. м общей площади помещений МКД | R4: Плановая дата завершения работ | S4: Способ формирования фонда капитального ремонта многоквартирного дома <3>
J5: всего | K5: в том числе
K6: за счет средств Фонда | L6: за счет средств бюджета субъекта Российской Федерации | M6: за счет средств местного бюджета | N6: за счет средств собственников помещений в МКД | O6: за счет других не запрещенных законом источников
G7: кв. м | H7: кв. м | I7: чел. | J7: руб. | K7: руб. | L7: руб. | M7: руб. | N7: руб. | O7: руб. | P7: руб./кв. м | Q7: руб./кв. м
A8: 1 | B8: 2 | C8: 3 | D8: 4 | E8: 5 | F8: 6 | G8: 7 | H8: 8 | I8: 9 | J8: 10 | K8: 11 | L8: 12 | M8: 13 | N8: 14 | O8: 15 | P8: 16 | Q8: 17 | R8: 18 | S8: 19
A9: 2017 год
A10: Всего по Томской области | D10: Х | E10: Х | F10: Х | G10: =G11+G14+G28+G32+G35+G85+G102+G263+G265+G269+G272+G291+G294+G297+G300+G303+G314+G316 -> 1021195.4 | H10: =H11+H14+H28+H32+H35+H85+H102+H263+H265+H269+H272+H291+H294+H297+H300+H303+H314+H316 -> 860470.56 | I10: =I11+I14+I28+I32+I35+I85+I102+I263+I265+I269+I272+I291+I294+I297+I300+I303+I314+I316 -> 37479 | J10: =J11+J14+J28+J32+J35+J85+J102+J263+J265+J269+J272+J291+J294+J297+J300+J303+J314+J316 -> 8.938684e+08 | K10: =K11+K14+K28+K32+K35+K85+K102+K263+K265+K269+K272+K291+K294+K297+K300+K303+K314+K316 -> 0 | L10: =L11+L14+L28+L32+L35+L85+L102+L263+L265+L269+L272+L291+L294+L297+L300+L303+L314+L316 -> 0 | M10: =M11+M14+M28+M32+M35+M85+M102+M263+M265+M269+M272+M291+M294+M297+M300+M303+M314+M316 -> 0 | N10: =N11+N14+N28+N32+N35+N85+N102+N263+N265+N269+N272+N291+N294+N297+N300+N303+N314+N316 -> 8.6277726e+08 | O10: =O11+O14+O28+O32+O35+O85+O102+O263+O265+O269+O272+O291+O294+O297+O300+O303+O314+O316 -> 31091145 | P10: Х | Q10: Х | R10: Х | S10: Х
A11: Итого по Александровскому району | D11: Х | E11: Х | F11: Х | G11: =G12+G13 -> 1124.5 | H11: =H12+H13 -> 1011.4 | I11: =I12+I13 -> 51 | J11: =J12+J13 -> 1910632 | K11: =K12+K13 -> 0 | L11: =L12+L13 -> 0 | M11: =M12+M13 -> 0 | N11: =N12+N13 -> 1831397.9 | O11: =O12+O13 -> 79234.05 | P11: Х | Q11: Х | R11: Х | S11: Х
A12: 1 | B12: 4743 | C12: с. Александровское, ул. Таежная, д. 19а | D12: 1973 | E12: К | F12: ПСД | G12: 540.4 | H12: 498 | I12: 30 | J12: ='Форма 2'!I7 -> 88146 | K12: 0 | L12: 0 | M12: 0 | N12: =J12-K12-L12-M12-O12 -> 83500.63 | O12: 4645.37 | P12: =J12/H12 -> 177 | Q12: ='Форма 2'!K7 -> 177 | R12: 12.2017 | S12: 1
A13: =A12+1 -> 2 | B13: 4745 | C13: с. Александровское, ул. Таежная, д. 28 | D13: 1973 | E13: К | F13: СМР | G13: 584.1 | H13: 513.4 | I13: 21 | J13: ='Форма 2'!I9 -> 1822486 | K13: 0 | L13: 0 | M13: 0 | N13: =J13-K13-L13-M13-O13 -> 1747897.3 | O13: 74588.68 | P13: =J13/H13 -> 3549.84 | Q13: ='Форма 2'!K9 -> 7539 | R13: 12.2017 | S13: 1
A14: Итого по Асиновскому району | D14: Х | E14: Х | F14: Х | G14: =SUM(G15:G27) -> 23771.43 | H14: =SUM(H15:H27) -> 17526.62 | I14: =SUM(I15:I27) -> 732 | J14: =SUM(J15:J27) -> 25094106 | K14: =SUM(K15:K27) -> 0 | L14: =SUM(L15:L27) -> 0 | M14: =SUM(M15:M27) -> 0 | N14: =SUM(N15:N27) -> 24279313 | O14: =SUM(O15:O27) -> 814792.95 | P14: Х | Q14: Х | R14: Х | S14: Х
A15: 1 | B15: 4395 | C15: г. Асино, ул. АВПУ, д. 27 | D15: 1984 | E15: К | F15: ПСД | G15: 1353.3 | H15: 846 | I15: 19 | J15: ='Форма 2'!I13 -> 85404.68 | K15: 0 | L15: 0 | M15: 0 | N15: =J15-K15-L15-M15-O15 -> 79190.23 | O15: 6214.45 | P15: =J15/H15 -> 100.95 | Q15: ='Форма 2'!K14 -> 178 | R15: 12.2017 | S15: 1
A16: =A15+1 -> 2 | B16: 4504 | C16: г. Асино, ул. АВПУ, д. 33 | D16: 1962 | E16: К | F16: СМР | G16: 1413.1 | H16: 988.9 | I16: 33 | J16: ='Форма 2'!I15 -> 5224890.6 | K16: 0 | L16: 0 | M16: 0 | N16: =J16-K16-L16-M16-O16 -> 5072239.8 | O16: 152650.82 | P16: =J16/H16 -> 5283.54 | Q16: ='Форма 2'!K15 -> 7066 | R16: 12.2017 | S16: 1
A17: =A16+1 -> 3 | B17: 4559 | C17: г. Асино, ул. им. В.В.Липатова, д. 27 | D17: 1972 | E17: К | F17: СМР | G17: 973 | H17: 887.4 | I17: 36 | J17: ='Форма 2'!I18 -> 3994513.5 | K17: 0 | L17: 0 | M17: 0 | N17: =J17-K17-L17-M17-O17 -> 3862092.7 | O17: 132420.86 | P17: =J17/H17 -> 4501.37 | Q17: ='Форма 2'!K18 -> 7066 | R17: 12.2017 | S17: 1
A18: =A17+1 -> 4 | B18: 4560 | C18: г. Асино, ул. им. В.В.Липатова, д. 34 | D18: 1981 | E18: К | F18: ПСД, СМР (н) | G18: 2287.61 | H18: 1535.88 | I18: 32 | J18: ='Форма 2'!I21 -> 2306895.3 | K18: 0 | L18: 0 | M18: 0 | N18: =J18-K18-L18-M18-O18 -> 2235702.9 | O18: 71192.39 | P18: =J18/H18 -> 1502 | Q18: ='Форма 2'!K21 -> 4793 | R18: 12.2018 | S18: 1
A19: =A18+1 -> 5 | B19: 4405 | C19: г. Асино, ул. им. Ивана Черных, д. 18 | D19: 1988 | E19: К | F19: ПСД | G19: 2594.37 | H19: 1765.93 | I19: 47 | J19: ='Форма 2'!I24 -> 155158.57 | K19: 0 | L19: 0 | M19: 0 | N19: =J19-K19-L19-M19-O19 -> 144379.65 | O19: 10778.92 | P19: =J19/H19 -> 87.86 | Q19: ='Форма 2'!K24 -> 164 | R19: 12.2017 | S19: 1
A20: =A19+1 -> 6 | B20: 4569 | C20: г. Асино, ул. им. Ленина, д. 31а | D20: 1981 | E20: К | F20: ПСД | G20: 5453.35 | H20: 4033.01 | I20: 169 | J20: ='Форма 2'!I26 -> 259929.11 | K20: 0 | L20: 0 | M20: 0 | N20: =J20-K20-L20-M20-O20 -> 238118.41 | O20: 21810.7 | P20: =J20/H20 -> 64.45 | Q20: ='Форма 2'!K26 -> 164 | R20: 12.2017 | S20: 1
A21: =A20+1 -> 7 | B21: 4590 | C21: г. Асино, ул. им. Чернышевского, д. 6а | D21: 1983 | E21: К | F21: СМР | G21: 506.7 | H21: 429.9 | I21: 11 | J21: ='Форма 2'!I28 -> 2389740.5 | K21: 0 | L21: 0 | M21: 0 | N21: =J21-K21-L21-M21-O21 -> 2319921.6 | O21: 69818.85 | P21: =J21/H21 -> 5558.83 | Q21: ='Форма 2'!K28 -> 7066 | R21: 12.2017 | S21: 1
A22: =A21+1 -> 8 | B22: 4433 | C22: г. Асино, ул. Лесозаводская, д. 31 | D22: 1981 | E22: К | F22: СМР | G22: 544.7 | H22: 493.5 | I22: 12 | J22: ='Форма 2'!I31 -> 2209136.2 | K22: 0 | L22: 0 | M22: 0 | N22: =J22-K22-L22-M22-O22 -> 2135681.3 | O22: 73454.9 | P22: =J22/H22 -> 4476.47 | Q22: ='Форма 2'!K31 -> 7066 | R22: 12.2017 | S22: 1
A23: =A22+1 -> 9 | B23: 4588 | C23: г. Асино, ул. Тимирязева, д. 17/2 | D23: 1986 | E23: К | F23: СМР | G23: 596.83 | H23: 517.3 | I23: 18 | J23: ='Форма 2'!I34 -> 2453590.9 | K23: 0 | L23: 0 | M23: 0 | N23: =J23-K23-L23-M23-O23 -> 2372007.8 | O23: 81583.14 | P23: =J23/H23 -> 4743.07 | Q23: ='Форма 2'!K34 -> 7066 | R23: 12.2017 | S23: 1
A24: =A23+1 -> 10 | B24: 4589 | C24: г. Асино, ул. Транспортная, д. 1 | D24: 1990 | E24: К | F24: ПСД | G24: 5250.48 | H24: 4046.4 | I24: 115 | J24: ='Форма 2'!I37 -> 270106.13 | K24: 0 | L24: 0 | M24: 0 | N24: =J24-K24-L24-M24-O24 -> 248223.01 | O24: 21883.12 | P24: =J24/H24 -> 66.75 | Q24: ='Форма 2'!K37 -> 164 | R24: 12.2017 | S24: 1
A25: =A24+1 -> 11 | B25: 4540 | C25: г. Асино, ул. Транспортная, д. 12 | D25: 1977 | E25: К | F25: ПСД, СМР (н) | G25: 976.94 | H25: 892.04 | I25: 193 | J25: ='Форма 2'!I39 -> 1942612.5 | K25: 0 | L25: 0 | M25: 0 | N25: =J25-K25-L25-M25-O25 -> 1882854.4 | O25: 59758.08 | P25: =J25/H25 -> 2177.72 | Q25: ='Форма 2'!K39 -> 7082 | R25: 12.2018 | S25: 1
A26: =A25+1 -> 12 | B26: 4625 | C26: п. Светлый, ул. Сидоренко, д. 17 | D26: 1968 | E26: К | F26: СМР | G26: 417.38 | H26: 368.98 | I26: 12 | J26: ='Форма 2'!I42 -> 2215558 | K26: 0 | L26: 0 | M26: 0 | N26: =J26-K26-L26-M26-O26 -> 2150656.8 | O26: 64901.22 | P26: =J26/H26 -> 6004.55 | Q26: ='Форма 2'!K42 -> 7066 | R26: 12.2017 | S26: 1
A27: =A26+1 -> 13 | B27: 4641 | C27: с. Ново-Кусково, ул. Библиотечная, д. 9 | D27: 1973 | E27: К | F27: ПСД, СМР (н) | G27: 1403.67 | H27: 721.38 | I27: 35 | J27: ='Форма 2'!I45 -> 1586570.3 | K27: 0 | L27: 0 | M27: 0 | N27: =J27-K27-L27-M27-O27 -> 1538244.8 | O27: 48325.5 | P27: =J27/H27 -> 2199.35 | Q27: ='Форма 2'!K45 -> 7082 | R27: 12.2018 | S27: 1
A28: Итого по Верхнекетскому району | D28: Х | E28: Х | F28: Х | G28: =SUM(G29:G31) -> 2016.4 | H28: =SUM(H29:H31) -> 1873 | I28: =SUM(I29:I31) -> 128 | J28: =SUM(J29:J31) -> 4205719.1 | K28: =SUM(K29:K31) -> 0 | L28: =SUM(L29:L31) -> 0 | M28: =SUM(M29:M31) -> 0 | N28: =SUM(N29:N31) -> 4109838.2 | O28: =SUM(O29:O31) -> 95880.9 | P28: Х | Q28: Х | R28: Х | S28: Х
A29: 1 | B29: 6680 | C29: рп. Белый Яр, ул. Гагарина, д. 56 | D29: 1966 | E29: К | F29: ПСД | G29: 357.9 | H29: 329.1 | I29: 37 | J29: ='Форма 2'!I49 -> 58250.7 | K29: 0 | L29: 0 | M29: 0 | N29: =J29-K29-L29-M29-O29 -> 56412.72 | O29: 1837.98 | P29: =J29/H29 -> 177 | Q29: ='Форма 2'!K49 -> 177 | R29: 12.2017 | S29: 1
A30: =A29+1 -> 2 | B30: 6692 | C30: рп. Белый Яр, ул. Космонавтов, д. 10 | D30: 1967 | E30: К | F30: ПСД | G30: 356.6 | H30: 329.6 | I30: 44 | J30: ='Форма 2'!I51 -> 58339.2 | K30: 0 | L30: 0 | M30: 0 | N30: =J30-K30-L30-M30-O30 -> 56498.42 | O30: 1840.78 | P30: =J30/H30 -> 177 | Q30: ='Форма 2'!K51 -> 177 | R30: 12.2017 | S30: 1
A31: =A30+1 -> 3 | B31: 6704 | C31: рп. Белый Яр, ул. Российская, д. 1 | D31: 1996 | E31: К | F31: СМР | G31: 1301.9 | H31: 1214.3 | I31: 47 | J31: ='Форма 2'!I53 -> 4089129.2 | K31: 0 | L31: 0 | M31: 0 | N31: =J31-K31-L31-M31-O31 -> 3996927 | O31: 92202.14 | P31: =J31/H31 -> 3367.48 | Q31: ='Форма 2'!K53 -> 5354 | R31: 12.2017 | S31: 1
A32: Итого по городу Кедровому | D32: Х | E32: Х | F32: Х | G32: =SUM(G33:G34) -> 1079.1 | H32: =SUM(H33:H34) -> 958.8 | I32: =SUM(I33:I34) -> 47 | J32: =SUM(J33:J34) -> 3338631.4 | K32: =SUM(K33:K34) -> 0 | L32: =SUM(L33:L34) -> 0 | M32: =SUM(M33:M34) -> 0 | N32: =SUM(N33:N34) -> 3204371 | O32: =SUM(O33:O34) -> 134260.4 | P32: Х | Q32: Х | R32: Х | S32: Х
A33: 1 | B33: 5035 | C33: г. Кедровый, мкр. 1-й, д. 9 | D33: 1986 | E33: К | F33: СМР | G33: 532 | H33: 473.5 | I33: 19 | J33: ='Форма 2'!I57 -> 2178133.5 | K33: 0 | L33: 0 | M33: 0 | N33: =J33-K33-L33-M33-O33 -> 2087545.8 | O33: 90587.74 | P33: =J33/H33 -> 4600.07 | Q33: ='Форма 2'!K57 -> 7539 | R33: 12.2017 | S33: 1
A34: =A33+1 -> 2 | B34: 5036 | C34: г. Кедровый, мкр. 1-й, д. 10 | D34: 1986 | E34: К | F34: ПСД, СМР (н) | G34: 547.1 | H34: 485.3 | I34: 28 | J34: ='Форма 2'!I60 -> 1160497.9 | K34: 0 | L34: 0 | M34: 0 | N34: =J34-K34-L34-M34-O34 -> 1116825.2 | O34: 43672.66 | P34: =J34/H34 -> 2391.3 | Q34: ='Форма 2'!K60 -> 7558 | R34: 12.2018 | S34: 1
A35: Итого по городскому округу ЗАТО Северск | D35: Х | E35: Х | F35: Х | G35: =SUM(G36:G84) -> 167123.4 | H35: =SUM(H36:H84) -> 125577.43 | I35: =SUM(I36:I84) -> 5564 | J35: =SUM(J36:J84) -> 1.5151913e+08 | K35: =SUM(K36:K84) -> 0 | L35: =SUM(L36:L84) -> 0 | M35: =SUM(M36:M84) -> 0 | N35: =SUM(N36:N84) -> 1.4665459e+08 | O35: =SUM(O36:O84) -> 4864537.6 | P35: Х | Q35: Х | R35: Х | S35: Х
A36: 1 | B36: 5969 | C36: г. Северск, пр-кт Коммунистический, д. 20 | D36: 1956 | E36: К | F36: СМР | G36: 5856.2 | H36: 4710.6 | I36: 122 | J36: ='Форма 2'!I64 -> 9824964.9 | K36: 0 | L36: 0 | M36: 0 | N36: =J36-K36-L36-M36-O36 -> 9505440.2 | O36: 319524.68 | P36: =J36/H36 -> 2085.71 | Q36: ='Форма 2'!K64 -> 4728 | R36: 12.2017 | S36: 1
A37: =A36+1 -> 2 | B37: 5981 | C37: г. Северск, пр-кт Коммунистический, д. 33 | D37: 1956 | E37: ХВС, ГВС, ТС | F37: ПСД, СМР (н) | G37: 3949.1 | H37: 3619.5 | I37: 133 | J37: ='Форма 2'!I67 -> 3560356.3 | K37: 0 | L37: 0 | M37: 0 | N37: =J37-K37-L37-M37-O37 -> 3469523.8 | O37: 90832.55 | P37: =J37/H37 -> 983.66 | Q37: ='Форма 2'!K67 -> 3121 | R37: 12.2018 | S37: 1
A38: =A37+1 -> 3 | B38: 5996 | C38: г. Северск, пр-кт Коммунистический, д. 55 | D38: 1955 | E38: К | F38: СМР | G38: 5062.2 | H38: 4076.9 | I38: 100 | J38: ='Форма 2'!I74 -> 9245950.7 | K38: 0 | L38: 0 | M38: 0 | N38: =J38-K38-L38-M38-O38 -> 8954422.4 | O38: 291528.34 | P38: =J38/H38 -> 2267.89 | Q38: ='Форма 2'!K74 -> 2831 | R38: 12.2017 | S38: 1
A39: =A38+1 -> 4 | B39: 6025 | C39: г. Северск, пр-кт Коммунистический, д. 90 | D39: 1963 | E39: ХВС, ГВС, ТС | F39: СМР | G39: 5322.5 | H39: 3396.7 | I39: 132 | J39: ='Форма 2'!I77 -> 8550752.3 | K39: 0 | L39: 0 | M39: 0 | N39: =J39-K39-L39-M39-O39 -> 8312025.7 | O39: 238726.59 | P39: =J39/H39 -> 2517.37 | Q39: ='Форма 2'!K77 -> 3055 | R39: 12.2017 | S39: 1
A40: =A39+1 -> 5 | B40: 6042 | C40: г. Северск, пр-кт Коммунистический, д. 117 | D40: 1970 | E40: ЛО | F40: ПСД, СМР | G40: 3337.48 | H40: 2322.8 | I40: 100 | J40: ='Форма 2'!I84 -> 1733403 | K40: 0 | L40: 0 | M40: 0 | N40: =J40-K40-L40-M40-O40 -> 1678096.7 | O40: 55306.34 | P40: =J40/H40 -> 746.26 | Q40: ='Форма 2'!K84 -> 762 | R40: 12.2017 | S40: 1
A41: =A40+1 -> 6 | B41: 5833 | C41: г. Северск, ул. 40 лет Октября, д. 3 | D41: 1957 | E41: К | F41: ПСД, СМР (н) | G41: 3792 | H41: 2041.3 | I41: 73 | J41: ='Форма 2'!I88 -> 3035853 | K41: 0 | L41: 0 | M41: 0 | N41: =J41-K41-L41-M41-O41 -> 2934001.5 | O41: 101851.57 | P41: =J41/H41 -> 1487.22 | Q41: ='Форма 2'!K88 -> 4793 | R41: 12.2018 | S41: 1
A42: =A41+1 -> 7 | B42: 5842 | C42: г. Северск, ул. Горького, д. 4 | D42: 1954 | E42: К | F42: ПСД, СМР (н) | G42: 1003.2 | H42: 911.5 | I42: 45 | J42: ='Форма 2'!I91 -> 2000669.6 | K42: 0 | L42: 0 | M42: 0 | N42: =J42-K42-L42-M42-O42 -> 1934347 | O42: 66322.64 | P42: =J42/H42 -> 2194.92 | Q42: ='Форма 2'!K91 -> 7096 | R42: 12.2018 | S42: 1
A43: =A42+1 -> 8 | B43: 5862 | C43: г. Северск, ул. Ершова, д. 6 | D43: 1957 | E43: ХВС, ГВС, ТС, ВО, ПУ, УУ | F43: ПСД | G43: 4279 | H43: 2376.8 | I43: 103 | J43: ='Форма 2'!I94 -> 315143.13 | K43: 0 | L43: 0 | M43: 0 | N43: =J43-K43-L43-M43-O43 -> 303115.81 | O43: 12027.32 | P43: =J43/H43 -> 132.59 | Q43: ='Форма 2'!K94 -> 226 | R43: 12.2017 | S43: 1
A44: =A43+1 -> 9 | B44: 5869 | C44: г. Северск, ул. Калинина, д. 16 | D44: 1957 | E44: ГВС | F44: СМР (н) | G44: 3421 | H44: 2371.43 | I44: 94 | J44: ='Форма 2'!I100 -> 179497.86 | K44: 0 | L44: 0 | M44: 0 | N44: =J44-K44-L44-M44-O44 -> 179497.86 | O44: 0 | P44: =J44/H44 -> 75.69 | Q44: ='Форма 2'!K100 -> 409 | R44: 12.2018 | S44: 1
A45: =A44+1 -> 10 | B45: 5874 | C45: г. Северск, ул. Калинина, д. 27 | D45: 1957 | E45: К | F45: ПСД, СМР (н) | G45: 5170 | H45: 2947.8 | I45: 114 | J45: ='Форма 2'!I102 -> 4335978.1 | K45: 0 | L45: 0 | M45: 0 | N45: =J45-K45-L45-M45-O45 -> 4290380.8 | O45: 45597.36 | P45: =J45/H45 -> 1470.92 | Q45: ='Форма 2'!K102 -> 4793 | R45: 12.2018 | S45: 1
A46: =A45+1 -> 11 | B46: 5877 | C46: г. Северск, ул. Калинина, д. 41 | D46: 1955 | E46: ХВС, ГВС | F46: ПСД | G46: 977.9 | H46: 887.8 | I46: 46 | J46: ='Форма 2'!I105 -> 33736.4 | K46: 0 | L46: 0 | M46: 0 | N46: =J46-K46-L46-M46-O46 -> 0 | O46: 33736.4 | P46: =J46/H46 -> 38 | Q46: ='Форма 2'!K105 -> 38 | R46: 12.2017 | S46: 1
A47: =A46+1 -> 12 | B47: 5881 | C47: г. Северск, ул. Калинина, д. 46 | D47: 1966 | E47: ХВС, ГВС, ТС | F47: СМР | G47: 6843.8 | H47: 5440.4 | I47: 183 | J47: ='Форма 2'!I108 -> 12437220 | K47: 0 | L47: 0 | M47: 0 | N47: =J47-K47-L47-M47-O47 -> 12102945 | O47: 334274.85 | P47: =J47/H47 -> 2286.09 | Q47: ='Форма 2'!K108 -> 3055 | R47: 12.2017 | S47: 1
A48: =A47+1 -> 13 | B48: 5913 | C48: г. Северск, ул. Калинина, д. 83 | D48: 1959 | E48: К | F48: ПСД, СМР (н) | G48: 1199 | H48: 659.4 | I48: 30 | J48: ='Форма 2'!I115 -> 1465131.8 | K48: 0 | L48: 0 | M48: 0 | N48: =J48-K48-L48-M48-O48 -> 1417420.3 | O48: 47711.56 | P48: =J48/H48 -> 2221.92 | Q48: ='Форма 2'!K115 -> 7082 | R48: 12.2018 | S48: 1
A49: =A48+1 -> 14 | B49: 5941 | C49: г. Северск, ул. Кирова, д. 3 | D49: 1957 | E49: К | F49: ПСД | G49: 904.8 | H49: 527.3 | I49: 22 | J49: ='Форма 2'!I118 -> 81882.49 | K49: 0 | L49: 0 | M49: 0 | N49: =J49-K49-L49-M49-O49 -> 43515.04 | O49: 38367.45 | P49: =J49/H49 -> 155.29 | Q49: ='Форма 2'!K118 -> 178 | R49: 12.2018 | S49: 1
A50: =A49+1 -> 15 | B50: 5947 | C50: г. Северск, ул. Кирова, д. 9 | D50: 1957 | E50: К | F50: ПСД, СМР (н) | G50: 1014.2 | H50: 501.3 | I50: 22 | J50: ='Форма 2'!I120 -> 1129629.4 | K50: 0 | L50: 0 | M50: 0 | N50: =J50-K50-L50-M50-O50 -> 1093153.8 | O50: 36475.63 | P50: =J50/H50 -> 2253.4 | Q50: ='Форма 2'!K120 -> 7096 | R50: 12.2018 | S50: 1
A51: =A50+1 -> 16 | B51: 6071 | C51: г. Северск, ул. Комсомольская, д. 20 | D51: 1953 | E51: ХВС, ГВС | F51: ПСД, СМР (н) | G51: 1764.35 | H51: 615.65 | I51: 25 | J51: ='Форма 2'!I123 -> 184818.13 | K51: 0 | L51: 0 | M51: 0 | N51: =J51-K51-L51-M51-O51 -> 178891.23 | O51: 5926.9 | P51: =J51/H51 -> 300.2 | Q51: ='Форма 2'!K123 -> 912 | R51: 12.2018 | S51: 1
A52: =A51+1 -> 17 | B52: 6072 | C52: г. Северск, ул. Комсомольская, д. 22 | D52: 1953 | E52: К | F52: ПСД, СМР (н) | G52: 1251.6 | H52: 534.9 | I52: 26 | J52: ='Форма 2'!I128 -> 1205343.7 | K52: 0 | L52: 0 | M52: 0 | N52: =J52-K52-L52-M52-O52 -> 1166423.2 | O52: 38920.44 | P52: =J52/H52 -> 2253.4 | Q52: ='Форма 2'!K128 -> 7096 | R52: 12.2018 | S52: 1
A53: =A52+1 -> 18 | B53: 6074 | C53: г. Северск, ул. Комсомольская, д. 24 | D53: 1953 | E53: К | F53: ПСД, СМР (н) | G53: 1695.18 | H53: 599.02 | I53: 25 | J53: ='Форма 2'!I131 -> 1349831.7 | K53: 0 | L53: 0 | M53: 0 | N53: =J53-K53-L53-M53-O53 -> 1306245.7 | O53: 43585.95 | P53: =J53/H53 -> 2253.4 | Q53: ='Форма 2'!K131 -> 7096 | R53: 12.2018 | S53: 1
A54: =A53+1 -> 19 | B54: 6076 | C54: г. Северск, ул. Комсомольская, д. 26 | D54: 1953 | E54: К | F54: ПСД, СМР (н) | G54: 1237.6 | H54: 529.9 | I54: 25 | J54: ='Форма 2'!I134 -> 1194076.7 | K54: 0 | L54: 0 | M54: 0 | N54: =J54-K54-L54-M54-O54 -> 1155520 | O54: 38556.63 | P54: =J54/H54 -> 2253.4 | Q54: ='Форма 2'!K134 -> 7096 | R54: 12.2018 | S54: 1
A55: =A54+1 -> 20 | B55: 6087 | C55: г. Северск, ул. Крупской, д. 14а | D55: 1964 | E55: ХВС, ГВС, ВО | F55: ПСД | G55: 6557 | H55: 2447.2 | I55: 221 | J55: ='Форма 2'!I137 -> 141937.6 | K55: 0 | L55: 0 | M55: 0 | N55: =J55-K55-L55-M55-O55 -> 129829.23 | O55: 12108.37 | P55: =J55/H55 -> 58 | Q55: ='Форма 2'!K137 -> 58 | R55: 12.2017 | S55: 1
A56: =A55+1 -> 21 | B56: 6139 | C56: г. Северск, ул. Ленина, д. 6 | D56: 1954 | E56: К | F56: ПСД, СМР (н) | G56: 2337.1 | H56: 2152.6 | I56: 67 | J56: ='Форма 2'!I141 -> 3189866.5 | K56: 0 | L56: 0 | M56: 0 | N56: =J56-K56-L56-M56-O56 -> 3081429.4 | O56: 108437.13 | P56: =J56/H56 -> 1481.87 | Q56: ='Форма 2'!K141 -> 4793 | R56: 12.2018 | S56: 1
A57: =A56+1 -> 22 | B57: 6141 | C57: г. Северск, ул. Ленина, д. 10 | D57: 1954 | E57: К | F57: СМР | G57: 2567.3 | H57: 2033.7 | I57: 78 | J57: ='Форма 2'!I144 -> 7587550 | K57: 0 | L57: 0 | M57: 0 | N57: =J57-K57-L57-M57-O57 -> 7349351.2 | O57: 238198.8 | P57: =J57/H57 -> 3730.91 | Q57: ='Форма 2'!K144 -> 4728 | R57: 12.2017 | S57: 1
A58: =A57+1 -> 23 | B58: 6147 | C58: г. Северск, ул. Ленина, д. 22 | D58: 1954 | E58: К | F58: ПСД, СМР (н) | G58: 2576.3 | H58: 2345.3 | I58: 91 | J58: ='Форма 2'!I147 -> 3471742.9 | K58: 0 | L58: 0 | M58: 0 | N58: =J58-K58-L58-M58-O58 -> 3353598.5 | O58: 118144.38 | P58: =J58/H58 -> 1480.3 | Q58: ='Форма 2'!K147 -> 4807 | R58: 12.2018 | S58: 1
A59: =A58+1 -> 24 | B59: 6152 | C59: г. Северск, ул. Ленина, д. 34 | D59: 1957 | E59: К | F59: ПСД | G59: 2850.4 | H59: 2611.6 | I59: 115 | J59: ='Форма 2'!I150 -> 304691.3 | K59: 0 | L59: 0 | M59: 0 | N59: =J59-K59-L59-M59-O59 -> 298654.6 | O59: 6036.7 | P59: =J59/H59 -> 116.67 | Q59: ='Форма 2'!K150 -> 164 | R59: 12.2017 | S59: 1
A60: =A59+1 -> 25 | B60: 6173 | C60: г. Северск, ул. Ленина, д. 96 | D60: 1972 | E60: К | F60: СМР | G60: 5780.43 | H60: 4411.36 | I60: 235 | J60: ='Форма 2'!I152 -> 9260390.3 | K60: 0 | L60: 0 | M60: 0 | N60: =J60-K60-L60-M60-O60 -> 8949230.4 | O60: 311159.93 | P60: =J60/H60 -> 2099.21 | Q60: ='Форма 2'!K152 -> 2831 | R60: 12.2017 | S60: 1
A61: =A60+1 -> 26 | B61: 6177 | C61: г. Северск, ул. Ленина, д. 104 | D61: 1972 | E61: К | F61: СМР | G61: 5918.67 | H61: 4412.43 | I61: 242 | J61: ='Форма 2'!I155 -> 8877422.7 | K61: 0 | L61: 0 | M61: 0 | N61: =J61-K61-L61-M61-O61 -> 8598729.7 | O61: 278692.99 | P61: =J61/H61 -> 2011.91 | Q61: ='Форма 2'!K155 -> 2831 | R61: 12.2017 | S61: 1
A62: =A61+1 -> 27 | B62: 6187 | C62: г. Северск, ул. Ленинградская, д. 6 | D62: 1989 | E62: ЛО | F62: ПСД, СМР | G62: 9113.9 | H62: 8136.8 | I62: 450 | J62: ='Форма 2'!I158 -> 1587200.3 | K62: 0 | L62: 0 | M62: 0 | N62: =J62-K62-L62-M62-O62 -> 1531894 | O62: 55306.34 | P62: =J62/H62 -> 195.06 | Q62: ='Форма 2'!K158 -> 217.53 | R62: 12.2017 | S62: 1
A63: =A62+1 -> 28 | B63: 6207 | C63: г. Северск, ул. Леонтичука, д. 8 | D63: 1954 | E63: К | F63: ПСД | G63: 2235.7 | H63: 2063.3 | I63: 79 | J63: ='Форма 2'!I162 -> 195621.91 | K63: 0 | L63: 0 | M63: 0 | N63: =J63-K63-L63-M63-O63 -> 181185.09 | O63: 14436.82 | P63: =J63/H63 -> 94.81 | Q63: ='Форма 2'!K162 -> 164 | R63: 12.2017 | S63: 1
A64: =A63+1 -> 29 | B64: 6208 | C64: г. Северск, ул. Леонтичука, д. 9 | D64: 1954 | E64: ХВС, ГВС, ТС | F64: ПСД | G64: 1693 | H64: 1569.5 | I64: 53 | J64: ='Форма 2'!I164 -> 243272.5 | K64: 0 | L64: 0 | M64: 0 | N64: =J64-K64-L64-M64-O64 -> 241017.33 | O64: 2255.17 | P64: =J64/H64 -> 155 | Q64: ='Форма 2'!K164 -> 155 | R64: 12.2017 | S64: 1
A65: =A64+1 -> 30 | B65: 6234 | C65: г. Северск, ул. Маяковского, д. 14 | D65: 1954 | E65: ХВС, ГВС, ТС | F65: ПСД | G65: 2282.1 | H65: 2118.1 | I65: 73 | J65: ='Форма 2'!I168 -> 250553.61 | K65: 0 | L65: 0 | M65: 0 | N65: =J65-K65-L65-M65-O65 -> 247510.17 | O65: 3043.44 | P65: =J65/H65 -> 118.29 | Q65: ='Форма 2'!K168 -> 155 | R65: 12.2017 | S65: 1
A66: =A65+1 -> 31 | B66: 6244 | C66: г. Северск, ул. Мира, д. 10 | D66: 1951 | E66: ХВС, ГВС, ТС | F66: ПСД, СМР (н) | G66: 946.7 | H66: 520.5 | I66: 20 | J66: ='Форма 2'!I172 -> 637352.25 | K66: 0 | L66: 0 | M66: 0 | N66: =J66-K66-L66-M66-O66 -> 629301.02 | O66: 8051.23 | P66: =J66/H66 -> 1224.5 | Q66: ='Форма 2'!K172 -> 3720 | R66: 12.2018 | S66: 1
A67: =A66+1 -> 32 | B67: 6296 | C67: г. Северск, ул. Первомайская, д. 31 | D67: 1953 | E67: К | F67: ПСД, СМР (н) | G67: 1600.5 | H67: 1473.9 | I67: 51 | J67: ='Форма 2'!I179 -> 2204492.3 | K67: 0 | L67: 0 | M67: 0 | N67: =J67-K67-L67-M67-O67 -> 2130340.4 | O67: 74151.93 | P67: =J67/H67 -> 1495.69 | Q67: ='Форма 2'!K179 -> 4807 | R67: 12.2018 | S67: 1
A68: =A67+1 -> 33 | B68: 6310 | C68: г. Северск, ул. Победы, д. 2 | D68: 1988 | E68: ЛО | F68: ПСД, СМР | G68: 19675.9 | H68: 17228.8 | I68: 809 | J68: ='Форма 2'!I182 -> 15600627 | K68: 0 | L68: 0 | M68: 0 | N68: =J68-K68-L68-M68-O68 -> 15102870 | O68: 497757.06 | P68: =J68/H68 -> 905.5 | Q68: ='Форма 2'!K182 -> 924.6 | R68: 12.2017 | S68: 1
A69: =A68+1 -> 34 | B69: 6311 | C69: г. Северск, ул. Победы, д. 4 | D69: 1989 | E69: ЛО | F69: ПСД, СМР | G69: 2742.2 | H69: 2415.9 | I69: 115 | J69: ='Форма 2'!I210 -> 1733403 | K69: 0 | L69: 0 | M69: 0 | N69: =J69-K69-L69-M69-O69 -> 1678096.7 | O69: 55306.34 | P69: =J69/H69 -> 717.5 | Q69: ='Форма 2'!K210 -> 732.63 | R69: 12.2017 | S69: 1
A70: =A69+1 -> 35 | B70: 6315 | C70: г. Северск, ул. Победы, д. 6а | D70: 1989 | E70: ЛО | F70: ПСД, СМР | G70: 5594.4 | H70: 4642.1 | I70: 195 | J70: ='Форма 2'!I214 -> 1708823 | K70: 0 | L70: 0 | M70: 0 | N70: =J70-K70-L70-M70-O70 -> 1653516.7 | O70: 55306.34 | P70: =J70/H70 -> 368.11 | Q70: ='Форма 2'!K214 -> 375.99 | R70: 12.2017 | S70: 1
A71: =A70+1 -> 36 | B71: 6321 | C71: г. Северск, ул. Победы, д. 14 | D71: 1988, 1989 | E71: ЛО | F71: ПСД, СМР | G71: 11835.3 | H71: 10603.9 | I71: 483 | J71: ='Форма 2'!I218 -> 10400418 | K71: 0 | L71: 0 | M71: 0 | N71: =J71-K71-L71-M71-O71 -> 10068580 | O71: 331838.04 | P71: =J71/H71 -> 980.81 | Q71: ='Форма 2'!K218 -> 1001.5 | R71: 12.2017 | S71: 1
A72: =A71+1 -> 37 | B72: 6343 | C72: г. Северск, ул. Пушкина, д. 3 | D72: 1951 | E72: К | F72: ПСД | G72: 964.5 | H72: 877.1 | I72: 30 | J72: ='Форма 2'!I237 -> 107835.6 | K72: 0 | L72: 0 | M72: 0 | N72: =J72-K72-L72-M72-O72 -> 94268.38 | O72: 13567.22 | P72: =J72/H72 -> 122.95 | Q72: ='Форма 2'!K237 -> 178 | R72: 12.2017 | S72: 1
A73: =A72+1 -> 38 | B73: 6349 | C73: г. Северск, ул. Пушкина, д. 9 | D73: 1952 | E73: К | F73: СМР | G73: 978.9 | H73: 889.1 | I73: 38 | J73: ='Форма 2'!I239 -> 4380814.2 | K73: 0 | L73: 0 | M73: 0 | N73: =J73-K73-L73-M73-O73 -> 4242951.9 | O73: 137862.38 | P73: =J73/H73 -> 4927.25 | Q73: ='Форма 2'!K239 -> 7066 | R73: 12.2017 | S73: 1
A74: =A73+1 -> 39 | B74: 6351 | C74: г. Северск, ул. Пушкина, д. 10а | D74: 1953 | E74: ХВС, ГВС, ТС | F74: ПСД | G74: 1538 | H74: 899.1 | I74: 43 | J74: ='Форма 2'!I242 -> 139360.5 | K74: 0 | L74: 0 | M74: 0 | N74: =J74-K74-L74-M74-O74 -> 125452.98 | O74: 13907.52 | P74: =J74/H74 -> 155 | Q74: ='Форма 2'!K242 -> 155 | R74: 12.2017 | S74: 1
A75: =A74+1 -> 40 | B75: 6354 | C75: г. Северск, ул. Свердлова, д. 3 | D75: 1957 | E75: К | F75: ПСД, СМР (н) | G75: 4033 | H75: 2328 | I75: 110 | J75: ='Форма 2'!I246 -> 3447304.2 | K75: 0 | L75: 0 | M75: 0 | N75: =J75-K75-L75-M75-O75 -> 3330031.3 | O75: 117272.89 | P75: =J75/H75 -> 1480.8 | Q75: ='Форма 2'!K246 -> 4807 | R75: 12.2018 | S75: 1
A76: =A75+1 -> 41 | B76: 6356 | C76: г. Северск, ул. Свердлова, д. 5 | D76: 1957 | E76: К | F76: ПСД, СМР (н) | G76: 4296 | H76: 2350 | I76: 107 | J76: ='Форма 2'!I249 -> 3479058 | K76: 0 | L76: 0 | M76: 0 | N76: =J76-K76-L76-M76-O76 -> 3360676.9 | O76: 118381.14 | P76: =J76/H76 -> 1480.45 | Q76: ='Форма 2'!K249 -> 4807 | R76: 12.2018 | S76: 1
A77: =A76+1 -> 42 | B77: 6403 | C77: г. Северск, ул. Солнечная, д. 3 | D77: 1971 | E77: К | F77: СМР | G77: 5724.95 | H77: 4363.92 | I77: 232 | J77: ='Форма 2'!I252 -> 9244493.6 | K77: 0 | L77: 0 | M77: 0 | N77: =J77-K77-L77-M77-O77 -> 8934084.3 | O77: 310409.24 | P77: =J77/H77 -> 2118.39 | Q77: ='Форма 2'!K252 -> 2831 | R77: 12.2017 | S77: 1
A78: =A77+1 -> 43 | B78: 6420 | C78: г. Северск, ул. Строителей, д. 3 | D78: 1955 | E78: К | F78: ПСД, СМР (н) | G78: 882 | H78: 486 | I78: 33 | J78: ='Форма 2'!I255 -> 1095152.4 | K78: 0 | L78: 0 | M78: 0 | N78: =J78-K78-L78-M78-O78 -> 1059790 | O78: 35362.37 | P78: =J78/H78 -> 2253.4 | Q78: ='Форма 2'!K255 -> 7096 | R78: 12.2018 | S78: 1
A79: =A78+1 -> 44 | B79: 6476 | C79: г. Северск, ул. Транспортная, д. 100 | D79: 1957 | E79: К | F79: ПСД | G79: 905.5 | H79: 525 | I79: 24 | J79: ='Форма 2'!I258 -> 86451.59 | K79: 0 | L79: 0 | M79: 0 | N79: =J79-K79-L79-M79-O79 -> 48251.49 | O79: 38200.1 | P79: =J79/H79 -> 164.67 | Q79: ='Форма 2'!K258 -> 178 | R79: 12.2018 | S79: 1
A80: =A79+1 -> 45 | B80: 6482 | C80: г. Северск, ул. Тупиковая, д. 10 | D80: 1955 | E80: ХВС, ГВС | F80: ПСД | G80: 1442 | H80: 892.1 | I80: 58 | J80: ='Форма 2'!I260 -> 33899.8 | K80: 0 | L80: 0 | M80: 0 | N80: =J80-K80-L80-M80-O80 -> 0 | O80: 33899.8 | P80: =J80/H80 -> 38 | Q80: ='Форма 2'!K260 -> 38 | R80: 12.2017 | S80: 1
A81: =A80+1 -> 46 | B81: 6514 | C81: пос. Самусь, ул. Ленина, д. 7 | D81: 1957 | E81: ХВС, ГВС, ТС | F81: ПСД | G81: 481.3 | H81: 432.5 | I81: 19 | J81: ='Форма 2'!I263 -> 67037.5 | K81: 0 | L81: 0 | M81: 0 | N81: =J81-K81-L81-M81-O81 -> 62873.8 | O81: 4163.7 | P81: =J81/H81 -> 155 | Q81: ='Форма 2'!K263 -> 155 | R81: 12.2017 | S81: 1
A82: =A81+1 -> 47 | B82: 6516 | C82: пос. Самусь, ул. Ленина, д. 9 | D82: 1957 | E82: ХВС, ГВС, ТС | F82: ПСД | G82: 471.9 | H82: 424.9 | I82: 17 | J82: ='Форма 2'!I267 -> 65859.5 | K82: 0 | L82: 0 | M82: 0 | N82: =J82-K82-L82-M82-O82 -> 61768.96 | O82: 4090.54 | P82: =J82/H82 -> 155 | Q82: ='Форма 2'!K267 -> 155 | R82: 12.2017 | S82: 1
A83: =A82+1 -> 48 | B83: 6517 | C83: пос. Самусь, ул. Ленина, д. 11 | D83: 1956 | E83: ХВС, ТС, ВО | F83: ПСД | G83: 341.69 | H83: 315.09 | I83: 18 | J83: ='Форма 2'!I271 -> 49469.13 | K83: 0 | L83: 0 | M83: 0 | N83: =J83-K83-L83-M83-O83 -> 35193.89 | O83: 14275.24 | P83: =J83/H83 -> 157 | Q83: ='Форма 2'!K271 -> 157 | R83: 12.2017 | S83: 1
A84: =A83+1 -> 49 | B84: 6524 | C84: пос. Самусь, ул. Ленина, д. 20а | D84: 1930 | E84: ТС | F84: ПСД | G84: 675.65 | H84: 536.63 | I84: 38 | J84: ='Форма 2'!I275 -> 62785.71 | K84: 0 | L84: 0 | M84: 0 | N84: =J84-K84-L84-M84-O84 -> 49144.47 | O84: 13641.24 | P84: =J84/H84 -> 117 | Q84: ='Форма 2'!K275 -> 117 | R84: 12.2017 | S84: 1
A85: Итого по городскому округу Стрежевой | D85: Х | E85: Х | F85: Х | G85: =SUM(G86:G101) -> 87218.9 | H85: =SUM(H86:H101) -> 72009.69 | I85: =SUM(I86:I101) -> 3180 | J85: =SUM(J86:J101) -> 60922928 | K85: =SUM(K86:K101) -> 0 | L85: =SUM(L86:L101) -> 0 | M85: =SUM(M86:M101) -> 0 | N85: =SUM(N86:N101) -> 58965109 | O85: =SUM(O86:O101) -> 1957818.7 | P85: Х | Q85: Х | R85: Х | S85: Х
A86: 1 | B86: 5082 | C86: г. Стрежевой, мкр. 1-й, д. 146 | D86: 1971 | E86: К | F86: СМР | G86: 772.9 | H86: 717.5 | I86: 34 | J86: ='Форма 2'!I278 -> 3338119.9 | K86: 0 | L86: 0 | M86: 0 | N86: =J86-K86-L86-M86-O86 -> 3234868.8 | O86: 103251.11 | P86: =J86/H86 -> 4652.43 | Q86: ='Форма 2'!K278 -> 7539 | R86: 12.2017 | S86: 1
A87: =A86+1 -> 2 | B87: 5083 | C87: г. Стрежевой, мкр. 1-й, д. 148 | D87: 1969 | E87: К | F87: СМР | G87: 774.1 | H87: 712.5 | I87: 35 | J87: ='Форма 2'!I281 -> 3137639 | K87: 0 | L87: 0 | M87: 0 | N87: =J87-K87-L87-M87-O87 -> 3040588.9 | O87: 97050.06 | P87: =J87/H87 -> 4403.7 | Q87: ='Форма 2'!K281 -> 7539 | R87: 12.2017 | S87: 1
A88: =A87+1 -> 3 | B88: 5112 | C88: г. Стрежевой, мкр. 2-й, д. 223 | D88: 1973 | E88: ЭС | F88: СМР | G88: 806.9 | H88: 745.9 | I88: 48 | J88: ='Форма 2'!I284 -> 495210.47 | K88: 0 | L88: 0 | M88: 0 | N88: =J88-K88-L88-M88-O88 -> 482522.01 | O88: 12688.46 | P88: =J88/H88 -> 663.91 | Q88: ='Форма 2'!K284 -> 664 | R88: 12.2017 | S88: 1
A89: =A88+1 -> 4 | B89: 5130 | C89: г. Стрежевой, мкр. 3-й, д. 302 | D89: 1977 | E89: К | F89: ПСД | G89: 8894 | H89: 7561.6 | I89: 303 | J89: ='Форма 2'!I287 -> 609463.23 | K89: 0 | L89: 0 | M89: 0 | N89: =J89-K89-L89-M89-O89 -> 568541.54 | O89: 40921.69 | P89: =J89/H89 -> 80.6 | Q89: ='Форма 2'!K287 -> 167 | R89: 12.2017 | S89: 1
A90: =A89+1 -> 5 | B90: 5131 | C90: г. Стрежевой, мкр. 3-й, д. 303 | D90: 1978 | E90: К | F90: ПСД | G90: 9757.6 | H90: 8069.69 | I90: 307 | J90: ='Форма 2'!I289 -> 620176.25 | K90: 0 | L90: 0 | M90: 0 | N90: =J90-K90-L90-M90-O90 -> 576504.89 | O90: 43671.36 | P90: =J90/H90 -> 76.85 | Q90: ='Форма 2'!K289 -> 167 | R90: 12.2017 | S90: 1
A91: =A90+1 -> 6 | B91: 5133 | C91: г. Стрежевой, мкр. 3-й, д. 305 | D91: 1979 | E91: К | F91: ПСД | G91: 10531.4 | H91: 8595.5 | I91: 406 | J91: ='Форма 2'!I291 -> 643754.97 | K91: 0 | L91: 0 | M91: 0 | N91: =J91-K91-L91-M91-O91 -> 597238.04 | O91: 46516.93 | P91: =J91/H91 -> 74.89 | Q91: ='Форма 2'!K291 -> 167 | R91: 12.2017 | S91: 1
A92: =A91+1 -> 7 | B92: 5163 | C92: г. Стрежевой, мкр. 4-й, д. 410 | D92: 1986 | E92: К | F92: СМР | G92: 3269 | H92: 2678.3 | I92: 123 | J92: ='Форма 2'!I293 -> 5080960.7 | K92: 0 | L92: 0 | M92: 0 | N92: =J92-K92-L92-M92-O92 -> 4923801.9 | O92: 157158.79 | P92: =J92/H92 -> 1897.08 | Q92: ='Форма 2'!K293 -> 3067 | R92: 12.2017 | S92: 1
A93: =A92+1 -> 8 | B93: 5166 | C93: г. Стрежевой, мкр. 4-й, д. 413 | D93: 1987 | E93: ЛО | F93: ПСД, СМР | G93: 10422.4 | H93: 8014.4 | I93: 345 | J93: ='Форма 2'!I296 -> 7002104 | K93: 0 | L93: 0 | M93: 0 | N93: =J93-K93-L93-M93-O93 -> 6782453 | O93: 219650.97 | P93: =J93/H93 -> 873.69 | Q93: ='Форма 2'!K296 -> 885.96 | R93: 12.2017 | S93: 1
A94: =A93+1 -> 9 | B94: 5167 | C94: г. Стрежевой, мкр. 4-й, д. 414 | D94: 1987 | E94: ЛО | F94: ПСД, СМР | G94: 5000.8 | H94: 3743 | I94: 158 | J94: ='Форма 2'!I309 -> 3501052 | K94: 0 | L94: 0 | M94: 0 | N94: =J94-K94-L94-M94-O94 -> 3391226.5 | O94: 109825.48 | P94: =J94/H94 -> 935.36 | Q94: ='Форма 2'!K309 -> 948.49 | R94: 12.2017 | S94: 1
A95: =A94+1 -> 10 | B95: 5180 | C95: г. Стрежевой, мкр. 4-й, д. 426 | D95: 1988 | E95: ЛО | F95: ПСД, СМР | G95: 10385.8 | H95: 7928 | I95: 363 | J95: ='Форма 2'!I316 -> 7002104 | K95: 0 | L95: 0 | M95: 0 | N95: =J95-K95-L95-M95-O95 -> 6782453 | O95: 219650.97 | P95: =J95/H95 -> 883.21 | Q95: ='Форма 2'!K316 -> 895.61 | R95: 12.2017 | S95: 1
A96: =A95+1 -> 11 | B96: 5194 | C96: г. Стрежевой, мкр. 5-й, д. 516 | D96: 1989 | E96: ЛО | F96: ПСД, СМР | G96: 11693.5 | H96: 10125.4 | I96: 445 | J96: ='Форма 2'!I329 -> 8752630 | K96: 0 | L96: 0 | M96: 0 | N96: =J96-K96-L96-M96-O96 -> 8478066.3 | O96: 274563.71 | P96: =J96/H96 -> 864.42 | Q96: ='Форма 2'!K329 -> 876.56 | R96: 12.2017 | S96: 1
A97: =A96+1 -> 12 | B97: 5196 | C97: г. Стрежевой, мкр. 5-й, д. 518 | D97: 1989 | E97: ЛО | F97: ПСД, СМР | G97: 11612.1 | H97: 10201.1 | I97: 466 | J97: ='Форма 2'!I345 -> 8752630 | K97: 0 | L97: 0 | M97: 0 | N97: =J97-K97-L97-M97-O97 -> 8478066.3 | O97: 274563.71 | P97: =J97/H97 -> 858.01 | Q97: ='Форма 2'!K345 -> 870.06 | R97: 12.2017 | S97: 1
A98: =A97+1 -> 13 | B98: 5210 | C98: г. Стрежевой, ул. Викулова, д. 10 | D98: 1976 | E98: ТС, ХВС, ВО | F98: ПСД, СМР (н) | G98: 1063.2 | H98: 990.3 | I98: 25 | J98: ='Форма 2'!I361 -> 1240947.3 | K98: 0 | L98: 0 | M98: 0 | N98: =J98-K98-L98-M98-O98 -> 1221067.5 | O98: 19879.8 | P98: =J98/H98 -> 1253.1 | Q98: ='Форма 2'!K361 -> 3923 | R98: 12.2018 | S98: 1
A99: =A98+1 -> 14 | B99: 5234 | C99: г. Стрежевой, ул. Новая, д. 7а | D99: 1986 | E99: К | F99: СМР | G99: 746.7 | H99: 665.8 | I99: 44 | J99: ='Форма 2'!I368 -> 3585081.9 | K99: 0 | L99: 0 | M99: 0 | N99: =J99-K99-L99-M99-O99 -> 3469244 | O99: 115837.84 | P99: =J99/H99 -> 5384.62 | Q99: ='Форма 2'!K368 -> 7539 | R99: 12.2017 | S99: 1
A100: =A99+1 -> 15 | B100: 5235 | C100: г. Стрежевой, ул. Новая, д. 8 | D100: 1986 | E100: К | F100: СМР | G100: 773.5 | H100: 681.6 | I100: 42 | J100: ='Форма 2'!I371 -> 3747269.7 | K100: 0 | L100: 0 | M100: 0 | N100: =J100-K100-L100-M100-O100 -> 3630792.9 | O100: 116476.8 | P100: =J100/H100 -> 5497.75 | Q100: ='Форма 2'!K371 -> 7539 | R100: 12.2017 | S100: 1
...

Sheet Форма 2
A1: 2. Перечень работ и услуг по капитальному ремонту общего имущества в многоквартирных домах, включенных в краткосрочный план реализации в 2017 - 2019 гг. региональной программы капитального ремонта общего имущества в многоквартирных домах
A3: № п/п | B3: Код МКД | C3: Адрес МКД | D3: Площадь помещений МКД, кв. м | E3: Материал стен <4> | F3: Количество этажей | G3: Вид элемента строительных конструкций, оборудования, инженерных систем | H3: Вид работы (услуги) по капитальному ремонту | I3: Стоимость работы (услуги), руб. | J3: Удельная стоимость работы (услуги), руб./кв. м | K3: Предельная стоимость работы (услуги), руб./кв. м
A4: 1 | B4: 2 | C4: 3 | D4: 4 | E4: 5 | F4: 6 | G4: 7 | H4: 8 | I4: 9 | J4: 10 | K4: 11
A5: 2017 год | D5: =D6+D12+D48+D56+D63+D277+D377+D1050+D1054+D1066+D1072+D1131+D1137+D1143+D1149+D1155+D1188+D1192 -> 860470.56 | I5: =I6+I12+I48+I56+I63+I277+I377+I1050+I1054+I1066+I1072+I1131+I1137+I1143+I1149+I1155+I1188+I1192 -> 8.938684e+08
A6: Итого по Александровскому району | D6: =D7+D9 -> 1011.4 | I6: =I7+I9 -> 1910632
A7: 1 | B7: 4743 | C7: с. Александровское, ул. Таежная, д. 19а | D7: 498 | E7: Д | F7: 2 | G7: крыша | H7: Итого | I7: =SUM(I8:I8) -> 88146 | J7: =SUM(J8:J8) -> 177 | K7: =SUM(K8:K8) -> 177
A8: 5 | H8: разработка проектной документации, включая проведение проверки достоверности определения сметной стоимости (ремонт) | I8: =K8*D7 -> 88146 | J8: =I8/D7 -> 177 | K8: =163+14 -> 177
A9: =A7+1 -> 2 | B9: 4745 | C9: с. Александровское, ул. Таежная, д. 28 | D9: 513.4 | E9: Д | F9: 2 | G9: крыша | H9: Итого | I9: =SUM(I10:I11) -> 1822486 | J9: =SUM(J10:J11) -> 3549.84 | K9: =SUM(K10:K11) -> 7539
A10: 5 | H10: ремонт | I10: 1784301.9 | J10: =I10/D9+0.01 -> 3475.47 | K10: 7381
A11: 6 | H11: строительный контроль | I11: =I10*0.0214 -> 38184.06 | J11: =I11/D9 -> 74.37 | K11: 158
A12: Итого по Асиновскому району | D12: =D13+D15+D18+D21+D24+D26+D28+D31+D34+D37+D39+D42+D45 -> 17526.62 | I12: =I13+I15+I18+I21+I24+I26+I28+I31+I34+I37+I39+I42+I45 -> 25094106
A13: 1 | B13: 4395 | C13: г. Асино, ул. АВПУ, д. 27 | D13: 846 | E13: Пр | F13: 2 | G13: крыша | H13: Итого | I13: =I14 -> 85404.68 | J13: =J14 -> 100.95 | K13: =K14 -> 178
A14: 29 | H14: разработка проектной документации, включая проведение проверки достоверности определения сметной стоимости (ремонт) | I14: =74406.68+D13*13 -> 85404.68 | J14: =I14/D13 -> 100.95 | K14: =164+14 -> 178
A15: 2 | B15: 4504 | C15: г. Асино, ул. АВПУ, д. 33 | D15: 988.9 | E15: К | F15: 2 | G15: крыша | H15: Итого | I15: =I16+I17 -> 5224890.6 | J15: =J16+J17 -> 5283.54 | K15: =K16+K17 -> 7066
A16: 9 | H16: ремонт | I16: 5141947.7 | J16: =I16/D15+0.01 -> 5199.67 | K16: 6918
A17: 10 | H17: строительный контроль | I17: 82942.97 | J17: =I17/D15 -> 83.87 | K17: 148
A18: =A15+1 -> 3 | B18: 4559 | C18: г. Асино, ул. им. В.В.Липатова, д. 27 | D18: 887.4 | E18: К | F18: 2 | G18: крыша | H18: Итого | I18: =I19+I20 -> 3994513.5 | J18: =J19+J20 -> 4501.37 | K18: =K19+K20 -> 7066
A19: 15 | H19: ремонт | I19: 3922562.5 | J19: =I19/D18 -> 4420.29 | K19: 6918
A20: 16 | H20: строительный контроль | I20: 71951 | J20: =I20/D18 -> 81.08 | K20: 148
A21: =A18+1 -> 4 | B21: 4560 | C21: г. Асино, ул. им. В.В.Липатова, д. 34 | D21: 1535.88 | E21: К | F21: 3 | G21: крыша | H21: Итого | I21: =I22+I23 -> 2306895.3 | J21: =J22+J23 -> 1502 | K21: =K22+K23 -> 4793
H22: разработка проектной документации, включая проведение проверки достоверности определения сметной стоимости (ремонт) | I22: =154052.33+D21*13 -> 174018.77 | J22: =I22/D21 -> 113.3 | K22: =151+13 -> 164
H23: ремонт | I23: =K23*D21*0.3 -> 2132876.6 | J23: =I23/D21 -> 1388.7 | K23: 4629
A24: =A21+1 -> 5 | B24: 4405 | C24: г. Асино, ул. им. Ивана Черных, д. 18 | D24: 1765.93 | E24: К | F24: 3 | G24: крыша | H24: Итого | I24: =I25 -> 155158.57 | J24: =J25 -> 87.86 | K24: =K25 -> 164
A25: 29 | H25: разработка проектной документации, включая проведение проверки достоверности определения сметной стоимости (ремонт) | I25: =132201.48+D24*13 -> 155158.57 | J25: =I25/D24 -> 87.86 | K25: =151+13 -> 164
A26: =A24+1 -> 6 | B26: 4569 | C26: г. Асино, ул. им. Ленина, д. 31а | D26: 4033.01 | E26: К | F26: 5 | G26: крыша | H26: Итого | I26: =I27 -> 259929.11 | J26: =J27 -> 64.45 | K26: =K27 -> 164
A27: 29 | H27: разработка проектной документации, включая проведение проверки достоверности определения сметной стоимости (ремонт) | I27: =207499.98+D26*13 -> 259929.11 | J27: =I27/D26 -> 64.45 | K27: =151+13 -> 164
A28: =A26+1 -> 7 | B28: 4590 | C28: г. Асино, ул. им. Чернышевского, д. 6а | D28: 429.9 | E28: Пр | F28: 2 | G28: крыша | H28: Итого | I28: =I29+I30 -> 2389740.5 | J28: =J29+J30 -> 5558.83 | K28: =K29+K30 -> 7066
A29: 25 | H29: ремонт | I29: 2351804.4 | J29: =I29/D28+0.01 -> 5470.59 | K29: 6918
A30: 26 | H30: строительный контроль | I30: 37936.14 | J30: =I30/D28 -> 88.24 | K30: 148
A31: =A28+1 -> 8 | B31: 4433 | C31: г. Асино, ул. Лесозаводская, д. 31 | D31: 493.5 | E31: Д | F31: 2 | H31: Итого | I31: =I32+I33 -> 2209136.2 | J31: =J32+J33 -> 4476.47 | K31: =K32+K33 -> 7066
A32: 29 | G32: крыша | H32: ремонт | I32: 2175876.4 | J32: =I32/D31 -> 4409.07 | K32: 6918
H33: строительный контроль | I33: 33259.82 | J33: =I33/D31 -> 67.4 | K33: 148
A34: =A31+1 -> 9 | B34: 4588 | C34: г. Асино, ул. Тимирязева, д. 17/2 | D34: 517.3 | E34: Пр | F34: 2 | G34: крыша | H34: Итого | I34: =I35+I36 -> 2453590.9 | J34: =J35+J36 -> 4743.07 | K34: =K35+K36 -> 7066
A35: 43 | H35: ремонт | I35: 2416650.7 | J35: =I35/D34 -> 4671.66 | K35: 6918
A36: 44 | H36: строительный контроль | I36: 36940.23 | J36: =I36/D34 -> 71.41 | K36: 148
A37: =A34+1 -> 10 | B37: 4589 | C37: г. Асино, ул. Транспортная, д. 1 | D37: 4046.4 | E37: К | F37: 5 | G37: крыша | H37: Итого | I37: =I38 -> 270106.13 | J37: =J38 -> 66.75 | K37: =K38 -> 164
H38: разработка проектной документации, включая проведение проверки достоверности определения сметной стоимости (ремонт) | I38: =217502.93+D37*13 -> 270106.13 | J38: =I38/D37 -> 66.75 | K38: =151+13 -> 164
A39: =A37+1 -> 11 | B39: 4540 | C39: г. Асино, ул. Транспортная, д. 12 | D39: 892.04 | E39: К | F39: 2 | G39: крыша | H39: Итого | I39: =I40+I41 -> 1942612.5 | J39: =J40+J41 -> 2177.72 | K39: =K40+K41 -> 7082
H40: разработка проектной документации, включая проведение проверки достоверности определения сметной стоимости (ремонт) | I40: =79676.12+D39*13 -> 91272.64 | J40: =I40/D39 -> 102.32 | K40: =151+13 -> 164
H41: ремонт | I41: =K41*D39*0.3 -> 1851339.8 | J41: =I41/D39 -> 2075.4 | K41: 6918
A42: =A39+1 -> 12 | B42: 4625 | C42: п. Светлый, ул. Сидоренко, д. 17 | D42: 368.98 | E42: К | F42: 2 | G42: крыша | H42: Итого | I42: =I43+I44 -> 2215558 | J42: =J43+J44 -> 6004.55 | K42: =K43+K44 -> 7066
A43: 47 | H43: ремонт | I43: 2186171 | J43: =I43/D42+0.01 -> 5924.91 | K43: 6918
A44: 48 | H44: строительный контроль | I44: 29386.98 | J44: =I44/D42 -> 79.64 | K44: 148
A45: =A42+1 -> 13 | B45: 4641 | C45: с. Ново-Кусково, ул. Библиотечная, д. 9 | D45: 721.38 | E45: К | F45: 2 | G45: крыша | H45: Итого | I45: =SUM(I46:I47) -> 1586570.3 | J45: =SUM(J46:J47) -> 2199.35 | K45: =SUM(K46:K47) -> 7082
H46: разработка проектной документации, включая проведение проверки достоверности определения сметной стоимости (ремонт) | I46: =80040.31+D45*13 -> 89418.25 | J46: =I46/D45 -> 123.95 | K46: =151+13 -> 164
H47: ремонт | I47: =D45*K47*0.3 -> 1497152.1 | J47: =I47/D45 -> 2075.4 | K47: 6918
A48: Итого по Верхнекетскому району | D48: =D49+D51+D53 -> 1873 | I48: =I49+I51+I53 -> 4205719.1
A49: 1 | B49: 6680 | C49: рп. Белый Яр, ул. Гагарина, д. 56 | D49: 329.1 | E49: Д | F49: 2 | G49: крыша | H49: Итого | I49: =I50 -> 58250.7 | J49: =J50 -> 177 | K49: =K50 -> 177
A50: 55 | H50: разработка проектной документации, включая проведение проверки достоверности определения сметной стоимости (ремонт) | I50: =K50*D49 -> 58250.7 | J50: =I50/D49 -> 177 | K50: =163+14 -> 177
A51: =A49+1 -> 2 | B51: 6692 | C51: рп. Белый Яр, ул. Космонавтов, д. 10 | D51: 329.6 | E51: Д | F51: 2 | G51: крыша | H51: Итого | I51: =I52 -> 58339.2 | J51: =J52 -> 177 | K51: =K52 -> 177
A52: 55 | H52: разработка проектной документации, включая проведение проверки достоверности определения сметной стоимости (ремонт) | I52: =K52*D51 -> 58339.2 | J52: =I52/D51 -> 177 | K52: =163+14 -> 177
A53: =A51+1 -> 3 | B53: 6704 | C53: рп. Белый Яр, ул. Российская, д. 1 | D53: 1214.3 | E53: К | F53: 3 | G53: крыша | H53: Итого | I53: =I54+I55 -> 4089129.2 | J53: =J54+J55 -> 3367.48 | K53: =K54+K55 -> 5354
A54: 55 | H54: ремонт | I54: 4033137.3 | J54: =I54/D53 -> 3321.37 | K54: 5242
A55: 56 | H55: строительный контроль | I55: 55991.83 | J55: =I55/D53 -> 46.11 | K55: 112
A56: Итого по городу Кедровому | D56: =D57+D60 -> 958.8 | I56: =I57+I60 -> 3338631.4
A57: 1 | B57: 5035 | C57: г. Кедровый, мкр. 1-й, д. 9 | D57: 473.5 | E57: Д | F57: 2 | G57: крыша | H57: Итого | I57: =I58+I59 -> 2178133.5 | J57: =J58+J59 -> 4600.07 | K57: =K58+K59 -> 7539
A58: 61 | H58: ремонт | I58: 2145531.5 | J58: =I58/D57 -> 4531.22 | K58: 7381
A59: 62 | H59: строительный контроль | I59: 32602.04 | J59: =I59/D57 -> 68.85 | K59: 158
A60: =A57+1 -> 2 | B60: 5036 | C60: г. Кедровый, мкр. 1-й, д. 10 | D60: 485.3 | E60: Д | F60: 2 | G60: крыша | H60: Итого | I60: =I61+I62 -> 1160497.9 | J60: =J61+J62 -> 2391.3 | K60: =K61+K62 -> 7558
H61: разработка проектной документации, включая проведение проверки достоверности определения сметной стоимости (ремонт) | I61: =D60*K61 -> 85898.1 | J61: =I61/D60 -> 177 | K61: =163+14 -> 177
H62: ремонт | I62: =D60*K62*0.3 -> 1074599.8 | J62: =I62/D60 -> 2214.3 | K62: 7381
A63: Итого по городской округ ЗАТО Северск | D63: =D64+D67+D74+D77+D84+D88+D91+D94+D100+D102+D105+D108+D115+D118+D120+D123+D128+D131+D134+D137+D141+D144+D147+D150+D152+D155+D158+D162+D164+D168+D172+D179+D182+D210+D214+D218+D237+D239+D242+D246+D249+D252+D255+D258+D260+D263+D267+D271+D275 -> 125577.43 | I63: =I64+I67+I74+I77+I84+I88+I91+I94+I100+I102+I105+I108+I115+I118+I120+I123+I128+I131+I134+I137+I141+I144+I147+I150+I152+I155+I158+I162+I164+I168+I172+I179+I182+I210+I214+I218+I237+I239+I242+I246+I249+I252+I255+I258+I260+I263+I267+I271+I275 -> 1.5151913e+08
A64: 1 | B64: 5969 | C64: г. Северск, пр-кт Коммунистический, д. 20 | D64: 4710.6 | E64: Пр | F64: 3 | G64: крыша | H64: Итого | I64: =I65+I66 -> 9824964.9 | J64: =J65+J66 -> 2085.71 | K64: =K65+K66 -> 4728
A65: 65 | H65: ремонт | I65: 9706017.7 | J65: =I65/D64 -> 2060.46 | K65: 4629
A66: 66 | H66: строительный контроль | I66: 118947.2 | J66: =I66/D64 -> 25.25 | K66: 99
A67: =A64+1 -> 2 | B67: 5981 | C67: г. Северск, пр-кт Коммунистический, д. 33 | D67: 3619.5 | E67: К | F67: 4 | H67: Итого | I67: =SUM(I68:I73) -> 3560356.3 | J67: =SUM(J68:J73) -> 983.66 | K67: =SUM(K68:K73) -> 3121
G68: внутридомовая инженерная система холодного водоснабжения | H68: разработка проектной документации, включая проведение проверки достоверности определения сметной стоимости | I68: =37495.98+D67*2 -> 44734.98 | J68: =I68/D67 -> 12.36 | K68: =19+2 -> 21
H69: ремонт | I69: =D67*K69*30/100 -> 502748.55 | J69: =I69/D67 -> 138.9 | K69: 463
G70: внутридомовая инженерная система горячего водоснабжения | H70: разработка проектной документации, включая проведение проверки достоверности определения сметной стоимости | I70: =30678.53+D67*1 -> 34298.03 | J70: =I70/D67 -> 9.48 | K70: =16+1 -> 17
H71: ремонт | I71: =D67*K71*30/100 -> 444112.65 | J71: =I71/D67 -> 122.7 | K71: 409
G72: внутридомовая инженерная система теплоснабжения | H72: разработка проектной документации, включая проведение проверки достоверности определения сметной стоимости | I72: =208209.48+D67*7 -> 233545.98 | J72: =I72/D67 -> 64.52 | K72: =85+7 -> 92
H73: ремонт | I73: =D67*K73*30/100 -> 2300916.1 | J73: =I73/D67 -> 635.7 | K73: 2119
A74: =A67+1 -> 3 | B74: 5996 | C74: г. Северск, пр-кт Коммунистический, д. 55 | D74: 4076.9 | E74: К | F74: 5 | G74: крыша | H74: Итого | I74: =I75+I76 -> 9245950.7 | J74: =J75+J76 -> 2267.89 | K74: =K75+K76 -> 2831
A75: 65 | H75: ремонт | I75: 9137425.5 | J75: =I75/D74 -> 2241.27 | K75: 2772
A76: 66 | H76: строительный контроль | I76: 108525.21 | J76: =I76/D74 -> 26.62 | K76: 59
A77: =A74+1 -> 4 | B77: 6025 | C77: г. Северск, пр-кт Коммунистический, д. 90 | D77: 3396.7 | E77: К | F77: 5 | H77: Итого | I77: =SUM(I78:I83) -> 8550752.3 | J77: =SUM(J78:J83) -> 2517.37 | K77: =SUM(K78:K83) -> 3055
G78: внутридомовая инженерная система теплоснабжения | H78: ремонт | I78: 7148459.6 | J78: =I78/D77+0.01 -> 2104.54 | K78: 2119
H79: строительный контроль | I79: 0 | J79: 0 | K79: 45
G80: внутридомовая инженерная система холодного водоснабжения | H80: ремонт | I80: 404393.95 | J80: =I80/D77 -> 119.05 | K80: 463
H81: строительный контроль | I81: 0 | J81: 0 | K81: 10
G82: внутридомовая инженерная система горячего водоснабжения | H82: ремонт | I82: 997898.74 | J82: =I82/D77 -> 293.78 | K82: 409
H83: строительный контроль | I83: 0 | J83: 0 | K83: 9
A84: =A77+1 -> 5 | B84: 6042 | C84: г. Северск, пр-кт Коммунистический, д. 117 | D84: 2322.8 | E84: К | F84: 9 | G84: лифтовое оборудование (подъезд № 1) | H84: Итого | I84: =SUM(I85:I87) -> 1733403 | J84: =SUM(J85:J87) -> 746.26 | K84: =SUM(K85:K87) -> 762
H85: разработка проектной документации, включая проведение проверки достоверности определения сметной стоимости | I85: 24580 | J85: =I85/D84 -> 10.58 | K85: =I85/D84 -> 10.58
H86: замена | I86: 1708823 | J86: =I86/D84+0.01 -> 735.68 | K86: =1708823/D84+0.01 -> 735.68
H87: строительный контроль | I87: 0 | J87: 0 | K87: =36569/D84 -> 15.74
A88: =A84+1 -> 6 | B88: 5833 | C88: г. Северск, ул. 40 лет Октября, д. 3 | D88: 2041.3 | E88: К | F88: 4 | G88: крыша | H88: Итого | I88: =I89+I90 -> 3035853 | J88: =J89+J90 -> 1487.22 | K88: =K89+K90 -> 4793
H89: разработка проектной документации, включая проведение проверки достоверности определения сметной стоимости (ремонт) | I89: =174562.84+D88*13 -> 201099.74 | J89: =I89/D88 -> 98.52 | K89: =151+13 -> 164
H90: ремонт | I90: =D88*K90*30/100 -> 2834753.3 | J90: =I90/D88 -> 1388.7 | K90: 4629
A91: =A88+1 -> 7 | B91: 5842 | C91: г. Северск, ул. Горького, д. 4 | D91: 911.5 | E91: Пр | F91: 2 | G91: крыша | H91: Итого | I91: =I92+I93 -> 2000669.6 | J91: =J92+J93 -> 2194.92 | K91: =K92+K93 -> 7096
H92: разработка проектной документации, включая проведение проверки достоверности определения сметной стоимости (ремонт) | I92: =96181.51+D91*14 -> 108942.51 | J92: =I92/D91 -> 119.52 | K92: =164+14 -> 178
H93: ремонт | I93: =D91*K93*30/100 -> 1891727.1 | J93: =I93/D91 -> 2075.4 | K93: 6918
A94: =A91+1 -> 8 | B94: 5862 | C94: г. Северск, ул. Ершова, д. 6 | D94: 2376.8 | E94: К | F94: 4 | H94: Итого | I94: =SUM(I95:I99) -> 315143.13 | J94: =SUM(J95:J99) -> 132.59 | K94: =SUM(K95:K99) -> 226
G95: внутридомовая инженерная система теплоснабжения | H95: разработка проектной документации, включая проведение проверки достоверности определения сметной стоимости | I95: =137167.74+D94*9 -> 158558.94 | J95: =I95/D94 -> 66.71 | K95: =108+9 -> 117
G96: внутридомовая инженерная система водоотведения | H96: разработка проектной документации, включая проведение проверки достоверности определения сметной стоимости | I96: =34755.38+D94*2 -> 39508.98 | J96: =I96/D94 -> 16.62 | K96: =18+2 -> 20
G97: коллективный (общедомовой) прибор учета потребления горячего водоснабжения, необходимый для предоставления горячего водоснабжения, узел управления и регулирования потребления горячего водоснабжения | H97: разработка проектной документации, включая проведение проверки достоверности определения сметной стоимости | I97: =40405.6+D94*4 -> 49912.8 | J97: =I97/D94 -> 21 | K97: =47+4 -> 51
G98: внутридомовая инженерная система холодного водоснабжения | H98: разработка проектной документации, включая проведение проверки достоверности определения сметной стоимости | I98: =36335.16+D94*2 -> 41088.76 | J98: =I98/D94 -> 17.29 | K98: =19+2 -> 21
G99: внутридомовая инженерная система горячего водоснабжения | H99: разработка проектной документации, включая проведение проверки достоверности определения сметной стоимости | I99: =23696.85+D94*1 -> 26073.65 | J99: =I99/D94 -> 10.97 | K99: =16+1 -> 17
A100: =A94+1 -> 9 | B100: 5869 | C100: г. Северск, ул. Калинина, д. 16 | D100: 2371.43 | E100: К | F100: 4 | G100: внутридомовая инженерная система горячего водоснабжения | H100: Итого | I100: =I101 -> 179497.86 | J100: =J101 -> 75.69 | K100: =K101 -> 409
H101: ремонт | I101: =598326.21*0.3 -> 179497.86 | J101: =I101/D100 -> 75.69 | K101: 409
...
