Workbook

Sheet форма 1
O1: Приложение к приказу Департамента ЖКХ и государственного жилищного надзора Томской области от №
A2: Краткосрочный план реализации в 2020 - 2022 гг. Региональной программы капитального ремонта общего имущества в многоквартирных домах, расположенных на территории Томской области
A3: 1. Перечень многоквартирных домов, включенных в Краткосрочный план реализации в 2020 - 2022 гг. Региональной программы капитального ремонта общего имущества в многоквартирных домах, расположенных на территории Томской области
A4: № п/п | B4: Код МКД | C4: Адрес МКД | D4: Год ввода в эксплуатацию | E4: Вид элемента строительных конструкций, оборудования, инженерных систем <1> | F4: Вид работы (услуги) по капитальному ремонту <2> | G4: Общая площадь МКД, всего | H4: Площадь помещений в МКД | I4: Количество жителей, зарегистрированных в МКД на дату утверждения краткосрочного плана | J4: Стоимость капитального ремонта | P4: Удельная стоимость капитального ремонта 1 кв. м общей площади помещений МКД | Q4: Предельная стоимость капитального ремонта 1 кв. м общей площади помещений МКД | R4: Плановая дата завершения работ | S4: Способ формирования фонда капитального ремонта многоквартирного дома <3>
J5: всего | K5: в том числе
K6: за счет средств Фонда | L6: за счет средств бюджета субъекта Российской Федерации | M6: за счет средств местного бюджета | N6: за счет средств собственников помещений в МКД | O6: за счет других не запрещенных законом источников
G7: кв. м | H7: кв. м | I7: чел. | J7: руб. | K7: руб. | L7: руб. | M7: руб. | N7: руб. | O7: руб. | P7: руб./кв. м | Q7: руб./кв. м
A8: 1 | B8: 2 | C8: 3 | D8: 4 | E8: 5 | F8: 6 | G8: 7 | H8: 8 | I8: 9 | J8: 10 | K8: 11 | L8: 12 | M8: 13 | N8: 14 | O8: 15 | P8: 16 | Q8: 17 | R8: 18 | S8: 19
A9: 2020 год
A10: Всего по Томской области | D10: Х | E10: Х | F10: Х | G10: =G11+G16+G25+G27+G32+G71+G86+G226+G230+G237+G244+G264+G271+G275+G280+G286+G299 -> 1243444.8 | H10: =H11+H16+H25+H27+H32+H71+H86+H226+H230+H237+H244+H264+H271+H275+H280+H286+H299 -> 1035927 | I10: =I11+I16+I25+I27+I32+I71+I86+I226+I230+I237+I244+I264+I271+I275+I280+I286+I299 -> 40018 | J10: =J11+J16+J25+J27+J32+J71+J86+J226+J230+J237+J244+J264+J271+J275+J280+J286+J299 -> 9.9325168e+08 | K10: =K11+K16+K25+K27+K32+K71+K86+K226+K230+K237+K244+K264+K271+K275+K280+K286+K299 -> 0 | L10: =L11+L16+L25+L27+L32+L71+L86+L226+L230+L237+L244+L264+L271+L275+L280+L286+L299 -> 0 | M10: =M11+M16+M25+M27+M32+M71+M86+M226+M230+M237+M244+M264+M271+M275+M280+M286+M299 -> 0 | N10: =N11+N16+N25+N27+N32+N71+N86+N226+N230+N237+N244+N264+N271+N275+N280+N286+N299 -> 9.656372e+08 | O10: =O11+O16+O25+O27+O32+O71+O86+O226+O230+O237+O244+O264+O271+O275+O280+O286+O299 -> 27614478 | P10: Х | Q10: Х | R10: Х | S10: Х
A11: Итого по Александровскому району | D11: Х | E11: Х | F11: Х | G11: =SUM(G12:G15) -> 1348.8 | H11: =SUM(H12:H15) -> 1222.7 | I11: =SUM(I12:I15) -> 68 | J11: =SUM(J12:J15) -> 1315886.2 | K11: =SUM(K12:K15) -> 0 | L11: =SUM(L12:L15) -> 0 | M11: =SUM(M12:M15) -> 0 | N11: =SUM(N12:N15) -> 1177197 | O11: =SUM(O12:O15) -> 138689.21 | P11: Х | Q11: Х | R11: Х | S11: Х
A12: 1 | B12: 4661 | C12: с. Александровское, ул. Гоголя, д. 19а | D12: 1969 | E12: ТС ХВС | F12: СМР | G12: 366.6 | H12: 330.2 | I12: 14 | J12: ='Форма 2'!I7 -> 1063312.2 | K12: 0 | L12: 0 | M12: 0 | N12: =J12-K12-L12-M12-O12 -> 951243.26 | O12: 112068.91 | P12: =J12/H12 -> 3220.21 | Q12: ='Форма 2'!K7 -> 3661 | R12: 2020 | S12: 1
A13: =A12+1 -> 2 | B13: 4692 | C13: с. Александровское, ул. Ленина, д. 14 | D13: 1968 | E13: ВО | F13: ПСД | G13: 261.6 | H13: 237.2 | I13: 12 | J13: ='Форма 2'!I12 -> 15180.8 | K13: 0 | L13: 0 | M13: 0 | N13: =J13-K13-L13-M13-O13 -> 13580.8 | O13: 1600 | P13: =J13/H13 -> 64 | Q13: ='Форма 2'!K12 -> 64 | R13: 2020 | S13: 1
A14: =A13+1 -> 3 | B14: 4753 | C14: с. Александровское, ул. Химиков, д. 1 | D14: 1967 | E14: К | F14: ПСД | G14: 358 | H14: 325.2 | I14: 18 | J14: ='Форма 2'!I14 -> 84226.8 | K14: 0 | L14: 0 | M14: 0 | N14: =J14-K14-L14-M14-O14 -> 75349.63 | O14: 8877.17 | P14: =J14/H14 -> 259 | Q14: ='Форма 2'!K14 -> 259 | R14: 2020 | S14: 1
A15: =A14+1 -> 4 | B15: 4754 | C15: с. Александровское, ул. Химиков, д. 3 | D15: 1967 | E15: РУФ | F15: ПСД | G15: 362.6 | H15: 330.1 | I15: 24 | J15: ='Форма 2'!I16 -> 153166.4 | K15: 0 | L15: 0 | M15: 0 | N15: =J15-K15-L15-M15-O15 -> 137023.27 | O15: 16143.13 | P15: =J15/H15 -> 464 | Q15: ='Форма 2'!K16 -> 464 | R15: 2020 | S15: 1
A16: Итого по Асиновскому району | D16: Х | E16: Х | F16: Х | G16: =SUM(G17:G24) -> 15225.26 | H16: =SUM(H17:H24) -> 12287.33 | I16: =SUM(I17:I24) -> 367 | J16: =SUM(J17:J24) -> 34392464 | K16: =SUM(K17:K24) -> 0 | L16: =SUM(L17:L24) -> 0 | M16: =SUM(M17:M24) -> 0 | N16: =SUM(N17:N24) -> 33732487 | O16: =SUM(O17:O24) -> 659976.52 | P16: Х | Q16: Х | R16: Х | S16: Х
A17: 1 | B17: 4405 | C17: г. Асино, ул. им. Ивана Черных, д. 18 | D17: 1988 | E17: К | F17: СМР | G17: 2594.37 | H17: 1765.93 | I17: 47 | J17: ='Форма 2'!I20 -> 7206813.9 | K17: 0 | L17: 0 | M17: 0 | N17: =J17-K17-L17-M17-O17 -> 7070826.1 | O17: 135987.79 | P17: =J17/H17 -> 4081.03 | Q17: ='Форма 2'!K20 -> 5144 | R17: 2020 | S17: 1
A18: =A17+1 -> 2 | B18: 4563 | C18: г. Асино, ул. им. Ю. Гагарина, д. 6 | D18: 1976 | E18: К | F18: СМР | G18: 4770.96 | H18: 4353.01 | I18: 123 | J18: ='Форма 2'!I23 -> 10662581 | K18: 0 | L18: 0 | M18: 0 | N18: =J18-K18-L18-M18-O18 -> 10468314 | O18: 194266.87 | P18: =J18/H18 -> 2449.47 | Q18: ='Форма 2'!K23 -> 3878 | R18: 2020 | S18: 1
A19: =A18+1 -> 3 | B19: 4598 | C19: г. Асино, ул. им. Куйбышева, д. 8 | D19: 1981 | E19: К | F19: СМР | G19: 818.97 | H19: 726.63 | I19: 20 | J19: ='Форма 2'!I26 -> 3548027 | K19: 0 | L19: 0 | M19: 0 | N19: =J19-K19-L19-M19-O19 -> 3470760.5 | O19: 77266.55 | P19: =J19/H19 -> 4882.85 | Q19: ='Форма 2'!K26 -> 7688 | R19: 2020 | S19: 1
A20: =A19+1 -> 4 | B20: 4589 | C20: г. Асино, ул. Транспортная, д. 1 | D20: 1990 | E20: К | F20: СМР | G20: 5250.48 | H20: 4046.4 | I20: 115 | J20: ='Форма 2'!I29 -> 10320593 | K20: 0 | L20: 0 | M20: 0 | N20: =J20-K20-L20-M20-O20 -> 10125923 | O20: 194670.41 | P20: =J20/H20 -> 2550.56 | Q20: ='Форма 2'!K29 -> 3878 | R20: 2020 | S20: 1
A21: =A20+1 -> 5 | B21: 8083 | C21: г. Асино, ул. Павлика Морозова, д. 5 | D21: 1953 | E21: ТС | F21: ПСД | G21: 425.58 | H21: 325.16 | I21: 12 | J21: ='Форма 2'!I32 -> 44546.92 | K21: 0 | L21: 0 | M21: 0 | N21: =J21-K21-L21-M21-O21 -> 43720.74 | O21: 826.18 | P21: =J21/H21 -> 137 | Q21: ='Форма 2'!K32 -> 137 | R21: 2020 | S21: 1
A22: =A21+1 -> 6 | B22: 4480 | C22: г. Асино, ул. Сельская, д. 53 | D22: 1956 | E22: К | F22: ПСД | G22: 426.1 | H22: 385 | I22: 16 | J22: ='Форма 2'!I34 -> 90734.87 | K22: 0 | L22: 0 | M22: 0 | N22: =J22-K22-L22-M22-O22 -> 88971.22 | O22: 1763.65 | P22: =J22/H22 -> 235.67 | Q22: ='Форма 2'!K34 -> 247 | R22: 2020 | S22: 1
A23: =A22+1 -> 7 | B23: 4532 | C23: г. Асино, ул. Станционная, д. 25 | D23: 1938 | E23: ТС ХВС | F23: ПСД | G23: 347 | H23: 317.3 | I23: 19 | J23: ='Форма 2'!I36 -> 53536.44 | K23: 0 | L23: 0 | M23: 0 | N23: =J23-K23-L23-M23-O23 -> 52483.08 | O23: 1053.36 | P23: =J23/H23 -> 168.72 | Q23: ='Форма 2'!K36 -> 179 | R23: 2020 | S23: 1
A24: =A23+1 -> 8 | B24: 4464 | C24: г. Асино, ул. Челюскина, д. 15 | D24: 1969 | E24: К | F24: ПСД, СМР | G24: 591.8 | H24: 367.9 | I24: 15 | J24: ='Форма 2'!I39 -> 2465630.7 | K24: 0 | L24: 0 | M24: 0 | N24: =J24-K24-L24-M24-O24 -> 2411489 | O24: 54141.71 | P24: =J24/H24 -> 6701.9 | Q24: ='Форма 2'!K39 -> 7935 | R24: 2020 | S24: 1
A25: Итого по Бакчарскому району | D25: Х | E25: Х | F25: Х | G25: =SUM(G26) -> 424.3 | H25: =SUM(H26) -> 381.3 | I25: =SUM(I26) -> 12 | J25: =SUM(J26) -> 95325 | K25: =SUM(K26) -> 0 | L25: =SUM(L26) -> 0 | M25: =SUM(M26) -> 0 | N25: =SUM(N26) -> 9592.42 | O25: =SUM(O26) -> 85732.58 | P25: Х | Q25: Х | R25: Х | S25: Х
A26: 1 | B26: 4784 | C26: с. Бакчар, ул. Ленина, д. 46 | D26: 1962 | E26: К | F26: ПСД | G26: 424.3 | H26: 381.3 | I26: 12 | J26: ='Форма 2'!I44 -> 95325 | K26: 0 | L26: 0 | M26: 0 | N26: =J26-K26-L26-M26-O26 -> 9592.42 | O26: 85732.58 | P26: =J26/H26 -> 250 | Q26: ='Форма 2'!K44 -> 250 | R26: 2020 | S26: 1
A27: Итого по Верхнекетскому району | D27: Х | E27: Х | F27: Х | G27: =SUM(G28:G31) -> 2450.6 | H27: =SUM(H28:H31) -> 2243 | I27: =SUM(I28:I31) -> 102 | J27: =SUM(J28:J31) -> 6825661.2 | K27: =SUM(K28:K31) -> 0 | L27: =SUM(L28:L31) -> 0 | M27: =SUM(M28:M31) -> 0 | N27: =SUM(N28:N31) -> 6746982.1 | O27: =SUM(O28:O31) -> 78679.13 | P27: Х | Q27: Х | R27: Х | S27: Х
A28: 1 | B28: 6698 | C28: рп. Белый Яр, ул. Таежная, д. 2 | D28: 1968 | E28: ЭС К | F28: СМР | G28: 364.7 | H28: 332.7 | I28: 20 | J28: ='Форма 2'!I47 -> 2014936.7 | K28: 0 | L28: 0 | M28: 0 | N28: =J28-K28-L28-M28-O28 -> 1993780.1 | O28: 21156.55 | P28: =J28/H28 -> 6056.32 | Q28: ='Форма 2'!K47 -> 8931 | R28: 2020 | S28: 1
A29: =A28+1 -> 2 | B29: 6646 | C29: рп. Белый Яр, ул. Таежная, д. 44 | D29: 1979 | E29: К | F29: СМР | G29: 527.1 | H29: 481.9 | I29: 17 | J29: ='Форма 2'!I52 -> 2959854.9 | K29: 0 | L29: 0 | M29: 0 | N29: =J29-K29-L29-M29-O29 -> 2928855 | O29: 30999.9 | P29: =J29/H29 -> 6142.05 | Q29: ='Форма 2'!K52 -> 8203 | R29: 2020 | S29: 1
A30: =A29+1 -> 3 | B30: 6714 | C30: п. Ягодное, ул. Строительная, д. 5 | D30: 1974 | E30: ТС ХВС | F30: СМР | G30: 774.7 | H30: 706.7 | I30: 21 | J30: ='Форма 2'!I55 -> 1735758.5 | K30: 0 | L30: 0 | M30: 0 | N30: =J30-K30-L30-M30-O30 -> 1710436.6 | O30: 25321.89 | P30: =J30/H30 -> 2456.15 | Q30: ='Форма 2'!K55 -> 3661 | R30: 2020 | S30: 1
A31: =A30+1 -> 4 | B31: 6711 | C31: п. Ягодное, ул. Октябрьская, д. 3 | D31: 1976 | E31: ТС ВО | F31: ПСД | G31: 784.1 | H31: 721.7 | I31: 44 | J31: ='Форма 2'!I60 -> 115111.15 | K31: 0 | L31: 0 | M31: 0 | N31: =J31-K31-L31-M31-O31 -> 113910.36 | O31: 1200.79 | P31: =J31/H31 -> 159.5 | Q31: ='Форма 2'!K60 -> 170 | R31: 2020 | S31: 1
A32: Итого по городскому округу ЗАТО Северск | D32: Х | E32: Х | F32: Х | G32: =SUM(G33:G70) -> 300794.73 | H32: =SUM(H33:H70) -> 242948.05 | I32: =SUM(I33:I70) -> 9225 | J32: =SUM(J33:J70) -> 2.0094168e+08 | K32: =SUM(K33:K70) -> 0 | L32: =SUM(L33:L70) -> 0 | M32: =SUM(M33:M70) -> 0 | N32: =SUM(N33:N70) -> 1.9570613e+08 | O32: =SUM(O33:O70) -> 5235548.6 | P32: Х | Q32: Х | R32: Х | S32: Х
A33: 1 | B33: 6026 | C33: г. Северск, пр-кт Коммунистический, д. 90а | D33: 1982 | E33: К | F33: ПСД, СМР (н) | G33: 3706.7 | H33: 2728.7 | I33: 103 | J33: ='Форма 2'!I64 -> 2934280.6 | K33: 0 | L33: 0 | M33: 0 | N33: =J33-K33-L33-M33-O33 -> 2852220.3 | O33: 82060.31 | P33: =J33/H33 -> 1075.34 | Q33: ='Форма 2'!K64 -> 3966 | R33: 2021 | S33: 1
A34: =A33+1 -> 2 | B34: 6030 | C34: г. Северск, пр-кт Коммунистический, д. 96 | D34: 1974 | E34: К | F34: СМР (н) | G34: 17546.48 | H34: 16127.59 | I34: 458 | J34: ='Форма 2'!I67 -> 4533752.5 | K34: 0 | L34: 0 | M34: 0 | N34: =J34-K34-L34-M34-O34 -> 4404572.1 | O34: 129180.33 | P34: =J34/H34 -> 281.12 | Q34: ='Форма 2'!K67 -> 2440 | R34: 2021 | S34: 1
A35: 3 | B35: 6039 | C35: г. Северск, пр-кт Коммунистический, д. 112 | D35: 1973 | E35: ЛО | F35: ПСД | G35: 10649.7 | H35: 6661.52 | I35: 252 | J35: ='Форма 2'!I69 -> 32281 | K35: 0 | L35: 0 | M35: 0 | N35: =J35-K35-L35-M35-O35 -> 32281 | O35: 0 | P35: =J35/H35 -> 4.85 | Q35: ='Форма 2'!K69 -> 4.85 | R35: 2020 | S35: 1
A36: =A35+1 -> 4 | B36: 6058 | C36: г. Северск, пр-кт Коммунистический, д. 147 | D36: 1991 | E36: ЛО | F36: ПСД, СМР | G36: 4869.7 | H36: 4746.3 | I36: 179 | J36: ='Форма 2'!I71 -> 5318402.4 | K36: 0 | L36: 0 | M36: 0 | N36: =J36-K36-L36-M36-O36 -> 5179848 | O36: 138554.38 | P36: =J36/H36 -> 1120.54 | Q36: ='Форма 2'!K71 -> 1203.74 | R36: 2020 | S36: 1
A37: =A36+1 -> 5 | B37: 6059 | C37: г. Северск, пр-кт Коммунистический, д. 147а | D37: 1992 | E37: ЛО | F37: ПСД, СМР | G37: 5103.5 | H37: 3823.5 | I37: 144 | J37: ='Форма 2'!I78 -> 5594922 | K37: 0 | L37: 0 | M37: 0 | N37: =J37-K37-L37-M37-O37 -> 5456367.6 | O37: 138554.38 | P37: =J37/H37 -> 1463.3 | Q37: ='Форма 2'!K78 -> 1494.25 | R37: 2020 | S37: 1
A38: =A37+1 -> 6 | B38: 6061 | C38: г. Северск, пр-кт Коммунистический, д. 151 | D38: 1994, 1995, 1996, 1997, 1998 | E38: ЛО | F38: ПСД, СМР | G38: 46580.1 | H38: 43293.2 | I38: 1568 | J38: ='Форма 2'!I85 -> 2435333 | K38: 0 | L38: 0 | M38: 0 | N38: =J38-K38-L38-M38-O38 -> 2379020.7 | O38: 56312.26 | P38: =J38/H38 -> 56.25 | Q38: ='Форма 2'!K85 -> 57.35 | R38: 2020 | S38: 1
A39: =A38+1 -> 7 | B39: 5864 | C39: г. Северск, ул. Калинина, д. 4 | D39: 1959 | E39: К | F39: СМР (н) | G39: 3876.9 | H39: 2829 | I39: 107 | J39: ='Форма 2'!I94 -> 2691115.9 | K39: 0 | L39: 0 | M39: 0 | N39: =J39-K39-L39-M39-O39 -> 2614484.7 | O39: 76631.17 | P39: =J39/H39 -> 951.26 | Q39: ='Форма 2'!K94 -> 5036 | R39: 2021 | S39: 1
A40: =A39+1 -> 8 | B40: 5870 | C40: г. Северск, ул. Калинина, д. 18 | D40: 1957 | E40: ХВС, ГВС | F40: СМР (з) | G40: 3421 | H40: 2339.2 | I40: 96 | J40: ='Форма 2'!I96 -> 1132055.9 | K40: 0 | L40: 0 | M40: 0 | N40: =J40-K40-L40-M40-O40 -> 1104021.3 | O40: 28034.58 | P40: =J40/H40 -> 483.95 | Q40: ='Форма 2'!K96 -> 1316 | R40: 2020 | S40: 1
...

Sheet Форма 2
A1: 2. Перечень работ и услуг по капитальному ремонту общего имущества в многоквартирных домах, включенных в Краткосрочный план реализации в 2020 - 2022 гг. Региональной программы капитального ремонта общего имущества в многоквартирных домах, расположенных на территории Томской области
A3: № п/п | B3: Код МКД | C3: Адрес МКД | D3: Площадь помещений МКД, кв. м | E3: Материал стен <4> | F3: Количество этажей | G3: Вид элемента строительных конструкций, оборудования, инженерных систем | H3: Вид работы (услуги) по капитальному ремонту | I3: Стоимость работы (услуги), руб. | J3: Удельная стоимость работы (услуги), руб./кв. м | K3: Предельная стоимость работы (услуги), руб./кв. м
A4: 1 | B4: 2 | C4: 3 | D4: 4 | E4: 5 | F4: 6 | G4: 7 | H4: 8 | I4: 9 | J4: 10 | K4: 11
A5: 2020 год | D5: =D6+D19+D43+D46+D63+D262+D359+D931+D939+D957+D975+D1023+D1045+D1055+D1070+D1087+D1131 -> 1035927 | I5: =I6+I19+I43+I46+I63+I262+I359+I931+I939+I957+I975+I1023+I1045+I1055+I1070+I1087+I1131 -> 9.9325168e+08
A6: Итого по Александровскому району | D6: =D7+D12+D14+D16 -> 1222.7 | I6: =I7+I12+I14+I16 -> 1315886.2
A7: 1 | B7: 4661 | C7: с. Александровское, ул. Гоголя, д. 19а | D7: 330.2 | E7: Д | F7: 2 | H7: Итого | I7: =SUM(I8:I11) -> 1063312.2 | J7: =SUM(J8:J11) -> 3220.21 | K7: =SUM(K8:K11) -> 3661
G8: внутридомовая инженерная система теплоснабжения | H8: ремонт | I8: 906138.22 | J8: =I8/D7 -> 2744.21 | K8: 2967
H9: строительный контроль | I9: =I8*0.0214 -> 19391.36 | J9: =I9/D7 -> 58.73 | K9: 63
G10: внутридомовая инженерная система холодного водоснабжения | H10: ремонт | I10: 134895.82 | J10: =I10/D7 -> 408.53 | K10: 618
H11: строительный контроль | I11: =I10*0.0214 -> 2886.77 | J11: =I11/D7 -> 8.74 | K11: 13
A12: =A7+1 -> 2 | B12: 4692 | C12: с. Александровское, ул. Ленина, д. 14 | D12: 237.2 | E12: К | F12: 2 | G12: внутридомовая инженерная система водоотведения | H12: Итого | I12: =I13 -> 15180.8 | J12: =J13 -> 64 | K12: =K13 -> 64
H13: разработка проектной документации, включая проведение проверки достоверности определения сметной стоимости | I13: =D12*K13 -> 15180.8 | J13: =I13/D12 -> 64 | K13: =21+43 -> 64
A14: =A12+1 -> 3 | B14: 4753 | C14: с. Александровское, ул. Химиков, д. 1 | D14: 325.2 | E14: Д | F14: 2 | G14: крыша | H14: Итого | I14: =I15 -> 84226.8 | J14: =J15 -> 259 | K14: =K15 -> 259
H15: разработка проектной документации, включая проведение проверки достоверности определения сметной стоимости | I15: =K15*D14 -> 84226.8 | J15: =I15/D14 -> 259 | K15: =163+96 -> 259
A16: =A14+1 -> 4 | B16: 4754 | C16: с. Александровское, ул. Химиков, д. 3 | D16: 330.1 | E16: Д | F16: 2 | G16: фасад | H16: Итого | I16: =SUM(I17:I18) -> 153166.4 | J16: =SUM(J17:J18) -> 464 | K16: =SUM(K17:K18) -> 464
H17: разработка проектной документации, включая проведение проверки достоверности определения сметной стоимости (ремонт) | I17: =K17*D16 -> 85495.9 | J17: =I17/D16 -> 259 | K17: =232+27 -> 259
H18: разработка проектной документации, включая проведение проверки достоверности определения сметной стоимости (утепление) | I18: =K18*D16 -> 67670.5 | J18: =I18/D16 -> 205 | K18: =177+28 -> 205
A19: Итого по Асиновскому району | D19: =D20+D23+D26+D29+D32+D34+D36+D39 -> 12287.33 | I19: =I20+I23+I26+I29+I32+I34+I36+I39 -> 34392464
A20: 1 | B20: 4405 | C20: г. Асино, ул. им. Ивана Черных, д. 18 | D20: 1765.93 | E20: К | F20: 3 | G20: крыша | H20: Итого | I20: =I21+I22 -> 7206813.9 | J20: =J21+J22 -> 4081.03 | K20: =K21+K22 -> 5144
H21: ремонт | I21: 7055819.3 | J21: =I21/D20 -> 3995.53 | K21: 5036
H22: строительный контроль | I22: 150994.53 | J22: =I22/D20 -> 85.5 | K22: 108
A23: =A20+1 -> 2 | B23: 4563 | C23: г. Асино, ул. им. Ю. Гагарина, д. 6 | D23: 4353.01 | E23: К | F23: 5 | G23: крыша | H23: Итого | I23: =I24+I25 -> 10662581 | J23: =J24+J25 -> 2449.47 | K23: =K24+K25 -> 3878
H24: ремонт | I24: 10439182 | J24: =I24/D23 -> 2398.15 | K24: 3797
H25: строительный контроль | I25: 223398.5 | J25: =I25/D23 -> 51.32 | K25: 81
A26: =A23+1 -> 3 | B26: 4598 | C26: г. Асино, ул. им. Куйбышева, д. 8 | D26: 726.63 | E26: Д | F26: 2 | G26: крыша | H26: Итого | I26: =I27+I28 -> 3548027 | J26: =J27+J28 -> 4882.85 | K26: =K27+K28 -> 7688
H27: ремонт | I27: 3473690.1 | J27: =I27/D26 -> 4780.55 | K27: 7527
H28: строительный контроль | I28: 74336.97 | J28: =I28/D26 -> 102.3 | K28: 161
A29: =A26+1 -> 4 | B29: 4589 | C29: г. Асино, ул. Транспортная, д. 1 | D29: 4046.4 | E29: К | F29: 5 | G29: крыша | H29: Итого | I29: =I30+I31 -> 10320593 | J29: =J30+J31 -> 2550.56 | K29: =K30+K31 -> 3878
H30: ремонт | I30: 10104360 | J30: =I30/D29 -> 2497.12 | K30: 3797
H31: строительный контроль | I31: 216233.31 | J31: =I31/D29 -> 53.44 | K31: 81
A32: =A29+1 -> 5 | B32: 8083 | C32: г. Асино, ул. Павлика Морозова, д. 5 | D32: 325.16 | E32: Д | F32: 2 | H32: Итого | I32: =SUM(I33) -> 44546.92 | J32: =SUM(J33) -> 137 | K32: =SUM(K33) -> 137
G33: внутридомовая инженерная система теплоснабжения | H33: разработка проектной документации, включая проведение проверки достоверности определения сметной стоимости | I33: =D32*K33 -> 44546.92 | J33: =I33/D32 -> 137 | K33: =116+21 -> 137
A34: =A32+1 -> 6 | B34: 4480 | C34: г. Асино, ул. Сельская, д. 53 | D34: 385 | E34: К | F34: 2 | H34: Итого | I34: =I35 -> 90734.87 | J34: =J35 -> 235.67 | K34: =K35 -> 247
G35: крыша | H35: разработка проектной документации, включая проведение проверки достоверности определения сметной стоимости | I35: 90734.87 | J35: =I35/D34 -> 235.67 | K35: =151+96 -> 247
A36: =A34+1 -> 7 | B36: 4532 | C36: г. Асино, ул. Станционная, д. 25 | D36: 317.3 | E36: К | F36: 2 | H36: Итого | I36: =SUM(I37:I38) -> 53536.44 | J36: =SUM(J37:J38) -> 168.72 | K36: =SUM(K37:K38) -> 179
G37: внутридомовая инженерная система теплоснабжения | H37: разработка проектной документации, включая проведение проверки достоверности определения сметной стоимости | I37: 40709.59 | J37: =I37/D36 -> 128.3 | K37: =116+21 -> 137
G38: внутридомовая инженерная система холодного водоснабжения | H38: разработка проектной документации, включая проведение проверки достоверности определения сметной стоимости | I38: 12826.85 | J38: =I38/D36 -> 40.42 | K38: =21+21 -> 42
A39: =A36+1 -> 8 | B39: 4464 | C39: г. Асино, ул. Челюскина, д. 15 | D39: 367.9 | E39: К | F39: 2 | G39: крыша | H39: Итого | I39: =SUM(I40:I42) -> 2465630.7 | J39: =SUM(J40:J42) -> 6701.9 | K39: =SUM(K40:K42) -> 7935
H40: разработка проектной документации, включая проведение проверки достоверности определения сметной стоимости | I40: 69552.9 | J40: =I40/D39 -> 189.05 | K40: =151+96 -> 247
H41: ремонт | I41: 2345876.1 | J41: =I41/D39 -> 6376.4 | K41: 7527
...
