Workbook

Sheet форма 1
O1: Приложение к приказу Департамента ЖКХ и государственного жилищного надзора Томской области от №
A2: Краткосрочный план реализации в 2020 - 2022 гг. Региональной программы капитального ремонта общего имущества в многоквартирных домах, расположенных на территории Томской области
A3: 1. Перечень многоквартирных домов, включенных в Краткосрочный план реализации в 2020 - 2022 гг. Региональной программы капитального ремонта общего имущества в многоквартирных домах, расположенных на территории Томской области
A4: № п/п | B4: Код МКД | C4: Адрес МКД | D4: Год ввода в эксплуатацию | E4: Вид элемента строительных конструкций, оборудования, инженерных систем <1> | F4: Вид работы (услуги) по капитальному ремонту <2> | G4: Общая площадь МКД, всего | H4: Площадь помещений в МКД | I4: Количество жителей, зарегистрированных в МКД на дату утверждения краткосрочного плана | J4: Стоимость капитального ремонта | P4: Удельная стоимость капитального ремонта 1 кв. м общей площади помещений МКД | Q4: Предельная стоимость капитального ремонта 1 кв. м общей площади помещений МКД | R4: Плановая дата завершения работ | S4: Способ формирования фонда капитального ремонта многоквартирного дома <3>
J5: всего | K5: в том числе
K6: за счет средств Фонда | L6: за счет средств бюджета субъекта Российской Федерации | M6: за счет средств местного бюджета | N6: за счет средств собственников помещений в МКД | O6: за счет других не запрещенных законом источников
G7: кв. м | H7: кв. м | I7: чел. | J7: руб. | K7: руб. | L7: руб. | M7: руб. | N7: руб. | O7: руб. | P7: руб./кв. м | Q7: руб./кв. м
A8: 1 | B8: 2 | C8: 3 | D8: 4 | E8: 5 | F8: 6 | G8: 7 | H8: 8 | I8: 9 | J8: 10 | K8: 11 | L8: 12 | M8: 13 | N8: 14 | O8: 15 | P8: 16 | Q8: 17 | R8: 18 | S8: 19
A9: 2020 год
A10: Всего по Томской области | D10: Х | E10: Х | F10: Х | G10: =G11+G16+G25+G27+G32+G71+G86+G226+G230+G237+G244+G264+G271+G275+G280+G286+G299 -> 1243444.8 | H10: =H11+H16+H25+H27+H32+H71+H86+H226+H230+H237+H244+H264+H271+H275+H280+H286+H299 -> 1035927 | I10: =I11+I16+I25+I27+I32+I71+I86+I226+I230+I237+I244+I264+I271+I275+I280+I286+I299 -> 40018 | J10: =J11+J16+J25+J27+J32+J71+J86+J226+J230+J237+J244+J264+J271+J275+J280+J286+J299 -> 9.9325168e+08 | K10: =K11+K16+K25+K27+K32+K71+K86+K226+K230+K237+K244+K264+K271+K275+K280+K286+K299 -> 0 | L10: =L11+L16+L25+L27+L32+L71+L86+L226+L230+L237+L244+L264+L271+L275+L280+L286+L299 -> 0 | M10: =M11+M16+M25+M27+M32+M71+M86+M226+M230+M237+M244+M264+M271+M275+M280+M286+M299 -> 0 | N10: =N11+N16+N25+N27+N32+N71+N86+N226+N230+N237+N244+N264+N271+N275+N280+N286+N299 -> 9.656372e+08 | O10: =O11+O16+O25+O27+O32+O71+O86+O226+O230+O237+O244+O264+O271+O275+O280+O286+O299 -> 27614478 | P10: Х | Q10: Х | R10: Х | S10: Х
A11: Итого по Александровскому району | D11: Х | E11: Х | F11: Х | G11: =SUM(G12:G15) -> 1348.8 | H11: =SUM(H12:H15) -> 1222.7 | I11: =SUM(I12:I15) -> 68 | J11: =SUM(J12:J15) -> 1315886.2 | K11: =SUM(K12:K15) -> 0 | L11: =SUM(L12:L15) -> 0 | M11: =SUM(M12:M15) -> 0 | N11: =SUM(N12:N15) -> 1177197 | O11: =SUM(O12:O15) -> 138689.21 | P11: Х | Q11: Х | R11: Х | S11: Х
A12: 1 | B12: 4661 | C12: с. Александровское, ул. Гоголя, д. 19а | D12: 1969 | E12: ТС ХВС | F12: СМР | G12: 366.6 | H12: 330.2 | I12: 14 | J12: ='Форма 2'!I7 -> 1063312.2 | K12: 0 | L12: 0 | M12: 0 | N12: =J12-K12-L12-M12-O12 -> 951243.26 | O12: 112068.91 | P12: =J12/H12 -> 3220.21 | Q12: ='Форма 2'!K7 -> 3661 | R12: 2020 | S12: 1
A13: =A12+1 -> 2 | B13: 4692 | C13: с. Александровское, ул. Ленина, д. 14 | D13: 1968 | E13: ВО | F13: ПСД | G13: 261.6 | H13: 237.2 | I13: 12 | J13: ='Форма 2'!I12 -> 15180.8 | K13: 0 | L13: 0 | M13: 0 | N13: =J13-K13-L13-M13-O13 -> 13580.8 | O13: 1600 | P13: =J13/H13 -> 64 | Q13: ='Форма 2'!K12 -> 64 | R13: 2020 | S13: 1
A14: =A13+1 -> 3 | B14: 4753 | C14: с. Александровское, ул. Химиков, д. 1 | D14: 1967 | E14: К | F14: ПСД | G14: 358 | H14: 325.2 | I14: 18 | J14: ='Форма 2'!I14 -> 84226.8 | K14: 0 | L14: 0 | M14: 0 | N14: =J14-K14-L14-M14-O14 -> 75349.63 | O14: 8877.17 | P14: =J14/H14 -> 259 | Q14: ='Форма 2'!K14 -> 259 | R14: 2020 | S14: 1
A15: =A14+1 -> 4 | B15: 4754 | C15: с. Александровское, ул. Химиков, д. 3 | D15: 1967 | E15: РУФ | F15: ПСД | G15: 362.6 | H15: 330.1 | I15: 24 | J15: ='Форма 2'!I16 -> 153166.4 | K15: 0 | L15: 0 | M15: 0 | N15: =J15-K15-L15-M15-O15 -> 137023.27 | O15: 16143.13 | P15: =J15/H15 -> 464 | Q15: ='Форма 2'!K16 -> 464 | R15: 2020 | S15: 1
A16: Итого по Асиновскому району | D16: Х | E16: Х | F16: Х | G16: =SUM(G17:G24) -> 15225.26 | H16: =SUM(H17:H24) -> 12287.33 | I16: =SUM(I17:I24) -> 367 | J16: =SUM(J17:J24) -> 34392464 | K16: =SUM(K17:K24) -> 0 | L16: =SUM(L17:L24) -> 0 | M16: =SUM(M17:M24) -> 0 | N16: =SUM(N17:N24) -> 33732487 | O16: =SUM(O17:O24) -> 659976.52 | P16: Х | Q16: Х | R16: Х | S16: Х
A17: 1 | B17: 4405 | C17: г. Асино, ул. им. Ивана Черных, д. 18 | D17: 1988 | E17: К | F17: СМР | G17: 2594.37 | H17: 1765.93 | I17: 47 | J17: ='Форма 2'!I20 -> 7206813.9 | K17: 0 | L17: 0 | M17: 0 | N17: =J17-K17-L17-M17-O17 -> 7070826.1 | O17: 135987.79 | P17: =J17/H17 -> 4081.03 | Q17: ='Форма 2'!K20 -> 5144 | R17: 2020 | S17: 1
A18: =A17+1 -> 2 | B18: 4563 | C18: г. Асино, ул. им. Ю. Гагарина, д. 6 | D18: 1976 | E18: К | F18: СМР | G18: 4770.96 | H18: 4353.01 | I18: 123 | J18: ='Форма 2'!I23 -> 10662581 | K18: 0 | L18: 0 | M18: 0 | N18: =J18-K18-L18-M18-O18 -> 10468314 | O18: 194266.87 | P18: =J18/H18 -> 2449.47 | Q18: ='Форма 2'!K23 -> 3878 | R18: 2020 | S18: 1
A19: =A18+1 -> 3 | B19: 4598 | C19: г. Асино, ул. им. Куйбышева, д. 8 | D19: 1981 | E19: К | F19: СМР | G19: 818.97 | H19: 726.63 | I19: 20 | J19: ='Форма 2'!I26 -> 3548027 | K19: 0 | L19: 0 | M19: 0 | N19: =J19-K19-L19-M19-O19 -> 3470760.5 | O19: 77266.55 | P19: =J19/H19 -> 4882.85 | Q19: ='Форма 2'!K26 -> 7688 | R19: 2020 | S19: 1
A20: =A19+1 -> 4 | B20: 4589 | C20: г. Асино, ул. Транспортная, д. 1 | D20: 1990 | E20: К | F20: СМР | G20: 5250.48 | H20: 4046.4 | I20: 115 | J20: ='Форма 2'!I29 -> 10320593 | K20: 0 | L20: 0 | M20: 0 | N20: =J20-K20-L20-M20-O20 -> 10125923 | O20: 194670.41 | P20: =J20/H20 -> 2550.56 | Q20: ='Форма 2'!K29 -> 3878 | R20: 2020 | S20: 1
A21: =A20+1 -> 5 | B21: 8083 | C21: г. Асино, ул. Павлика Морозова, д. 5 | D21: 1953 | E21: ТС | F21: ПСД | G21: 425.58 | H21: 325.16 | I21: 12 | J21: ='Форма 2'!I32 -> 44546.92 | K21: 0 | L21: 0 | M21: 0 | N21: =J21-K21-L21-M21-O21 -> 43720.74 | O21: 826.18 | P21: =J21/H21 -> 137 | Q21: ='Форма 2'!K32 -> 137 | R21: 2020 | S21: 1
A22: =A21+1 -> 6 | B22: 4480 | C22: г. Асино, ул. Сельская, д. 53 | D22: 1956 | E22: К | F22: ПСД | G22: 426.1 | H22: 385 | I22: 16 | J22: ='Форма 2'!I34 -> 90734.87 | K22: 0 | L22: 0 | M22: 0 | N22: =J22-K22-L22-M22-O22 -> 88971.22 | O22: 1763.65 | P22: =J22/H22 -> 235.67 | Q22: ='Форма 2'!K34 -> 247 | R22: 2020 | S22: 1
A23: =A22+1 -> 7 | B23: 4532 | C23: г. Асино, ул. Станционная, д. 25 | D23: 1938 | E23: ТС ХВС | F23: ПСД | G23: 347 | H23: 317.3 | I23: 19 | J23: ='Форма 2'!I36 -> 53536.44 | K23: 0 | L23: 0 | M23: 0 | N23: =J23-K23-L23-M23-O23 -> 52483.08 | O23: 1053.36 | P23: =J23/H23 -> 168.72 | Q23: ='Форма 2'!K36 -> 179 | R23: 2020 | S23: 1
A24: =A23+1 -> 8 | B24: 4464 | C24: г. Асино, ул. Челюскина, д. 15 | D24: 1969 | E24: К | F24: ПСД, СМР | G24: 591.8 | H24: 367.9 | I24: 15 | J24: ='Форма 2'!I39 -> 2465630.7 | K24: 0 | L24: 0 | M24: 0 | N24: =J24-K24-L24-M24-O24 -> 2411489 | O24: 54141.71 | P24: =J24/H24 -> 6701.9 | Q24: ='Форма 2'!K39 -> 7935 | R24: 2020 | S24: 1
A25: Итого по Бакчарскому району | D25: Х | E25: Х | F25: Х | G25: =SUM(G26) -> 424.3 | H25: =SUM(H26) -> 381.3 | I25: =SUM(I26) -> 12 | J25: =SUM(J26) -> 95325 | K25: =SUM(K26) -> 0 | L25: =SUM(L26) -> 0 | M25: =SUM(M26) -> 0 | N25: =SUM(N26) -> 9592.42 | O25: =SUM(O26) -> 85732.58 | P25: Х | Q25: Х | R25: Х | S25: Х
A26: 1 | B26: 4784 | C26: с. Бакчар, ул. Ленина, д. 46 | D26: 1962 | E26: К | F26: ПСД | G26: 424.3 | H26: 381.3 | I26: 12 | J26: ='Форма 2'!I44 -> 95325 | K26: 0 | L26: 0 | M26: 0 | N26: =J26-K26-L26-M26-O26 -> 9592.42 | O26: 85732.58 | P26: =J26/H26 -> 250 | Q26: ='Форма 2'!K44 -> 250 | R26: 2020 | S26: 1
A27: Итого по Верхнекетскому району | D27: Х | E27: Х | F27: Х | G27: =SUM(G28:G31) -> 2450.6 | H27: =SUM(H28:H31) -> 2243 | I27: =SUM(I28:I31) -> 102 | J27: =SUM(J28:J31) -> 6825661.2 | K27: =SUM(K28:K31) -> 0 | L27: =SUM(L28:L31) -> 0 | M27: =SUM(M28:M31) -> 0 | N27: =SUM(N28:N31) -> 6746982.1 | O27: =SUM(O28:O31) -> 78679.13 | P27: Х | Q27: Х | R27: Х | S27: Х
A28: 1 | B28: 6698 | C28: рп. Белый Яр, ул. Таежная, д. 2 | D28: 1968 | E28: ЭС К | F28: СМР | G28: 364.7 | H28: 332.7 | I28: 20 | J28: ='Форма 2'!I47 -> 2014936.7 | K28: 0 | L28: 0 | M28: 0 | N28: =J28-K28-L28-M28-O28 -> 1993780.1 | O28: 21156.55 | P28: =J28/H28 -> 6056.32 | Q28: ='Форма 2'!K47 -> 8931 | R28: 2020 | S28: 1
A29: =A28+1 -> 2 | B29: 6646 | C29: рп. Белый Яр, ул. Таежная, д. 44 | D29: 1979 | E29: К | F29: СМР | G29: 527.1 | H29: 481.9 | I29: 17 | J29: ='Форма 2'!I52 -> 2959854.9 | K29: 0 | L29: 0 | M29: 0 | N29: =J29-K29-L29-M29-O29 -> 2928855 | O29: 30999.9 | P29: =J29/H29 -> 6142.05 | Q29: ='Форма 2'!K52 -> 8203 | R29: 2020 | S29: 1
A30: =A29+1 -> 3 | B30: 6714 | C30: п. Ягодное, ул. Строительная, д. 5 | D30: 1974 | E30: ТС ХВС | F30: СМР | G30: 774.7 | H30: 706.7 | I30: 21 | J30: ='Форма 2'!I55 -> 1735758.5 | K30: 0 | L30: 0 | M30: 0 | N30: =J30-K30-L30-M30-O30 -> 1710436.6 | O30: 25321.89 | P30: =J30/H30 -> 2456.15 | Q30: ='Форма 2'!K55 -> 3661 | R30: 2020 | S30: 1
A31: =A30+1 -> 4 | B31: 6711 | C31: п. Ягодное, ул. Октябрьская, д. 3 | D31: 1976 | E31: ТС ВО | F31: ПСД | G31: 784.1 | H31: 721.7 | I31: 44 | J31: ='Форма 2'!I60 -> 115111.15 | K31: 0 | L31: 0 | M31: 0 | N31: =J31-K31-L31-M31-O31 -> 113910.36 | O31: 1200.79 | P31: =J31/H31 -> 159.5 | Q31: ='Форма 2'!K60 -> 170 | R31: 2020 | S31: 1
A32: Итого по городскому округу ЗАТО Северск | D32: Х | E32: Х | F32: Х | G32: =SUM(G33:G70) -> 300794.73 | H32: =SUM(H33:H70) -> 242948.05 | I32: =SUM(I33:I70) -> 9225 | J32: =SUM(J33:J70) -> 2.0094168e+08 | K32: =SUM(K33:K70) -> 0 | L32: =SUM(L33:L70) -> 0 | M32: =SUM(M33:M70) -> 0 | N32: =SUM(N33:N70) -> 1.9570613e+08 | O32: =SUM(O33:O70) -> 5235548.6 | P32: Х | Q32: Х | R32: Х | S32: Х
A33: 1 | B33: 6026 | C33: г. Северск, пр-кт Коммунистический, д. 90а | D33: 1982 | E33: К | F33: ПСД, СМР (н) | G33: 3706.7 | H33: 2728.7 | I33: 103 | J33: ='Форма 2'!I64 -> 2934280.6 | K33: 0 | L33: 0 | M33: 0 | N33: =J33-K33-L33-M33-O33 -> 2852220.3 | O33: 82060.31 | P33: =J33/H33 -> 1075.34 | Q33: ='Форма 2'!K64 -> 3966 | R33: 2021 | S33: 1
A34: =A33+1 -> 2 | B34: 6030 | C34: г. Северск, пр-кт Коммунистический, д. 96 | D34: 1974 | E34: К | F34: СМР (н) | G34: 17546.48 | H34: 16127.59 | I34: 458 | J34: ='Форма 2'!I67 -> 4533752.5 | K34: 0 | L34: 0 | M34: 0 | N34: =J34-K34-L34-M34-O34 -> 4404572.1 | O34: 129180.33 | P34: =J34/H34 -> 281.12 | Q34: ='Форма 2'!K67 -> 2440 | R34: 2021 | S34: 1
A35: 3 | B35: 6039 | C35: г. Северск, пр-кт Коммунистический, д. 112 | D35: 1973 | E35: ЛО | F35: ПСД | G35: 10649.7 | H35: 6661.52 | I35: 252 | J35: ='Форма 2'!I69 -> 32281 | K35: 0 | L35: 0 | M35: 0 | N35: =J35-K35-L35-M35-O35 -> 32281 | O35: 0 | P35: =J35/H35 -> 4.85 | Q35: ='Форма 2'!K69 -> 4.85 | R35: 2020 | S35: 1
A36: =A35+1 -> 4 | B36: 6058 | C36: г. Северск, пр-кт Коммунистический, д. 147 | D36: 1991 | E36: ЛО | F36: ПСД, СМР | G36: 4869.7 | H36: 4746.3 | I36: 179 | J36: ='Форма 2'!I71 -> 5318402.4 | K36: 0 | L36: 0 | M36: 0 | N36: =J36-K36-L36-M36-O36 -> 5179848 | O36: 138554.38 | P36: =J36/H36 -> 1120.54 | Q36: ='Форма 2'!K71 -> 1203.74 | R36: 2020 | S36: 1
A37: =A36+1 -> 5 | B37: 6059 | C37: г. Северск, пр-кт Коммунистический, д. 147а | D37: 1992 | E37: ЛО | F37: ПСД, СМР | G37: 5103.5 | H37: 3823.5 | I37: 144 | J37: ='Форма 2'!I78 -> 5594922 | K37: 0 | L37: 0 | M37: 0 | N37: =J37-K37-L37-M37-O37 -> 5456367.6 | O37: 138554.38 | P37: =J37/H37 -> 1463.3 | Q37: ='Форма 2'!K78 -> 1494.25 | R37: 2020 | S37: 1
A38: =A37+1 -> 6 | B38: 6061 | C38: г. Северск, пр-кт Коммунистический, д. 151 | D38: 1994, 1995, 1996, 1997, 1998 | E38: ЛО | F38: ПСД, СМР | G38: 46580.1 | H38: 43293.2 | I38: 1568 | J38: ='Форма 2'!I85 -> 2435333 | K38: 0 | L38: 0 | M38: 0 | N38: =J38-K38-L38-M38-O38 -> 2379020.7 | O38: 56312.26 | P38: =J38/H38 -> 56.25 | Q38: ='Форма 2'!K85 -> 57.35 | R38: 2020 | S38: 1
A39: =A38+1 -> 7 | B39: 5864 | C39: г. Северск, ул. Калинина, д. 4 | D39: 1959 | E39: К | F39: СМР (н) | G39: 3876.9 | H39: 2829 | I39: 107 | J39: ='Форма 2'!I94 -> 2691115.9 | K39: 0 | L39: 0 | M39: 0 | N39: =J39-K39-L39-M39-O39 -> 2614484.7 | O39: 76631.17 | P39: =J39/H39 -> 951.26 | Q39: ='Форма 2'!K94 -> 5036 | R39: 2021 | S39: 1
A40: =A39+1 -> 8 | B40: 5870 | C40: г. Северск, ул. Калинина, д. 18 | D40: 1957 | E40: ХВС, ГВС | F40: СМР (з) | G40: 3421 | H40: 2339.2 | I40: 96 | J40: ='Форма 2'!I96 -> 1132055.9 | K40: 0 | L40: 0 | M40: 0 | N40: =J40-K40-L40-M40-O40 -> 1104021.3 | O40: 28034.58 | P40: =J40/H40 -> 483.95 | Q40: ='Форма 2'!K96 -> 1316 | R40: 2020 | S40: 1
A41: =A40+1 -> 9 | B41: 5920 | C41: г. Северск, ул. Калинина, д. 92 | D41: 1991 | E41: ЛО | F41: ПСД, СМР | G41: 13263.1 | H41: 11783.6 | I41: 445 | J41: ='Форма 2'!I101 -> 12438505 | K41: 0 | L41: 0 | M41: 0 | N41: =J41-K41-L41-M41-O41 -> 12123935 | O41: 314569.36 | P41: =J41/H41 -> 1055.58 | Q41: ='Форма 2'!K101 -> 1182.27 | R41: 2020 | S41: 1
A42: =A41+1 -> 10 | B42: 5926 | C42: г. Северск, ул. Калинина, д. 100 | D42: 1994 | E42: ЛО | F42: ПСД, СМР | G42: 9610.2 | H42: 8565.3 | I42: 324 | J42: ='Форма 2'!I120 -> 9095712 | K42: 0 | L42: 0 | M42: 0 | N42: =J42-K42-L42-M42-O42 -> 8870463 | O42: 225249.02 | P42: =J42/H42 -> 1061.93 | Q42: ='Форма 2'!K120 -> 1084.33 | R42: 2020 | S42: 1
A43: =A42+1 -> 11 | B43: 5937 | C43: г. Северск, ул. Калинина, д. 133 | D43: 1990 | E43: ЛО | F43: ПСД, СМР | G43: 15633.2 | H43: 10637.8 | I43: 402 | J43: ='Форма 2'!I133 -> 13643568 | K43: 0 | L43: 0 | M43: 0 | N43: =J43-K43-L43-M43-O43 -> 13305694 | O43: 337873.52 | P43: =J43/H43 -> 1282.56 | Q43: ='Форма 2'!K133 -> 1309.62 | R43: 2020 | S43: 1
A44: =A43+1 -> 12 | B44: 5940 | C44: г. Северск, ул. Кирова, д. 2 | D44: 1968 | E44: РУФ | F44: СМР (з) | G44: 6041.6 | H44: 3856.6 | I44: 209 | J44: ='Форма 2'!I152 -> 7609082.9 | K44: 0 | L44: 0 | M44: 0 | N44: =J44-K44-L44-M44-O44 -> 7528513.8 | O44: 80569.13 | P44: =J44/H44 -> 1973 | Q44: ='Форма 2'!K152 -> 6136 | R44: 2020 | S44: 1
A45: =A44+1 -> 13 | B45: 5948 | C45: г. Северск, ул. Кирова, д. 10 | D45: 1967 | E45: РУФ | F45: СМР (з) | G45: 6049.4 | H45: 3853.4 | I45: 192 | J45: ='Форма 2'!I155 -> 7376546 | K45: 0 | L45: 0 | M45: 0 | N45: =J45-K45-L45-M45-O45 -> 7291298.2 | O45: 85247.87 | P45: =J45/H45 -> 1914.3 | Q45: ='Форма 2'!K155 -> 6136 | R45: 2020 | S45: 1
A46: =A45+1 -> 14 | B46: 6087 | C46: г. Северск, ул. Крупской, д. 14а | D46: 1964 | E46: ХВС, ГВС, ВО, ТС | F46: СМР (з) | G46: 4009.9 | H46: 2459.1 | I46: 221 | J46: ='Форма 2'!I158 -> 5828539.5 | K46: 0 | L46: 0 | M46: 0 | N46: =J46-K46-L46-M46-O46 -> 5684199.7 | O46: 144339.75 | P46: =J46/H46 -> 2370.19 | Q46: ='Форма 2'!K158 -> 5271 | R46: 2020 | S46: 1
A47: =A46+1 -> 15 | B47: 6120 | C47: г. Северск, ул. Курчатова, д. 13 | D47: 1971 | E47: ЛО | F47: ПСД | G47: 3182.7 | H47: 2259.1 | I47: 85 | J47: ='Форма 2'!I167 -> 32281 | K47: 0 | L47: 0 | M47: 0 | N47: =J47-K47-L47-M47-O47 -> 32281 | O47: 0 | P47: =J47/H47 -> 14.29 | Q47: ='Форма 2'!K167 -> 14.29 | R47: 2020 | S47: 1
A48: =A47+1 -> 16 | B48: 6125 | C48: г. Северск, ул. Курчатова, д. 21 | D48: 1969 | E48: ЛО | F48: ПСД, СМР | G48: 2916.2 | H48: 2272.8 | I48: 86 | J48: ='Форма 2'!I169 -> 2273928 | K48: 0 | L48: 0 | M48: 0 | N48: =J48-K48-L48-M48-O48 -> 2217615.7 | O48: 56312.26 | P48: =J48/H48 -> 1000.5 | Q48: ='Форма 2'!K169 -> 1021.61 | R48: 2020 | S48: 1
A49: =A48+1 -> 17 | B49: 6143 | C49: г. Северск, ул. Ленина, д. 14 | D49: 1954 | E49: К, НОК | F49: СМР | G49: 2169.7 | H49: 1897.7 | I49: 76 | J49: ='Форма 2'!I173 -> 11699706 | K49: 0 | L49: 0 | M49: 0 | N49: =J49-K49-L49-M49-O49 -> 11408515 | O49: 291191.09 | P49: =J49/H49 -> 6165.2 | Q49: ='Форма 2'!K173 -> 9490 | R49: 2020 | S49: 1
A50: =A49+1 -> 18 | B50: 6152 | C50: г. Северск, ул. Ленина, д. 34 | D50: 1957 | E50: К | F50: СМР (з) | G50: 2850.4 | H50: 2611.6 | I50: 115 | J50: ='Форма 2'!I178 -> 4992672.3 | K50: 0 | L50: 0 | M50: 0 | N50: =J50-K50-L50-M50-O50 -> 4845717.5 | O50: 146954.88 | P50: =J50/H50 -> 1911.73 | Q50: ='Форма 2'!K178 -> 5144 | R50: 2020 | S50: 1
A51: =A50+1 -> 19 | B51: 6176 | C51: г. Северск, ул. Ленина, д. 102 | D51: 1973 | E51: К | F51: СМР | G51: 14775.36 | H51: 10924.18 | I51: 413 | J51: ='Форма 2'!I181 -> 10747534 | K51: 0 | L51: 0 | M51: 0 | N51: =J51-K51-L51-M51-O51 -> 10549506 | O51: 198027.79 | P51: =J51/H51 -> 983.83 | Q51: ='Форма 2'!K181 -> 2492 | R51: 2020 | S51: 1
A52: =A51+1 -> 20 | B52: 6183 | C52: г. Северск, ул. Ленина, д. 122 | D52: 2009 | E52: К | F52: ПСД, СМР (н) | G52: 13239.2 | H52: 9992 | I52: 378 | J52: ='Форма 2'!I184 -> 6219893.1 | K52: 0 | L52: 0 | M52: 0 | N52: =J52-K52-L52-M52-O52 -> 5998182.4 | O52: 221710.7 | P52: =J52/H52 -> 622.49 | Q52: ='Форма 2'!K184 -> 2604 | R52: 2021 | S52: 1
A53: =A52+1 -> 21 | B53: 6184 | C53: г. Северск, ул. Ленина, д. 132 | D53: 2008 | E53: К | F53: СМР (н) | G53: 13239.2 | H53: 10125.5 | I53: 378 | J53: ='Форма 2'!I187 -> 5490887.8 | K53: 0 | L53: 0 | M53: 0 | N53: =J53-K53-L53-M53-O53 -> 5354209.2 | O53: 136678.54 | P53: =J53/H53 -> 542.28 | Q53: ='Форма 2'!K187 -> 2440 | R53: 2021 | S53: 1
A54: =A53+1 -> 22 | B54: 6193 | C54: г. Северск, ул. Ленинградская, д. 12 | D54: 1990 | E54: ЛО | F54: ПСД | G54: 12387.7 | H54: 11067.6 | I54: 418 | J54: ='Форма 2'!I189 -> 32281 | K54: 0 | L54: 0 | M54: 0 | N54: =J54-K54-L54-M54-O54 -> 32281 | O54: 0 | P54: =J54/H54 -> 2.92 | Q54: ='Форма 2'!K189 -> 2.92 | R54: 2020 | S54: 1
A55: =A54+1 -> 23 | B55: 6237 | C55: г. Северск, ул. Мира, д. 2 | D55: 1953 | E55: К, НОК | F55: СМР | G55: 588.7 | H55: 542.7 | I55: 25 | J55: ='Форма 2'!I191 -> 4339739.7 | K55: 0 | L55: 0 | M55: 0 | N55: =J55-K55-L55-M55-O55 -> 4232269 | O55: 107470.65 | P55: =J55/H55 -> 7996.57 | Q55: ='Форма 2'!K191 -> 12034 | R55: 2020 | S55: 1
A56: =A55+1 -> 24 | B56: 6273 | C56: г. Северск, ул. Парковая, д. 22 | D56: 1954 | E56: К | F56: СМР | G56: 1891.2 | H56: 1500.8 | I56: 76 | J56: ='Форма 2'!I196 -> 5106318.5 | K56: 0 | L56: 0 | M56: 0 | N56: =J56-K56-L56-M56-O56 -> 4934231.4 | O56: 172087.08 | P56: =J56/H56 -> 3402.4 | Q56: ='Форма 2'!K196 -> 5144 | R56: 2020 | S56: 1
A57: =A56+1 -> 25 | B57: 6324 | C57: г. Северск, ул. Победы, д. 17 | D57: 1994 | E57: ЛО | F57: ПСД, СМР | G57: 7539.3 | H57: 6717.2 | I57: 254 | J57: ='Форма 2'!I199 -> 6821784 | K57: 0 | L57: 0 | M57: 0 | N57: =J57-K57-L57-M57-O57 -> 6652847.2 | O57: 168936.77 | P57: =J57/H57 -> 1015.57 | Q57: ='Форма 2'!K199 -> 1037 | R57: 2020 | S57: 1
A58: =A57+1 -> 26 | B58: 6330 | C58: г. Северск, ул. Победы, д. 23 | D58: 1996 | E58: ЛО | F58: ПСД | G58: 11732.1 | H58: 10514.2 | I58: 397 | J58: ='Форма 2'!I209 -> 64562 | K58: 0 | L58: 0 | M58: 0 | N58: =J58-K58-L58-M58-O58 -> 64562 | O58: 0 | P58: =J58/H58 -> 6.14 | Q58: ='Форма 2'!K209 -> 6.14 | R58: 2020 | S58: 1
A59: =A58+1 -> 27 | B59: 6364 | C59: г. Северск, ул. Северная, д. 8 | D59: 1967 | E59: К | F59: ПСД, СМР (н) | G59: 3412.3 | H59: 2466.5 | I59: 93 | J59: ='Форма 2'!I212 -> 2640798.2 | K59: 0 | L59: 0 | M59: 0 | N59: =J59-K59-L59-M59-O59 -> 2635997.6 | O59: 4800.53 | P59: =J59/H59 -> 1070.67 | Q59: ='Форма 2'!K212 -> 3966 | R59: 2021 | S59: 1
A60: =A59+1 -> 28 | B60: 6373 | C60: г. Северск, ул. Северная, д. 30 | D60: 1990 | E60: ЛО | F60: ПСД | G60: 11155.32 | H60: 8155.3 | I60: 308 | J60: ='Форма 2'!I215 -> 129124 | K60: 0 | L60: 0 | M60: 0 | N60: =J60-K60-L60-M60-O60 -> 129124 | O60: 0 | P60: =J60/H60 -> 15.83 | Q60: ='Форма 2'!K215 -> 15.83 | R60: 2020 | S60: 1
A61: =A60+1 -> 29 | B61: 6374 | C61: г. Северск, ул. Северная, д. 34 | D61: 1994, 1995 | E61: ЛО | F61: ПСД, СМР (н) | G61: 12629.25 | H61: 9480 | I61: 358 | J61: ='Форма 2'!I220 -> 3523875.5 | K61: 0 | L61: 0 | M61: 0 | N61: =J61-K61-L61-M61-O61 -> 3242314.2 | O61: 281561.28 | P61: =J61/H61 -> 371.72 | Q61: ='Форма 2'!K220 -> 1199.33 | R61: 2021 | S61: 1
A62: =A61+1 -> 30 | B62: 6387 | C62: г. Северск, ул. Советская, д. 5 | D62: 1955 | E62: К | F62: ПСД, СМР (н) | G62: 1507 | H62: 880 | I62: 33 | J62: ='Форма 2'!I231 -> 1789488.1 | K62: 0 | L62: 0 | M62: 0 | N62: =J62-K62-L62-M62-O62 -> 1734612.1 | O62: 54875.93 | P62: =J62/H62 -> 2033.51 | Q62: ='Форма 2'!K231 -> 7787 | R62: 2021 | S62: 1
A63: =A62+1 -> 31 | B63: 6407 | C63: г. Северск, ул. Солнечная, д. 7а | D63: 1978 | E63: К | F63: СМР | G63: 3604.6 | H63: 2722 | I63: 103 | J63: ='Форма 2'!I234 -> 9222458.5 | K63: 0 | L63: 0 | M63: 0 | N63: =J63-K63-L63-M63-O63 -> 8966508.6 | O63: 255949.88 | P63: =J63/H63 -> 3388.12 | Q63: ='Форма 2'!K234 -> 3878 | R63: 2020 | S63: 1
A64: =A63+1 -> 32 | B64: 6408 | C64: г. Северск, ул. Солнечная, д. 8 | D64: 1994 | E64: ЛО | F64: ПСД | G64: 4545.7 | H64: 3930.3 | I64: 102 | J64: ='Форма 2'!I237 -> 64562 | K64: 0 | L64: 0 | M64: 0 | N64: =J64-K64-L64-M64-O64 -> 64562 | O64: 0 | P64: =J64/H64 -> 16.43 | Q64: ='Форма 2'!K237 -> 16.43 | R64: 2020 | S64: 1
A65: =A64+1 -> 33 | B65: 6413 | C65: г. Северск, ул. Солнечная, д. 13 | D65: 1980 | E65: К | F65: СМР | G65: 11003.22 | H65: 8338.86 | I65: 315 | J65: ='Форма 2'!I240 -> 24901648 | K65: 0 | L65: 0 | M65: 0 | N65: =J65-K65-L65-M65-O65 -> 24117544 | O65: 784103.67 | P65: =J65/H65 -> 2986.22 | Q65: ='Форма 2'!K240 -> 3878 | R65: 2020 | S65: 1
A66: =A65+1 -> 34 | B66: 8214 | C66: г. Северск, ул. Сосновая 16, д. 4 | D66: 2010 | E66: К | F66: СМР | G66: 10767.5 | H66: 7976.7 | I66: 254 | J66: ='Форма 2'!I243 -> 5801329 | K66: 0 | L66: 0 | M66: 0 | N66: =J66-K66-L66-M66-O66 -> 5736350.8 | O66: 64978.18 | P66: =J66/H66 -> 727.28 | Q66: ='Форма 2'!K243 -> 3878 | R66: 2020 | S66: 1
A67: =A66+1 -> 35 | B67: 6480 | C67: г. Северск, ул. Тупиковая, д. 6 | D67: 1954 | E67: К, НОК | F67: СМР | G67: 434.6 | H67: 402.4 | I67: 24 | J67: ='Форма 2'!I246 -> 3434025.6 | K67: 0 | L67: 0 | M67: 0 | N67: =J67-K67-L67-M67-O67 -> 3348557 | O67: 85468.61 | P67: =J67/H67 -> 8533.86 | Q67: ='Форма 2'!K246 -> 12034 | R67: 2020 | S67: 1
A68: =A67+1 -> 36 | B68: 6490 | C68: г. Северск, ул. Царевского, д. 8 | D68: 1966 | E68: К | F68: СМР | G68: 3827.5 | H68: 3518.3 | I68: 190 | J68: ='Форма 2'!I251 -> 9749463.2 | K68: 0 | L68: 0 | M68: 0 | N68: =J68-K68-L68-M68-O68 -> 9418637.2 | O68: 330826.02 | P68: =J68/H68 -> 2771.07 | Q68: ='Форма 2'!K251 -> 3878 | R68: 2020 | S68: 1
A69: =A68+1 -> 37 | B69: 6550 | C69: пос. Самусь, ул. Карла Маркса, д. 1 | D69: 1957 | E69: Ф | F69: СМР | G69: 531.6 | H69: 485.6 | I69: 27 | J69: ='Форма 2'!I254 -> 916364.21 | K69: 0 | L69: 0 | M69: 0 | N69: =J69-K69-L69-M69-O69 -> 893671.08 | O69: 22693.13 | P69: =J69/H69 -> 1887.08 | Q69: ='Форма 2'!K254 -> 5668 | R69: 2020 | S69: 1
A70: =A69+1 -> 38 | B70: 6510 | C70: п. Самусь, ул. Розы Люксембург, д. 2 | D70: 1930 | E70: ТС, ХВС | F70: ПСД, СМР (н) | G70: 502.9 | H70: 461.9 | I70: 17 | J70: ='Форма 2'!I257 -> 282861.38 | K70: 0 | L70: 0 | M70: 0 | N70: =J70-K70-L70-M70-O70 -> 269115.85 | O70: 13745.53 | P70: =J70/H70 -> 612.39 | Q70: ='Форма 2'!K257 -> 3603 | R70: 2021 | S70: 1
A71: Итого по городскому округу Стрежевой | D71: Х | E71: Х | F71: Х | G71: =SUM(G72:G85) -> 81961.7 | H71: =SUM(H72:H85) -> 66514.4 | I71: =SUM(I72:I85) -> 2870 | J71: =SUM(J72:J85) -> 86575870 | K71: =SUM(K72:K85) -> 0 | L71: =SUM(L72:L85) -> 0 | M71: =SUM(M72:M85) -> 0 | N71: =SUM(N72:N85) -> 84887956 | O71: =SUM(O72:O85) -> 1687914.2 | P71: Х | Q71: Х | R71: Х | S71: Х
A72: 1 | B72: 5108 | C72: г. Стрежевой, 2-й микрорайон, д. 218 | D72: 1973 | E72: ТС, ХВС, ГВС, ВО | F72: СМР | G72: 2778.4 | H72: 2556 | I72: 159 | J72: ='Форма 2'!I263 -> 7192958.4 | K72: 0 | L72: 0 | M72: 0 | N72: =J72-K72-L72-M72-O72 -> 7061120.7 | O72: 131837.7 | P72: =J72/H72 -> 2814.15 | Q72: ='Форма 2'!K263 -> 4813 | R72: 2020 | S72: 1
A73: =A72+1 -> 2 | B73: 5114 | C73: г. Стрежевой, 2-й микрорайон, д. 224 | D73: 1973 | E73: ТС, ХВС, ГВС, ВО | F73: СМР | G73: 1002.9 | H73: 909.6 | I73: 56 | J73: ='Форма 2'!I272 -> 3188907.6 | K73: 0 | L73: 0 | M73: 0 | N73: =J73-K73-L73-M73-O73 -> 3130459 | O73: 58448.59 | P73: =J73/H73 -> 3505.84 | Q73: ='Форма 2'!K272 -> 4813 | R73: 2020 | S73: 1
A74: =A73+1 -> 3 | B74: 5117 | C74: г. Стрежевой, 2-й микрорайон, д. 228 | D74: 1976 | E74: К | F74: ПСД | G74: 2810.3 | H74: 2307.3 | I74: 87 | J74: ='Форма 2'!I281 -> 385319.1 | K74: 0 | L74: 0 | M74: 0 | N74: =J74-K74-L74-M74-O74 -> 378256.69 | O74: 7062.41 | P74: =J74/H74 -> 167 | Q74: ='Форма 2'!K281 -> 167 | R74: 2020 | S74: 1
A75: =A74+1 -> 4 | B75: 5127 | C75: г. Стрежевой, 2-й микрорайон, д. 238 | D75: 1974 | E75: ТС, ХВС, ГВС, ВО | F75: СМР | G75: 3744.4 | H75: 3273.7 | I75: 187 | J75: ='Форма 2'!I283 -> 9518795.5 | K75: 0 | L75: 0 | M75: 0 | N75: =J75-K75-L75-M75-O75 -> 9344328.2 | O75: 174467.31 | P75: =J75/H75 -> 2907.66 | Q75: ='Форма 2'!K283 -> 4160 | R75: 2020 | S75: 1
A76: =A75+1 -> 5 | B76: 5128 | C76: г. Стрежевой, 2-й микрорайон, д. 240 | D76: 1976 | E76: ТС, ХВС, ГВС, ВО | F76: СМР | G76: 3176.8 | H76: 3054.1 | I76: 97 | J76: ='Форма 2'!I292 -> 6369052.8 | K76: 0 | L76: 0 | M76: 0 | N76: =J76-K76-L76-M76-O76 -> 6252316.2 | O76: 116736.57 | P76: =J76/H76 -> 2085.41 | Q76: ='Форма 2'!K292 -> 4160 | R76: 2020 | S76: 1
A77: =A76+1 -> 6 | B77: 5133 | C77: г. Стрежевой, 3-й микрорайон, д. 305 | D77: 1979 | E77: К | F77: СМР (з) | G77: 10531.4 | H77: 8595.5 | I77: 406 | J77: ='Форма 2'!I301 -> 10781438 | K77: 0 | L77: 0 | M77: 0 | N77: =J77-K77-L77-M77-O77 -> 10587333 | O77: 194105.45 | P77: =J77/H77 -> 1254.31 | Q77: ='Форма 2'!K301 -> 2914 | R77: 2020 | S77: 1
A78: =A77+1 -> 7 | B78: 5172 | C78: г. Стрежевой, 4-й микрорайон, д. 419 | D78: 1981 | E78: К | F78: СМР | G78: 4631 | H78: 3986 | I78: 223 | J78: ='Форма 2'!I304 -> 14383315 | K78: 0 | L78: 0 | M78: 0 | N78: =J78-K78-L78-M78-O78 -> 14118187 | O78: 265128.45 | P78: =J78/H78 -> 3608.46 | Q78: ='Форма 2'!K304 -> 3635 | R78: 2020 | S78: 1
A79: =A78+1 -> 8 | B79: 5195 | C79: г. Стрежевой, 5-й микрорайон, д. 517 | D79: 1990 | E79: ЛО | F79: ПСД | G79: 6814.4 | H79: 6541.2 | I79: 247 | J79: ='Форма 2'!I307 -> 96843 | K79: 0 | L79: 0 | M79: 0 | N79: =J79-K79-L79-M79-O79 -> 96843 | O79: 0 | P79: =J79/H79 -> 14.81 | Q79: ='Форма 2'!K307 -> 14.81 | R79: 2020 | S79: 1
A80: =A79+1 -> 9 | B80: 5221 | C80: г. Стрежевой, ул. Коммунальная, д. 61 | D80: 1993 | E80: ЛО | F80: ПСД, СМР | G80: 3619.6 | H80: 3149 | I80: 119 | J80: ='Форма 2'!I311 -> 1864588.6 | K80: 0 | L80: 0 | M80: 0 | N80: =J80-K80-L80-M80-O80 -> 1822031.2 | O80: 42557.43 | P80: =J80/H80 -> 592.12 | Q80: ='Форма 2'!K311 -> 737.34 | R80: 2020 | S80: 1
A81: =A80+1 -> 10 | B81: 5257 | C81: г. Стрежевой, ул. Новая, д. 88а | D81: 1978 | E81: К | F81: СМР | G81: 713.8 | H81: 576.6 | I81: 22 | J81: ='Форма 2'!I315 -> 4256794 | K81: 0 | L81: 0 | M81: 0 | N81: =J81-K81-L81-M81-O81 -> 4178772.4 | O81: 78021.57 | P81: =J81/H81 -> 7382.58 | Q81: ='Форма 2'!K315 -> 8203 | R81: 2020 | S81: 1
A82: =A81+1 -> 11 | B82: 5259 | C82: г. Стрежевой, ул. Новая, д. 90 | D82: 1978 | E82: К | F82: СМР | G82: 696.4 | H82: 565.6 | I82: 21 | J82: ='Форма 2'!I318 -> 4175585.6 | K82: 0 | L82: 0 | M82: 0 | N82: =J82-K82-L82-M82-O82 -> 4099052.4 | O82: 76533.13 | P82: =J82/H82 -> 7382.58 | Q82: ='Форма 2'!K318 -> 8203 | R82: 2020 | S82: 1
A83: =A82+1 -> 12 | B83: 5263 | C83: г. Стрежевой, ул. Новая, д. 94 | D83: 1978 | E83: К | F83: СМР | G83: 697.8 | H83: 560.6 | I83: 21 | J83: ='Форма 2'!I321 -> 4085600 | K83: 0 | L83: 0 | M83: 0 | N83: =J83-K83-L83-M83-O83 -> 4010716.2 | O83: 74883.81 | P83: =J83/H83 -> 7287.91 | Q83: ='Форма 2'!K321 -> 8203 | R83: 2020 | S83: 1
A84: =A83+1 -> 13 | B84: 5285 | C84: г. Стрежевой, ул. Строителей, д. 53 | D84: 1991 | E84: ЛО | F84: ПСД, СМР | G84: 22218.4 | H84: 16283.9 | I84: 690 | J84: ='Форма 2'!I324 -> 7401832.6 | K84: 0 | L84: 0 | M84: 0 | N84: =J84-K84-L84-M84-O84 -> 7231602.9 | O84: 170229.72 | P84: =J84/H84 -> 454.55 | Q84: ='Форма 2'!K324 -> 570.35 | R84: 2020 | S84: 1
A85: =A84+1 -> 14 | B85: 5288 | C85: г. Стрежевой, ул. Строителей, д. 59 | D85: 1990 | E85: ЛО | F85: ПСД, СМР | G85: 18526.1 | H85: 14155.3 | I85: 535 | J85: ='Форма 2'!I337 -> 12874840 | K85: 0 | L85: 0 | M85: 0 | N85: =J85-K85-L85-M85-O85 -> 12576938 | O85: 297902.02 | P85: =J85/H85 -> 909.54 | Q85: ='Форма 2'!K337 -> 1148.17 | R85: 2020 | S85: 1
A86: Итого по Городу Томску | D86: Х | E86: Х | F86: Х | G86: =G87+G121+G140+G196 -> 785141.33 | H86: =H87+H121+H140+H196 -> 661637.58 | I86: =I87+I121+I140+I196 -> 25488 | J86: =J87+J121+J140+J196 -> 5.9036493e+08 | K86: =K87+K121+K140+K196 -> 0 | L86: =L87+L121+L140+L196 -> 0 | M86: =M87+M121+M140+M196 -> 0 | N86: =N87+N121+N140+N196 -> 5.7345503e+08 | O86: =O87+O121+O140+O196 -> 16909901 | P86: Х | Q86: Х | R86: Х | S86: Х
A87: Кировский район | D87: Х | E87: Х | F87: Х | G87: =SUM(G88:G120) -> 153462.63 | H87: =SUM(H88:H120) -> 134393.92 | I87: =SUM(I88:I120) -> 4868 | J87: =SUM(J88:J120) -> 1.6264586e+08 | K87: =SUM(K88:K120) -> 0 | L87: =SUM(L88:L120) -> 0 | M87: =SUM(M88:M120) -> 0 | N87: =SUM(N88:N120) -> 1.5746748e+08 | O87: =SUM(O88:O120) -> 5178376.7 | P87: Х | Q87: Х | R87: Х | S87: Х
A88: 1 | B88: 122 | C88: г. Томск, пр-кт Кирова, д. 53/1 | D88: 1946 | E88: ГС | F88: ПСД | G88: 896.3 | H88: 821.3 | I88: 31 | J88: ='Форма 2'!I360 -> 59954.9 | K88: 0 | L88: 0 | M88: 0 | N88: =J88-K88-L88-M88-O88 -> 59954.9 | O88: 0 | P88: =J88/H88 -> 73 | Q88: ='Форма 2'!K360 -> 73 | R88: 2020 | S88: 1
A89: =A88+1 -> 2 | B89: 123 | C89: г. Томск, пр-кт Кирова, д. 53/2 | D89: 1946 | E89: ГС | F89: ПСД | G89: 893.8 | H89: 824.1 | I89: 31 | J89: ='Форма 2'!I362 -> 60159.3 | K89: 0 | L89: 0 | M89: 0 | N89: =J89-K89-L89-M89-O89 -> 60159.3 | O89: 0 | P89: =J89/H89 -> 73 | Q89: ='Форма 2'!K362 -> 73 | R89: 2020 | S89: 1
A90: =A89+1 -> 3 | B90: 131 | C90: г. Томск, пр-кт Кирова, д. 53/4 | D90: 1948 | E90: ГС | F90: ПСД | G90: 904.3 | H90: 829.3 | I90: 39 | J90: ='Форма 2'!I364 -> 60538.9 | K90: 0 | L90: 0 | M90: 0 | N90: =J90-K90-L90-M90-O90 -> 60538.9 | O90: 0 | P90: =J90/H90 -> 73 | Q90: ='Форма 2'!K364 -> 73 | R90: 2020 | S90: 1
A91: =A90+1 -> 4 | B91: 481 | C91: г. Томск, пр-кт Кирова, д. 54 | D91: 1964 | E91: ГС | F91: ПСД, СМР | G91: 1718.2 | H91: 1590.2 | I91: 60 | J91: ='Форма 2'!I366 -> 411973.02 | K91: 0 | L91: 0 | M91: 0 | N91: =J91-K91-L91-M91-O91 -> 393288.82 | O91: 18684.2 | P91: =J91/H91 -> 259.07 | Q91: ='Форма 2'!K366 -> 409 | R91: 2020 | S91: 1
A92: =A91+1 -> 5 | B92: 368 | C92: г. Томск, пр-кт Комсомольский, д. 69 | D92: 1961 | E92: ГС | F92: ПСД | G92: 3911.9 | H92: 3670.2 | I92: 122 | J92: ='Форма 2'!I370 -> 88084.8 | K92: 0 | L92: 0 | M92: 0 | N92: =J92-K92-L92-M92-O92 -> 85554.33 | O92: 2530.47 | P92: =J92/H92 -> 24 | Q92: ='Форма 2'!K370 -> 24 | R92: 2020 | S92: 1
A93: =A92+1 -> 6 | B93: 842 | C93: г. Томск, с. Тимирязевское, ул. Водозаборная, д. 3 | D93: 1989 | E93: К | F93: СМР | G93: 4334.5 | H93: 4014.5 | I93: 192 | J93: ='Форма 2'!I372 -> 5578377.7 | K93: 0 | L93: 0 | M93: 0 | N93: =J93-K93-L93-M93-O93 -> 5418124.2 | O93: 160253.46 | P93: =J93/H93 -> 1389.56 | Q93: ='Форма 2'!K372 -> 3878 | R93: 2020 | S93: 1
A94: =A93+1 -> 7 | B94: 743 | C94: г. Томск, тракт Московский, д. 70/1 | D94: 1982 | E94: К | F94: СМР | G94: 4507 | H94: 3996.6 | I94: 186 | J94: ='Форма 2'!I375 -> 14158022 | K94: 0 | L94: 0 | M94: 0 | N94: =J94-K94-L94-M94-O94 -> 13754151 | O94: 403870.91 | P94: =J94/H94 -> 3542.52 | Q94: ='Форма 2'!K375 -> 3878 | R94: 2020 | S94: 1
A95: =A94+1 -> 8 | B95: 8171 | C95: г. Томск, ул. Дзержинского, д. 56 | D95: 1994 | E95: ЛО | F95: ПСД, СМР | G95: 4951.2 | H95: 4315.4 | I95: 163 | J95: ='Форма 2'!I378 -> 4829352.8 | K95: 0 | L95: 0 | M95: 0 | N95: =J95-K95-L95-M95-O95 -> 4683206.6 | O95: 146146.2 | P95: =J95/H95 -> 1119.1 | Q95: ='Форма 2'!K378 -> 1178.86 | R95: 2020 | S95: 1
A96: =A95+1 -> 9 | B96: 606 | C96: г. Томск, ул. Елизаровых, д. 17 | D96: 1973 | E96: К | F96: СМР | G96: 6175.82 | H96: 5330.83 | I96: 127 | J96: ='Форма 2'!I385 -> 14707950 | K96: 0 | L96: 0 | M96: 0 | N96: =J96-K96-L96-M96-O96 -> 14271385 | O96: 436564.69 | P96: =J96/H96 -> 2759.04 | Q96: ='Форма 2'!K385 -> 3878 | R96: 2020 | S96: 1
A97: =A96+1 -> 10 | B97: 717 | C97: г. Томск, ул. Карпова, д. 17 | D97: 1980 | E97: К | F97: СМР | G97: 3065.92 | H97: 2621.92 | I97: 99 | J97: ='Форма 2'!I388 -> 7929872.7 | K97: 0 | L97: 0 | M97: 0 | N97: =J97-K97-L97-M97-O97 -> 7717888.2 | O97: 211984.51 | P97: =J97/H97 -> 3024.45 | Q97: ='Форма 2'!K388 -> 3878 | R97: 2020 | S97: 1
A98: =A97+1 -> 11 | B98: 537 | C98: г. Томск, ул. Карташова, д. 70 | D98: 1968 | E98: ГС | F98: ПСД, СМР | G98: 4350.35 | H98: 3760.57 | I98: 124 | J98: ='Форма 2'!I391 -> 929684.82 | K98: 0 | L98: 0 | M98: 0 | N98: =J98-K98-L98-M98-O98 -> 883122.95 | O98: 46561.87 | P98: =J98/H98 -> 247.22 | Q98: ='Форма 2'!K391 -> 431 | R98: 2020 | S98: 1
A99: =A98+1 -> 12 | B99: 720 | C99: г. Томск, ул. Киевская, д. 86г | D99: 1981 | E99: К | F99: СМР | G99: 5256 | H99: 5022 | I99: 190 | J99: ='Форма 2'!I395 -> 16211617 | K99: 0 | L99: 0 | M99: 0 | N99: =J99-K99-L99-M99-O99 -> 15794157 | O99: 417459.75 | P99: =J99/H99 -> 3228.12 | Q99: ='Форма 2'!K395 -> 3878 | R99: 2020 | S99: 1
A100: =A99+1 -> 13 | B100: 351 | C100: г. Томск, ул. Киевская, д. 88а | D100: 1960 | E100: ГС | F100: ПСД | G100: 2175.4 | H100: 1260.4 | I100: 48 | J100: ='Форма 2'!I398 -> 59238.8 | K100: 0 | L100: 0 | M100: 0 | N100: =J100-K100-L100-M100-O100 -> 57537.01 | O100: 1701.79 | P100: =J100/H100 -> 47 | Q100: ='Форма 2'!K398 -> 47 | R100: 2020 | S100: 1
...

Sheet Форма 2
A1: 2. Перечень работ и услуг по капитальному ремонту общего имущества в многоквартирных домах, включенных в Краткосрочный план реализации в 2020 - 2022 гг. Региональной программы капитального ремонта общего имущества в многоквартирных домах, расположенных на территории Томской области
A3: № п/п | B3: Код МКД | C3: Адрес МКД | D3: Площадь помещений МКД, кв. м | E3: Материал стен <4> | F3: Количество этажей | G3: Вид элемента строительных конструкций, оборудования, инженерных систем | H3: Вид работы (услуги) по капитальному ремонту | I3: Стоимость работы (услуги), руб. | J3: Удельная стоимость работы (услуги), руб./кв. м | K3: Предельная стоимость работы (услуги), руб./кв. м
A4: 1 | B4: 2 | C4: 3 | D4: 4 | E4: 5 | F4: 6 | G4: 7 | H4: 8 | I4: 9 | J4: 10 | K4: 11
A5: 2020 год | D5: =D6+D19+D43+D46+D63+D262+D359+D931+D939+D957+D975+D1023+D1045+D1055+D1070+D1087+D1131 -> 1035927 | I5: =I6+I19+I43+I46+I63+I262+I359+I931+I939+I957+I975+I1023+I1045+I1055+I1070+I1087+I1131 -> 9.9325168e+08
A6: Итого по Александровскому району | D6: =D7+D12+D14+D16 -> 1222.7 | I6: =I7+I12+I14+I16 -> 1315886.2
A7: 1 | B7: 4661 | C7: с. Александровское, ул. Гоголя, д. 19а | D7: 330.2 | E7: Д | F7: 2 | H7: Итого | I7: =SUM(I8:I11) -> 1063312.2 | J7: =SUM(J8:J11) -> 3220.21 | K7: =SUM(K8:K11) -> 3661
G8: внутридомовая инженерная система теплоснабжения | H8: ремонт | I8: 906138.22 | J8: =I8/D7 -> 2744.21 | K8: 2967
H9: строительный контроль | I9: =I8*0.0214 -> 19391.36 | J9: =I9/D7 -> 58.73 | K9: 63
G10: внутридомовая инженерная система холодного водоснабжения | H10: ремонт | I10: 134895.82 | J10: =I10/D7 -> 408.53 | K10: 618
H11: строительный контроль | I11: =I10*0.0214 -> 2886.77 | J11: =I11/D7 -> 8.74 | K11: 13
A12: =A7+1 -> 2 | B12: 4692 | C12: с. Александровское, ул. Ленина, д. 14 | D12: 237.2 | E12: К | F12: 2 | G12: внутридомовая инженерная система водоотведения | H12: Итого | I12: =I13 -> 15180.8 | J12: =J13 -> 64 | K12: =K13 -> 64
H13: разработка проектной документации, включая проведение проверки достоверности определения сметной стоимости | I13: =D12*K13 -> 15180.8 | J13: =I13/D12 -> 64 | K13: =21+43 -> 64
A14: =A12+1 -> 3 | B14: 4753 | C14: с. Александровское, ул. Химиков, д. 1 | D14: 325.2 | E14: Д | F14: 2 | G14: крыша | H14: Итого | I14: =I15 -> 84226.8 | J14: =J15 -> 259 | K14: =K15 -> 259
H15: разработка проектной документации, включая проведение проверки достоверности определения сметной стоимости | I15: =K15*D14 -> 84226.8 | J15: =I15/D14 -> 259 | K15: =163+96 -> 259
A16: =A14+1 -> 4 | B16: 4754 | C16: с. Александровское, ул. Химиков, д. 3 | D16: 330.1 | E16: Д | F16: 2 | G16: фасад | H16: Итого | I16: =SUM(I17:I18) -> 153166.4 | J16: =SUM(J17:J18) -> 464 | K16: =SUM(K17:K18) -> 464
H17: разработка проектной документации, включая проведение проверки достоверности определения сметной стоимости (ремонт) | I17: =K17*D16 -> 85495.9 | J17: =I17/D16 -> 259 | K17: =232+27 -> 259
H18: разработка проектной документации, включая проведение проверки достоверности определения сметной стоимости (утепление) | I18: =K18*D16 -> 67670.5 | J18: =I18/D16 -> 205 | K18: =177+28 -> 205
A19: Итого по Асиновскому району | D19: =D20+D23+D26+D29+D32+D34+D36+D39 -> 12287.33 | I19: =I20+I23+I26+I29+I32+I34+I36+I39 -> 34392464
A20: 1 | B20: 4405 | C20: г. Асино, ул. им. Ивана Черных, д. 18 | D20: 1765.93 | E20: К | F20: 3 | G20: крыша | H20: Итого | I20: =I21+I22 -> 7206813.9 | J20: =J21+J22 -> 4081.03 | K20: =K21+K22 -> 5144
H21: ремонт | I21: 7055819.3 | J21: =I21/D20 -> 3995.53 | K21: 5036
H22: строительный контроль | I22: 150994.53 | J22: =I22/D20 -> 85.5 | K22: 108
A23: =A20+1 -> 2 | B23: 4563 | C23: г. Асино, ул. им. Ю. Гагарина, д. 6 | D23: 4353.01 | E23: К | F23: 5 | G23: крыша | H23: Итого | I23: =I24+I25 -> 10662581 | J23: =J24+J25 -> 2449.47 | K23: =K24+K25 -> 3878
H24: ремонт | I24: 10439182 | J24: =I24/D23 -> 2398.15 | K24: 3797
H25: строительный контроль | I25: 223398.5 | J25: =I25/D23 -> 51.32 | K25: 81
A26: =A23+1 -> 3 | B26: 4598 | C26: г. Асино, ул. им. Куйбышева, д. 8 | D26: 726.63 | E26: Д | F26: 2 | G26: крыша | H26: Итого | I26: =I27+I28 -> 3548027 | J26: =J27+J28 -> 4882.85 | K26: =K27+K28 -> 7688
H27: ремонт | I27: 3473690.1 | J27: =I27/D26 -> 4780.55 | K27: 7527
H28: строительный контроль | I28: 74336.97 | J28: =I28/D26 -> 102.3 | K28: 161
A29: =A26+1 -> 4 | B29: 4589 | C29: г. Асино, ул. Транспортная, д. 1 | D29: 4046.4 | E29: К | F29: 5 | G29: крыша | H29: Итого | I29: =I30+I31 -> 10320593 | J29: =J30+J31 -> 2550.56 | K29: =K30+K31 -> 3878
H30: ремонт | I30: 10104360 | J30: =I30/D29 -> 2497.12 | K30: 3797
H31: строительный контроль | I31: 216233.31 | J31: =I31/D29 -> 53.44 | K31: 81
A32: =A29+1 -> 5 | B32: 8083 | C32: г. Асино, ул. Павлика Морозова, д. 5 | D32: 325.16 | E32: Д | F32: 2 | H32: Итого | I32: =SUM(I33) -> 44546.92 | J32: =SUM(J33) -> 137 | K32: =SUM(K33) -> 137
G33: внутридомовая инженерная система теплоснабжения | H33: разработка проектной документации, включая проведение проверки достоверности определения сметной стоимости | I33: =D32*K33 -> 44546.92 | J33: =I33/D32 -> 137 | K33: =116+21 -> 137
A34: =A32+1 -> 6 | B34: 4480 | C34: г. Асино, ул. Сельская, д. 53 | D34: 385 | E34: К | F34: 2 | H34: Итого | I34: =I35 -> 90734.87 | J34: =J35 -> 235.67 | K34: =K35 -> 247
G35: крыша | H35: разработка проектной документации, включая проведение проверки достоверности определения сметной стоимости | I35: 90734.87 | J35: =I35/D34 -> 235.67 | K35: =151+96 -> 247
A36: =A34+1 -> 7 | B36: 4532 | C36: г. Асино, ул. Станционная, д. 25 | D36: 317.3 | E36: К | F36: 2 | H36: Итого | I36: =SUM(I37:I38) -> 53536.44 | J36: =SUM(J37:J38) -> 168.72 | K36: =SUM(K37:K38) -> 179
G37: внутридомовая инженерная система теплоснабжения | H37: разработка проектной документации, включая проведение проверки достоверности определения сметной стоимости | I37: 40709.59 | J37: =I37/D36 -> 128.3 | K37: =116+21 -> 137
G38: внутридомовая инженерная система холодного водоснабжения | H38: разработка проектной документации, включая проведение проверки достоверности определения сметной стоимости | I38: 12826.85 | J38: =I38/D36 -> 40.42 | K38: =21+21 -> 42
A39: =A36+1 -> 8 | B39: 4464 | C39: г. Асино, ул. Челюскина, д. 15 | D39: 367.9 | E39: К | F39: 2 | G39: крыша | H39: Итого | I39: =SUM(I40:I42) -> 2465630.7 | J39: =SUM(J40:J42) -> 6701.9 | K39: =SUM(K40:K42) -> 7935
H40: разработка проектной документации, включая проведение проверки достоверности определения сметной стоимости | I40: 69552.9 | J40: =I40/D39 -> 189.05 | K40: =151+96 -> 247
H41: ремонт | I41: 2345876.1 | J41: =I41/D39 -> 6376.4 | K41: 7527
H42: строительный контроль | I42: 50201.75 | J42: =I42/D39 -> 136.45 | K42: 161
A43: Итого по Бакчарскому району | D43: =D44 -> 381.3 | I43: =I44 -> 95325
A44: 1 | B44: 4784 | C44: с. Бакчар, ул. Ленина, д. 46 | D44: 381.3 | E44: К | F44: 2 | G44: крыша | H44: Итого | I44: =I45 -> 95325 | J44: =J45 -> 250 | K44: =K45 -> 250
H45: разработка проектной документации, включая проведение проверки достоверности определения сметной стоимости | I45: =D44*K45 -> 95325 | J45: =I45/D44 -> 250 | K45: =154+96 -> 250
A46: Итого по Верхнекетскому району | D46: =D47+D52+D55+D60 -> 2243 | I46: =I47+I52+I55+I60 -> 6825661.2
A47: 1 | B47: 6698 | C47: рп. Белый Яр, ул. Таежная, д. 2 | D47: 332.7 | E47: Д | F47: 2 | H47: Итого | I47: =I48+I49+I50+I51 -> 2014936.7 | J47: =J48+J49+J50+J51 -> 6056.32 | K47: =K48+K49+K50+K51 -> 8931
G48: внутридомовая инженерная система электроснабжения | H48: ремонт | I48: 237215.09 | J48: =I48/D47 -> 713 | K48: 713
H49: строительный контроль | I49: 4634.51 | J49: =I49/D47 -> 13.93 | K49: 15
G50: крыша | H50: ремонт | I50: 1735938 | J50: =I50/D47 -> 5217.73 | K50: 8031
H51: строительный контроль | I51: 37149.07 | J51: =I51/D47 -> 111.66 | K51: 172
A52: 2 | B52: 6646 | C52: рп. Белый Яр, ул. Таежная, д. 44 | D52: 481.9 | E52: Д | F52: 2 | G52: крыша | H52: Итого | I52: =I53+I54 -> 2959854.9 | J52: =J53+J54 -> 6142.05 | K52: =K53+K54 -> 8203
H53: ремонт | I53: 2897841.1 | J53: =I53/D52-0.01 -> 6013.36 | K53: 8031
H54: строительный контроль | I54: 62013.8 | J54: =I54/D52 -> 128.69 | K54: 172
A55: =A52+1 -> 3 | B55: 6714 | C55: п. Ягодное, ул. Строительная, д. 5 | D55: 706.7 | E55: К | F55: 2 | H55: Итого | I55: =SUM(I56:I59) -> 1735758.5 | J55: =SUM(J56:J59) -> 2456.15 | K55: =SUM(K56:K59) -> 3661
G56: внутридомовая инженерная система теплоснабжения | H56: ремонт | I56: 1552238.2 | J56: =I56/D55 -> 2196.46 | K56: 2967
H57: строительный контроль | I57: 33217.9 | J57: =I57/D55 -> 47 | K57: 63
G58: внутридомовая инженерная система холодного водоснабжения | H58: ремонт | I58: 147153.34 | J58: =I58/D55 -> 208.23 | K58: 618
H59: строительный контроль | I59: 3149.08 | J59: =I59/D55 -> 4.46 | K59: 13
A60: =A55+1 -> 4 | B60: 6711 | C60: п. Ягодное, ул. Октябрьская, д. 3 | D60: 721.7 | E60: К | F60: 2 | H60: Итого | I60: =I61+I62 -> 115111.15 | J60: =J61+J62 -> 159.5 | K60: =K61+K62 -> 170
G61: внутридомовая инженерная система теплоснабжения | H61: разработка проектной документации, включая проведение проверки достоверности определения сметной стоимости | I61: 94596.83 | J61: =I61/D60 -> 131.08 | K61: =119+21 -> 140
G62: внутридомовая инженерная система водоотведения | H62: разработка проектной документации, включая проведение проверки достоверности определения сметной стоимости | I62: 20514.32 | J62: =I62/D60 -> 28.42 | K62: =21+9 -> 30
A63: Итого по городской округ ЗАТО Северск | D63: =D64+D67+D69+D71+D78+D85+D94+D96+D101+D120+D133+D152+D155+D158+D167+D169+D173+D178+D181+D184+D187+D189+D191+D196+D199+D209+D212+D215+D220+D231+D234+D237+D240+D243+D246+D251+D254+D257 -> 242948.05 | I63: =I64+I67+I69+I71+I78+I85+I94+I96+I101+I120+I133+I152+I155+I158+I167+I169+I173+I178+I181+I184+I187+I189+I191+I196+I199+I209+I212+I215+I220+I231+I234+I237+I240+I243+I246+I251+I254+I257 -> 2.0094168e+08
A64: 1 | B64: 6026 | C64: г. Северск, пр-кт Коммунистический, д. 90а | D64: 2728.7 | E64: П | F64: 5 | G64: крыша | H64: Итого | I64: =I65+I66 -> 2934280.6 | J64: =J65+J66 -> 1075.34 | K64: =K65+K66 -> 3966
H65: разработка проектной документации, включая проведение проверки достоверности определения сметной стоимости (ремонт) | I65: 179313.72 | J65: =I65/D64 -> 65.71 | K65: =151+18 -> 169
H66: ремонт | I66: 2754966.9 | J66: =I66/D64 -> 1009.63 | K66: 3797
A67: =A64+1 -> 2 | B67: 6030 | C67: г. Северск, пр-кт Коммунистический, д. 96 | D67: 16127.59 | E67: К | F67: 9 | G67: крыша | H67: Итого | I67: =I68 -> 4533752.5 | J67: =J68 -> 281.12 | K67: =K68 -> 2440
H68: ремонт | I68: 4533752.5 | J68: =I68/D67 -> 281.12 | K68: 2440
A69: =A67+1 -> 3 | B69: 6039 | C69: г. Северск, пр-кт Коммунистический, д. 112 | D69: 6661.52 | E69: К | F69: 10 | H69: Итого | I69: =SUM(I70:I70) -> 32281 | J69: =SUM(J70:J70) -> 4.85 | K69: =SUM(K70:K70) -> 4.85
G70: лифтовое оборудование (подъезд № 2) | H70: разработка проектной документации, включая проведение проверки достоверности определения сметной стоимости | I70: =22681+9600 -> 32281 | J70: =I70/D69 -> 4.85 | K70: =(22681+9600)/D69 -> 4.85
A71: =A69+1 -> 4 | B71: 6058 | C71: г. Северск, пр-кт Коммунистический, д. 147 | D71: 4746.3 | E71: К | F71: 12 | H71: Итого | I71: =SUM(I72:I77) -> 5318402.4 | J71: =SUM(J72:J77) -> 1120.54 | K71: =SUM(K72:K77) -> 1203.74
G72: лифтовое оборудование (подъезд № 1) | H72: разработка проектной документации, включая проведение проверки достоверности определения сметной стоимости | I72: =22681+9600 -> 32281 | J72: =I72/D71 -> 6.8 | K72: =(22681+9600)/D71 -> 6.8
H73: замена | I73: 2335817.2 | J73: =I73/D71 -> 492.13 | K73: =2458756/4746.3 -> 518.04
H74: строительный контроль | I74: 0 | J74: =I74/D71 -> 0 | K74: =52617/4746.3 -> 11.09
G75: лифтовое оборудование (подъезд № 1) | H75: разработка проектной документации, включая проведение проверки достоверности определения сметной стоимости | I75: =22681+9600 -> 32281 | J75: =I75/D71 -> 6.8 | K75: =(22681+9600)/D71 -> 6.8
H76: замена | I76: 2918023.2 | J76: =I76/D71+0.01 -> 614.81 | K76: =3071604/D71 -> 647.16
H77: строительный контроль | I77: 0 | J77: =I77/D71 -> 0 | K77: =65732/4746.3 -> 13.85
A78: =A71+1 -> 5 | B78: 6059 | C78: г. Северск, пр-кт Коммунистический, д. 147а | D78: 3823.5 | E78: К | F78: 12 | H78: Итого | I78: =SUM(I79:I84) -> 5594922 | J78: =SUM(J79:J84) -> 1463.3 | K78: =SUM(K79:K84) -> 1494.25
G79: лифтовое оборудование (подъезд № 1) | H79: разработка проектной документации, включая проведение проверки достоверности определения сметной стоимости | I79: =22681+9600 -> 32281 | J79: =I79/D78 -> 8.44 | K79: =(22681+9600)/D78 -> 8.44
H80: замена | I80: 2458756 | J80: =I80/D78 -> 643.06 | K80: =2458756/3823.5 -> 643.06
H81: строительный контроль | I81: 0 | J81: =I81/D78 -> 0 | K81: =52617/3823.5 -> 13.76
G82: лифтовое оборудование (подъезд № 1) | H82: разработка проектной документации, включая проведение проверки достоверности определения сметной стоимости | I82: =22681+9600 -> 32281 | J82: =I82/D78 -> 8.44 | K82: =(22681+9600)/D78 -> 8.44
H83: замена | I83: 3071604 | J83: =I83/D78+0.01 -> 803.36 | K83: =3071604/3823.5+0.01 -> 803.36
H84: строительный контроль | I84: 0 | J84: =I84/D78 -> 0 | K84: =65732/3823.5 -> 17.19
A85: =A78+1 -> 6 | B85: 6061 | C85: г. Северск, пр-кт Коммунистический, д. 151 | D85: 43293.2 | E85: К | F85: 9 | H85: Итого | I85: =SUM(I86:I93) -> 2435333 | J85: =SUM(J86:J93) -> 56.25 | K85: =SUM(K86:K93) -> 57.35
G86: лифтовое оборудование (подъезд № 8) | H86: разработка проектной документации, включая проведение проверки достоверности определения сметной стоимости | I86: 32281 | J86: =I86/D85-0.01 -> 0.74 | K86: =(22681+9600)/D85-0.01 -> 0.74
G87: лифтовое оборудование (подъезд № 9) | H87: разработка проектной документации, включая проведение проверки достоверности определения сметной стоимости | I87: 32281 | J87: =I87/D85-0.01 -> 0.74 | K87: =(22681+9600)/D85-0.01 -> 0.74
G88: лифтовое оборудование (подъезд № 13) | H88: разработка проектной документации, включая проведение проверки достоверности определения сметной стоимости | I88: 32281 | J88: =I88/D85 -> 0.75 | K88: =(22681+9600)/D85 -> 0.75
G89: лифтовое оборудование (подъезд № 14) | H89: разработка проектной документации, включая проведение проверки достоверности определения сметной стоимости | I89: 32281 | J89: =I89/D85 -> 0.75 | K89: =(22681+9600)/D85 -> 0.75
G90: лифтовое оборудование (подъезд № 15) | H90: разработка проектной документации, включая проведение проверки достоверности определения сметной стоимости | I90: 32281 | J90: =I90/D85 -> 0.75 | K90: =(22681+9600)/D85 -> 0.75
G91: лифтовое оборудование (подъезд № 19) | H91: разработка проектной документации, включая проведение проверки достоверности определения сметной стоимости | I91: 32281 | J91: =I91/D85-0.01 -> 0.74 | K91: =(22681+9600)/D85-0.01 -> 0.74
H92: замена | I92: 2241647 | J92: =I92/D85 -> 51.78 | K92: =2241647/D85-0.01 -> 51.77
H93: строительный контроль | I93: 0 | J93: =I93/D85 -> 0 | K93: =47971/D85 -> 1.11
A94: =A85+1 -> 7 | B94: 5864 | C94: г. Северск, ул. Калинина, д. 4 | D94: 2829 | E94: К | F94: 4 | G94: крыша | H94: Итого | I94: =SUM(I95:I95) -> 2691115.9 | J94: =SUM(J95:J95) -> 951.26 | K94: =SUM(K95:K95) -> 5036
H95: ремонт | I95: 2691115.9 | J95: =I95/D94 -> 951.26 | K95: 5036
A96: =A94+1 -> 8 | B96: 5870 | C96: г. Северск, ул. Калинина, д. 18 | D96: 2339.2 | E96: К | F96: 4 | H96: итого | I96: =I97+I98+I99+I100 -> 1132055.9 | J96: =J97+J98+J99+J100 -> 483.95 | K96: =K97+K98+K99+K100 -> 1316
G97: внутридомовая инженерная система холодного водоснабжения | H97: ремонт | I97: =835208.87*0.7 -> 584646.21 | J97: =I97/D96 -> 249.93 | K97: 746
H98: строительный контроль | I98: 0 | J98: =I98/D96 -> 0 | K98: 16
G99: внутридомовая инженерная система горячего водоснабжения | H99: ремонт | I99: =782013.83*0.7 -> 547409.68 | J99: =I99/D96 -> 234.02 | K99: 542
H100: строительный контроль | I100: 0 | J100: =I100/D96 -> 0 | K100: 12
A101: =A96+1 -> 9 | B101: 5920 | C101: г. Северск, ул. Калинина, д. 92 | D101: 11783.6 | E101: П | F101: 10 | H101: Итого | I101: =SUM(I102:I119) -> 12438505 | J101: =SUM(J102:J119) -> 1055.58 | K101: =SUM(K102:K119) -> 1182.27
...
